Workbook
Name MenuList: プルダウン用!$A$1:$A$6
Name ServiceList: プルダウン用!$D$1:$D$15
Name VisitTypeList: プルダウン用!$C$1:$C$4
Name 同行訪問種類: プルダウン用!$C$1:$C$4

Sheet 申請様式入力手順
A1: 地域のケアマネジメント提供体制確保支援事業 法人一括申請様式 入力手順
A4: 下記の順番でシートを進めると、必要事項を整理しながら分かりやすく入力できます。 赤色のセルは法人側で入力する欄です。自動転記される欄は、原則として直接入力・上書きしないでください。
B7: 順番 | C7: シート名 | D7: 主な入力・確認内容 | E7: ポイント
B8: 1 | C8: 法人基本情報 | D8: 法人名、郵便番号、法人所在地、代表者の職・氏名、担当者情報、申請日などを入力します。 | E8: 最初に入力してください。ここで入力した法人情報は、ほかの様式へ自動転記されます。
B10: 2 | C10: 振込口座登録記入票（様式第5号） | D10: 金融機関、支店名、口座種別、口座番号、口座名義などを入力します。 | E10: 口座名義は、通帳等の表記と一致しているか確認してください。
B12: 3 | C12: 事業所計画（様式第1号） | D12: 事業所ごとに、基本情報、補助メニュー、取組内容、実施期間、経費、同行訪問等を入力します。 | E12: 事業所計画は1～15まで使用できます。15事業所を超える場合は、県へご連絡ください。
B14: 4 | C14: 法人申請総括表 | D14: 各事業所計画の内容と申請金額が、事業所別・補助メニュー別に転記されていることを確認します。 | E14: 原則として自動転記です。事業所名、サービス種別、メニュー別金額、申請額を確認してください。
B16: 5 | C16: 所要額調書（様式第2号） | D16: 各事業所計画の実際経費と申請金額が集計されます。必要に応じて「寄付金・その他」を入力します。 | E16: 事業所計画からすべて自動転記されます。計算結果を確認してください。
B18: 6 | C18: 収支予算書（見込書）（様式第3号） | D18: 補助金収入、自己資金、補助メニュー別の支出額、法人名、代表者職・氏名などを確認します。 | E18: 自動転記された金額と、収入・支出の合計が一致しているか確認してください。
B20: 7 | C20: 暴力団排除に関する誓約書（様式第4号） | D20: 日付、住所、法人名、代表者職・氏名が正しく転記されていることを確認します。 | E20: 誓約内容を確認したうえで、提出してください。
B22: 8 | C22: 交付申請書（要綱第1号様式） | D22: 申請日、住所、名称、代表者の職・氏名、申請額を最終確認します。 | E22: 最後に確認するシートです。所要額調書の補助所要額合計と申請額が一致しているか確認してください。
A25: 提出前の最終確認
A26: □ | B26: 法人名、住所、代表者の職・氏名、申請日が各様式で一致しているか
A27: □ | B27: 事業所計画1～15のうち、使用するシートに必要事項が入力されているか
A28: □ | B28: 法人申請総括表と所要額調書に、各事業所の金額が正しく反映されているか
A29: □ | B29: 所要額調書の補助所要額合計と交付申請書の申請額が一致しているか
A30: □ | B30: 振込口座情報と添付する通帳等の内容が一致しているか
A32: ※ この手順シートは案内用です。申請内容や添付書類に不明点がある場合、または事業所数が15を超える場合は、県へお問い合わせください。

Sheet 法人基本情報
A1: 法人基本情報
A3: 法人名
A4: 郵便番号
A5: 法人所在地
A6: 代表者の職
A7: 代表者氏名
A8: 担当者氏名
A9: 所属・役職
A10: 電話番号
A11: メールアドレス
A12: 申請日（和暦）

Sheet 交付申請書(要綱第1号様式) 
B1: 第１号様式
AA3: 番 号
AB4: 令和 | AC4: =IF(法人基本情報!$B$12="","",YEAR(法人基本情報!$B$12)-2018) | AD4: 年 | AE4: =IF(法人基本情報!$B$12="","",MONTH(法人基本情報!$B$12)) | AF4: 月 | AG4: =IF(法人基本情報!$B$12="","",DAY(法人基本情報!$B$12)) | AH4: 日
C6: 新潟県知事 | H6: 花角 英世 | N6: 様
O8: 補助事業者 | T8: 住所 | W8: =IF(法人基本情報!$B$5="","",IF(法人基本情報!$B$4="",法人基本情報!$B$5,"〒"&法人基本情報!$B$4&" "&法人基本情報!$B$5))
T9: 名称 | W9: =IF(法人基本情報!$B$3="","",法人基本情報!$B$3)
T10: 代表者の職、氏名 | AB10: =IF(AND(法人基本情報!$B$6="",法人基本情報!$B$7=""),"",法人基本情報!$B$6&" "&法人基本情報!$B$7)
F13: 令和８年度介護人材確保推進事業費補助金の交付について（申請）
C15: 標記補助金を下記のとおり交付されるよう、新潟県補助金等交付規則第３条第１項の規定により、関係書類を添えて申請します。
S17: 記
C19: 1 | E19: 申請額 | M19: 金 | N19: =IF('所要額調書(様式第2号)'!$G$13=0,"",'所要額調書(様式第2号)'!$G$13) | Y19: 円
C21: 2 | E21: 添付書類 | L21: （１）事業所計画（様式第１号の１～15） （２）所要額調書（様式第２号） （３）見積書、積算書及び給与規定等の支払い予定額が分かる書類 の写し （４）補助事業に係る収支予算書（見込書）の抄本（様式第３号） （５）暴力団排除に関する誓約書（様式第４号） （６）補助金振込口座登録記入票（様式第５号） （７）その他知事が必要と認める書類
D29: （注）所要額調書、事業計画書、歳入歳出予算（見込）書抄本その他の添付 書類は、その都度別に定める。

Sheet 暴力団排除に関する誓約書(様式第4号) 
B2: 様式第４号
B4: 暴力団排除に関する誓約書
B6: 私は、下記の事項について誓約します。
B7: なお、県が必要な場合には、新潟県警察本部に照会することについて承諾します。
B8: また、照会で確認された情報は、今後、私が、新潟県と行う他の契約における確認に利用する
B9: ことに同意します。
B11: 記
B13: 1 | C13: 自己又は自己の役員等は、次の各号のいずれにも該当しません。
C14: (1) | D14: 暴力団（暴力団員による不当な行為の防止等に関する法律（平成３年法律第77号）
D15: 第２条第２号に規定する暴力団をいう。以下同じ。）
C16: (2) | D16: 暴力団員（同法第２条第６号に規定する暴力団員をいう。以下同じ。）
C17: (3) | D17: 暴力団員が役員となっている事業者
C18: (4) | D18: 暴力団員であることを知りながら、その者を雇用・使用している者
C19: (5) | D19: 暴力団員であることを知りながら、その者と下請契約又は資材、原材料の購入契約等を
D20: 締結している者
C21: (6) | D21: 暴力団又は暴力団員に経済上の利益又は便宜を供与している者
C22: (7) | D22: 暴力団又は暴力団員と社会通念上ふさわしくない交際を有するなど社会的に非難される
D23: 関係を有している者
C24: (8) | D24: 暴力団又は暴力団員であることを知りながらこれらを利用している者
B25: 2 | C25: 1の(1)から(8)までに掲げる者が、その経営に実質的に関与している法人その他の団体又は
C26: 個人ではありません。
I30: 令和 | J30: =IF(法人基本情報!$B$12="","",YEAR(法人基本情報!$B$12)-2018) | K30: 年 | L30: =IF(法人基本情報!$B$12="","",MONTH(法人基本情報!$B$12)) | M30: 月 | N30: =IF(法人基本情報!$B$12="","",DAY(法人基本情報!$B$12)) | O30: 日
C31: 新潟県知事 | E31: 様
G33: 住所 | H33: =IF(法人基本情報!$B$5="","",IF(法人基本情報!$B$4="",法人基本情報!$B$5,"〒"&法人基本情報!$B$4&" "&法人基本情報!$B$5))
G34: 法人名 | H34: =IF(法人基本情報!$B$3="","",法人基本情報!$B$3)
G35: 代表者職・氏名 | H35: =IF(AND(法人基本情報!$B$6="",法人基本情報!$B$7=""),"",法人基本情報!$B$6&" "&法人基本情報!$B$7)

Sheet 振込口座登録記入票（様式第５号）
A1: 様式第５号
A2: 補助金振込口座登録記入票
A4: 金融機関
A5: 支店名
A6: 口座種別
A7: 口座番号
A8: 口座名義（漢字）
A9: 口座名義（半角カタカナ）
A10: 代表者職・氏名
A11: 電話番号
A12: 電子メール

Sheet 法人申請総括表
A1: 法人申請総括表
D4: （1）ア 中山間地域等・離島等地域における採用活動の支援 | E4: （1）イ 潜在ケアマネジャー等の再就業支援 | F4: （2）ア 事業所内のタスクシフト支援 | G4: （2）イ 同行訪問（複数名訪問） | H4: （2）ウ 安全確保・ハラスメント対策等の業務負担軽減支援 | I4: （3）ア 経営改善の支援 | J4: （3）イ 利用者・ケアマネジャー等の確保のための広報活動支援
A5: No | B5: 事業所名 | C5: サービス種別 | D5: １（ア） 採用活動 | E5: １（イ） 潜在ケアマネ | F5: ２（ア） タスクシフト | G5: ２（イ） 同行訪問 | H5: ２（ウ） 安全確保等 | I5: ３（ア） 経営改善 | J5: ３（イ） 広報活動 | K5: 申請額
A6: 1 | B6: =IF('事業所計画（様式第1号の１）'!$B$4="","",'事業所計画（様式第1号の１）'!$B$4) | C6: =IF('事業所計画（様式第1号の１）'!$B$4="","",'事業所計画（様式第1号の１）'!$B$7) | D6: ='事業所計画（様式第1号の１）'!$M$4 -> 0 | E6: ='事業所計画（様式第1号の１）'!$M$5 -> 0 | F6: ='事業所計画（様式第1号の１）'!$M$6 -> 0 | G6: ='事業所計画（様式第1号の１）'!$M$10 -> 0 | H6: ='事業所計画（様式第1号の１）'!$M$7 -> 0 | I6: ='事業所計画（様式第1号の１）'!$M$8 -> 0 | J6: ='事業所計画（様式第1号の１）'!$M$9 -> 0 | K6: =SUM(D6:J6) -> 0
A7: 2 | B7: =IF('事業所計画（様式第1号の２） '!$B$4="","",'事業所計画（様式第1号の２） '!$B$4) | C7: =IF('事業所計画（様式第1号の２） '!$B$4="","",'事業所計画（様式第1号の２） '!$B$7) | D7: ='事業所計画（様式第1号の２） '!$M$4 -> 0 | E7: ='事業所計画（様式第1号の２） '!$M$5 -> 0 | F7: ='事業所計画（様式第1号の２） '!$M$6 -> 0 | G7: ='事業所計画（様式第1号の２） '!$M$10 -> 0 | H7: ='事業所計画（様式第1号の２） '!$M$7 -> 0 | I7: ='事業所計画（様式第1号の２） '!$M$8 -> 0 | J7: ='事業所計画（様式第1号の２） '!$M$9 -> 0 | K7: =SUM(D7:J7) -> 0
A8: 3 | B8: =IF('事業所計画（様式第1号の３）'!$B$4="","",'事業所計画（様式第1号の３）'!$B$4) | C8: =IF('事業所計画（様式第1号の３）'!$B$4="","",'事業所計画（様式第1号の３）'!$B$7) | D8: ='事業所計画（様式第1号の３）'!$M$4 -> 0 | E8: ='事業所計画（様式第1号の３）'!$M$5 -> 0 | F8: ='事業所計画（様式第1号の３）'!$M$6 -> 0 | G8: ='事業所計画（様式第1号の３）'!$M$10 -> 0 | H8: ='事業所計画（様式第1号の３）'!$M$7 -> 0 | I8: ='事業所計画（様式第1号の３）'!$M$8 -> 0 | J8: ='事業所計画（様式第1号の３）'!$M$9 -> 0 | K8: =SUM(D8:J8) -> 0
A9: 4 | B9: =IF('事業所計画（様式第1号の４）'!$B$4="","",'事業所計画（様式第1号の４）'!$B$4) | C9: =IF('事業所計画（様式第1号の４）'!$B$4="","",'事業所計画（様式第1号の４）'!$B$7) | D9: ='事業所計画（様式第1号の４）'!$M$4 -> 0 | E9: ='事業所計画（様式第1号の４）'!$M$5 -> 0 | F9: ='事業所計画（様式第1号の４）'!$M$6 -> 0 | G9: ='事業所計画（様式第1号の４）'!$M$10 -> 0 | H9: ='事業所計画（様式第1号の４）'!$M$7 -> 0 | I9: ='事業所計画（様式第1号の４）'!$M$8 -> 0 | J9: ='事業所計画（様式第1号の４）'!$M$9 -> 0 | K9: =SUM(D9:J9) -> 0
A10: 5 | B10: =IF('事業所計画（様式第1号の５）'!$B$4="","",'事業所計画（様式第1号の５）'!$B$4) | C10: =IF('事業所計画（様式第1号の５）'!$B$4="","",'事業所計画（様式第1号の５）'!$B$7) | D10: ='事業所計画（様式第1号の５）'!$M$4 -> 0 | E10: ='事業所計画（様式第1号の５）'!$M$5 -> 0 | F10: ='事業所計画（様式第1号の５）'!$M$6 -> 0 | G10: ='事業所計画（様式第1号の５）'!$M$10 -> 0 | H10: ='事業所計画（様式第1号の５）'!$M$7 -> 0 | I10: ='事業所計画（様式第1号の５）'!$M$8 -> 0 | J10: ='事業所計画（様式第1号の５）'!$M$9 -> 0 | K10: =SUM(D10:J10) -> 0
A11: 6 | B11: =IF('事業所計画（様式第1号の６）'!$B$4="","",'事業所計画（様式第1号の６）'!$B$4) | C11: =IF('事業所計画（様式第1号の６）'!$B$4="","",'事業所計画（様式第1号の６）'!$B$7) | D11: ='事業所計画（様式第1号の６）'!$M$4 -> 0 | E11: ='事業所計画（様式第1号の６）'!$M$5 -> 0 | F11: ='事業所計画（様式第1号の６）'!$M$6 -> 0 | G11: ='事業所計画（様式第1号の６）'!$M$10 -> 0 | H11: ='事業所計画（様式第1号の６）'!$M$7 -> 0 | I11: ='事業所計画（様式第1号の６）'!$M$8 -> 0 | J11: ='事業所計画（様式第1号の６）'!$M$9 -> 0 | K11: =SUM(D11:J11) -> 0
A12: 7 | B12: =IF('事業所計画（様式第1号の７）'!$B$4="","",'事業所計画（様式第1号の７）'!$B$4) | C12: =IF('事業所計画（様式第1号の７）'!$B$4="","",'事業所計画（様式第1号の７）'!$B$7) | D12: ='事業所計画（様式第1号の７）'!$M$4 -> 0 | E12: ='事業所計画（様式第1号の７）'!$M$5 -> 0 | F12: ='事業所計画（様式第1号の７）'!$M$6 -> 0 | G12: ='事業所計画（様式第1号の７）'!$M$10 -> 0 | H12: ='事業所計画（様式第1号の７）'!$M$7 -> 0 | I12: ='事業所計画（様式第1号の７）'!$M$8 -> 0 | J12: ='事業所計画（様式第1号の７）'!$M$9 -> 0 | K12: =SUM(D12:J12) -> 0
A13: 8 | B13: =IF('事業所計画（様式第1号の８）'!$B$4="","",'事業所計画（様式第1号の８）'!$B$4) | C13: =IF('事業所計画（様式第1号の８）'!$B$4="","",'事業所計画（様式第1号の８）'!$B$7) | D13: ='事業所計画（様式第1号の８）'!$M$4 -> 0 | E13: ='事業所計画（様式第1号の８）'!$M$5 -> 0 | F13: ='事業所計画（様式第1号の８）'!$M$6 -> 0 | G13: ='事業所計画（様式第1号の８）'!$M$10 -> 0 | H13: ='事業所計画（様式第1号の８）'!$M$7 -> 0 | I13: ='事業所計画（様式第1号の８）'!$M$8 -> 0 | J13: ='事業所計画（様式第1号の８）'!$M$9 -> 0 | K13: =SUM(D13:J13) -> 0
A14: 9 | B14: =IF('事業所計画（様式第1号の９）'!$B$4="","",'事業所計画（様式第1号の９）'!$B$4) | C14: =IF('事業所計画（様式第1号の９）'!$B$4="","",'事業所計画（様式第1号の９）'!$B$7) | D14: ='事業所計画（様式第1号の９）'!$M$4 -> 0 | E14: ='事業所計画（様式第1号の９）'!$M$5 -> 0 | F14: ='事業所計画（様式第1号の９）'!$M$6 -> 0 | G14: ='事業所計画（様式第1号の９）'!$M$10 -> 0 | H14: ='事業所計画（様式第1号の９）'!$M$7 -> 0 | I14: ='事業所計画（様式第1号の９）'!$M$8 -> 0 | J14: ='事業所計画（様式第1号の９）'!$M$9 -> 0 | K14: =SUM(D14:J14) -> 0
A15: 10 | B15: =IF('事業所計画（様式第1号の10）'!$B$4="","",'事業所計画（様式第1号の10）'!$B$4) | C15: =IF('事業所計画（様式第1号の10）'!$B$4="","",'事業所計画（様式第1号の10）'!$B$7) | D15: ='事業所計画（様式第1号の10）'!$M$4 -> 0 | E15: ='事業所計画（様式第1号の10）'!$M$5 -> 0 | F15: ='事業所計画（様式第1号の10）'!$M$6 -> 0 | G15: ='事業所計画（様式第1号の10）'!$M$10 -> 0 | H15: ='事業所計画（様式第1号の10）'!$M$7 -> 0 | I15: ='事業所計画（様式第1号の10）'!$M$8 -> 0 | J15: ='事業所計画（様式第1号の10）'!$M$9 -> 0 | K15: =SUM(D15:J15) -> 0
A16: 11 | B16: =IF('事業所計画（様式第1号の11）'!$B$4="","",'事業所計画（様式第1号の11）'!$B$4) | C16: =IF('事業所計画（様式第1号の11）'!$B$4="","",'事業所計画（様式第1号の11）'!$B$7) | D16: ='事業所計画（様式第1号の11）'!$M$4 -> 0 | E16: ='事業所計画（様式第1号の11）'!$M$5 -> 0 | F16: ='事業所計画（様式第1号の11）'!$M$6 -> 0 | G16: ='事業所計画（様式第1号の11）'!$M$10 -> 0 | H16: ='事業所計画（様式第1号の11）'!$M$7 -> 0 | I16: ='事業所計画（様式第1号の11）'!$M$8 -> 0 | J16: ='事業所計画（様式第1号の11）'!$M$9 -> 0 | K16: =SUM(D16:J16) -> 0
A17: 12 | B17: =IF('事業所計画（様式第1号の12）'!$B$4="","",'事業所計画（様式第1号の12）'!$B$4) | C17: =IF('事業所計画（様式第1号の12）'!$B$4="","",'事業所計画（様式第1号の12）'!$B$7) | D17: ='事業所計画（様式第1号の12）'!$M$4 -> 0 | E17: ='事業所計画（様式第1号の12）'!$M$5 -> 0 | F17: ='事業所計画（様式第1号の12）'!$M$6 -> 0 | G17: ='事業所計画（様式第1号の12）'!$M$10 -> 0 | H17: ='事業所計画（様式第1号の12）'!$M$7 -> 0 | I17: ='事業所計画（様式第1号の12）'!$M$8 -> 0 | J17: ='事業所計画（様式第1号の12）'!$M$9 -> 0 | K17: =SUM(D17:J17) -> 0
A18: 13 | B18: =IF('事業所計画（様式第1号の13）'!$B$4="","",'事業所計画（様式第1号の13）'!$B$4) | C18: =IF('事業所計画（様式第1号の13）'!$B$4="","",'事業所計画（様式第1号の13）'!$B$7) | D18: ='事業所計画（様式第1号の13）'!$M$4 -> 0 | E18: ='事業所計画（様式第1号の13）'!$M$5 -> 0 | F18: ='事業所計画（様式第1号の13）'!$M$6 -> 0 | G18: ='事業所計画（様式第1号の13）'!$M$10 -> 0 | H18: ='事業所計画（様式第1号の13）'!$M$7 -> 0 | I18: ='事業所計画（様式第1号の13）'!$M$8 -> 0 | J18: ='事業所計画（様式第1号の13）'!$M$9 -> 0 | K18: =SUM(D18:J18) -> 0
A19: 14 | B19: =IF('事業所計画（様式第1号の14）'!$B$4="","",'事業所計画（様式第1号の14）'!$B$4) | C19: =IF('事業所計画（様式第1号の14）'!$B$4="","",'事業所計画（様式第1号の14）'!$B$7) | D19: ='事業所計画（様式第1号の14）'!$M$4 -> 0 | E19: ='事業所計画（様式第1号の14）'!$M$5 -> 0 | F19: ='事業所計画（様式第1号の14）'!$M$6 -> 0 | G19: ='事業所計画（様式第1号の14）'!$M$10 -> 0 | H19: ='事業所計画（様式第1号の14）'!$M$7 -> 0 | I19: ='事業所計画（様式第1号の14）'!$M$8 -> 0 | J19: ='事業所計画（様式第1号の14）'!$M$9 -> 0 | K19: =SUM(D19:J19) -> 0
A20: 15 | B20: =IF('事業所計画（様式第1号の15）'!$B$4="","",'事業所計画（様式第1号の15）'!$B$4) | C20: =IF('事業所計画（様式第1号の15）'!$B$4="","",'事業所計画（様式第1号の15）'!$B$7) | D20: ='事業所計画（様式第1号の15）'!$M$4 -> 0 | E20: ='事業所計画（様式第1号の15）'!$M$5 -> 0 | F20: ='事業所計画（様式第1号の15）'!$M$6 -> 0 | G20: ='事業所計画（様式第1号の15）'!$M$10 -> 0 | H20: ='事業所計画（様式第1号の15）'!$M$7 -> 0 | I20: ='事業所計画（様式第1号の15）'!$M$8 -> 0 | J20: ='事業所計画（様式第1号の15）'!$M$9 -> 0 | K20: =SUM(D20:J20) -> 0
B21: 法人合計 | D21: =SUM(D6:D20) -> 0 | E21: =SUM(E6:E20) -> 0 | F21: =SUM(F6:F20) -> 0 | G21: =SUM(G6:G20) -> 0 | H21: =SUM(H6:H20) -> 0 | I21: =SUM(I6:I20) -> 0 | J21: =SUM(J6:J20) -> 0 | K21: =SUM(K6:K20) -> 0

Sheet 所要額調書(様式第2号)
A1: 様式第2号
A2: 令和8年度 地域のケアマネジメント提供体制確保支援事業 所要額調書
A5: 補助メニュー | B5: 総合事業費 A | C5: 寄付金・その他 B | D5: 差引額 （A-B） C | E5: 対象経費支出額 D | F5: 補助対象額 E | G5: 補助所要額 F
A6: （1）ア 中山間地域等・離島等地域における採用活 動の支援 | B6: =SUM('事業所計画（様式第1号の１）'!$L$4,'事業所計画（様式第1号の２） '!$L$4,'事業所計画（様式第1号の３）'!$L$4,'事業所計画（様式第1号の４）'!$L$4,'事業所計画（様式第1号の５）'!$L$4,'事業所計画（様式第1号の６）'!$L$4,'事業所計画（様式第1号の７）'!$L$4,'事業所計画（様式第1号の８）'!$L$4,'事業所計画（様式第1号の９）'!$L$4,'事業所計画（様式第1号の10）'!$L$4,'事業所計画（様式第1号の11）'!$L$4,'事業所計画（様式第1号の12）'!$L$4,'事業所計画（様式第1号の13）'!$L$4,'事業所計画（様式第1号の14）'!$L$4,'事業所計画（様式第1号の15）'!$L$4) -> 0 | D6: =MAX(B6-C6,0) -> 0 | E6: =D6 -> 0 | F6: =SUM('事業所計画（様式第1号の１）'!$M$4,'事業所計画（様式第1号の２） '!$M$4,'事業所計画（様式第1号の３）'!$M$4,'事業所計画（様式第1号の４）'!$M$4,'事業所計画（様式第1号の５）'!$M$4,'事業所計画（様式第1号の６）'!$M$4,'事業所計画（様式第1号の７）'!$M$4,'事業所計画（様式第1号の８）'!$M$4,'事業所計画（様式第1号の９）'!$M$4,'事業所計画（様式第1号の10）'!$M$4,'事業所計画（様式第1号の11）'!$M$4,'事業所計画（様式第1号の12）'!$M$4,'事業所計画（様式第1号の13）'!$M$4,'事業所計画（様式第1号の14）'!$M$4,'事業所計画（様式第1号の15）'!$M$4) -> 0 | G6: =F6 -> 0
A7: （1）イ 潜在介護支援専門員等の再就業支援 | B7: =SUM('事業所計画（様式第1号の１）'!$L$5,'事業所計画（様式第1号の２） '!$L$5,'事業所計画（様式第1号の３）'!$L$5,'事業所計画（様式第1号の４）'!$L$5,'事業所計画（様式第1号の５）'!$L$5,'事業所計画（様式第1号の６）'!$L$5,'事業所計画（様式第1号の７）'!$L$5,'事業所計画（様式第1号の８）'!$L$5,'事業所計画（様式第1号の９）'!$L$5,'事業所計画（様式第1号の10）'!$L$5,'事業所計画（様式第1号の11）'!$L$5,'事業所計画（様式第1号の12）'!$L$5,'事業所計画（様式第1号の13）'!$L$5,'事業所計画（様式第1号の14）'!$L$5,'事業所計画（様式第1号の15）'!$L$5) -> 0 | D7: =MAX(B7-C7,0) -> 0 | E7: =D7 -> 0 | F7: =SUM('事業所計画（様式第1号の１）'!$M$5,'事業所計画（様式第1号の２） '!$M$5,'事業所計画（様式第1号の３）'!$M$5,'事業所計画（様式第1号の４）'!$M$5,'事業所計画（様式第1号の５）'!$M$5,'事業所計画（様式第1号の６）'!$M$5,'事業所計画（様式第1号の７）'!$M$5,'事業所計画（様式第1号の８）'!$M$5,'事業所計画（様式第1号の９）'!$M$5,'事業所計画（様式第1号の10）'!$M$5,'事業所計画（様式第1号の11）'!$M$5,'事業所計画（様式第1号の12）'!$M$5,'事業所計画（様式第1号の13）'!$M$5,'事業所計画（様式第1号の14）'!$M$5,'事業所計画（様式第1号の15）'!$M$5) -> 0 | G7: =F7 -> 0
A8: （2）ア 事業所内のタスクシフト支援 | B8: =SUM('事業所計画（様式第1号の１）'!$L$6,'事業所計画（様式第1号の２） '!$L$6,'事業所計画（様式第1号の３）'!$L$6,'事業所計画（様式第1号の４）'!$L$6,'事業所計画（様式第1号の５）'!$L$6,'事業所計画（様式第1号の６）'!$L$6,'事業所計画（様式第1号の７）'!$L$6,'事業所計画（様式第1号の８）'!$L$6,'事業所計画（様式第1号の９）'!$L$6,'事業所計画（様式第1号の10）'!$L$6,'事業所計画（様式第1号の11）'!$L$6,'事業所計画（様式第1号の12）'!$L$6,'事業所計画（様式第1号の13）'!$L$6,'事業所計画（様式第1号の14）'!$L$6,'事業所計画（様式第1号の15）'!$L$6) -> 0 | D8: =MAX(B8-C8,0) -> 0 | E8: =D8 -> 0 | F8: =SUM('事業所計画（様式第1号の１）'!$M$6,'事業所計画（様式第1号の２） '!$M$6,'事業所計画（様式第1号の３）'!$M$6,'事業所計画（様式第1号の４）'!$M$6,'事業所計画（様式第1号の５）'!$M$6,'事業所計画（様式第1号の６）'!$M$6,'事業所計画（様式第1号の７）'!$M$6,'事業所計画（様式第1号の８）'!$M$6,'事業所計画（様式第1号の９）'!$M$6,'事業所計画（様式第1号の10）'!$M$6,'事業所計画（様式第1号の11）'!$M$6,'事業所計画（様式第1号の12）'!$M$6,'事業所計画（様式第1号の13）'!$M$6,'事業所計画（様式第1号の14）'!$M$6,'事業所計画（様式第1号の15）'!$M$6) -> 0 | G8: =F8 -> 0
A9: (2)イ 同行訪問（複数名訪問） | B9: =SUM('事業所計画（様式第1号の１）'!$M$10,'事業所計画（様式第1号の２） '!$M$10,'事業所計画（様式第1号の３）'!$M$10,'事業所計画（様式第1号の４）'!$M$10,'事業所計画（様式第1号の５）'!$M$10,'事業所計画（様式第1号の６）'!$M$10,'事業所計画（様式第1号の７）'!$M$10,'事業所計画（様式第1号の８）'!$M$10,'事業所計画（様式第1号の９）'!$M$10,'事業所計画（様式第1号の10）'!$M$10,'事業所計画（様式第1号の11）'!$M$10,'事業所計画（様式第1号の12）'!$M$10,'事業所計画（様式第1号の13）'!$M$10,'事業所計画（様式第1号の14）'!$M$10,'事業所計画（様式第1号の15）'!$M$10) -> 0 | D9: =MAX(B9-C9,0) -> 0 | E9: =D9 -> 0 | F9: =D9 -> 0 | G9: =D9 -> 0
A10: （2）ウ 安全確保・ハラスメント対策等の業務負担 軽減支援 | B10: =SUM('事業所計画（様式第1号の１）'!$L$7,'事業所計画（様式第1号の２） '!$L$7,'事業所計画（様式第1号の３）'!$L$7,'事業所計画（様式第1号の４）'!$L$7,'事業所計画（様式第1号の５）'!$L$7,'事業所計画（様式第1号の６）'!$L$7,'事業所計画（様式第1号の７）'!$L$7,'事業所計画（様式第1号の８）'!$L$7,'事業所計画（様式第1号の９）'!$L$7,'事業所計画（様式第1号の10）'!$L$7,'事業所計画（様式第1号の11）'!$L$7,'事業所計画（様式第1号の12）'!$L$7,'事業所計画（様式第1号の13）'!$L$7,'事業所計画（様式第1号の14）'!$L$7,'事業所計画（様式第1号の15）'!$L$7) -> 0 | D10: =MAX(B10-C10,0) -> 0 | E10: =D10 -> 0 | F10: =SUM('事業所計画（様式第1号の１）'!$M$7,'事業所計画（様式第1号の２） '!$M$7,'事業所計画（様式第1号の３）'!$M$7,'事業所計画（様式第1号の４）'!$M$7,'事業所計画（様式第1号の５）'!$M$7,'事業所計画（様式第1号の６）'!$M$7,'事業所計画（様式第1号の７）'!$M$7,'事業所計画（様式第1号の８）'!$M$7,'事業所計画（様式第1号の９）'!$M$7,'事業所計画（様式第1号の10）'!$M$7,'事業所計画（様式第1号の11）'!$M$7,'事業所計画（様式第1号の12）'!$M$7,'事業所計画（様式第1号の13）'!$M$7,'事業所計画（様式第1号の14）'!$M$7,'事業所計画（様式第1号の15）'!$M$7) -> 0 | G10: =F10 -> 0
A11: （3）ア 経営改善の支援 | B11: =SUM('事業所計画（様式第1号の１）'!$L$8,'事業所計画（様式第1号の２） '!$L$8,'事業所計画（様式第1号の３）'!$L$8,'事業所計画（様式第1号の４）'!$L$8,'事業所計画（様式第1号の５）'!$L$8,'事業所計画（様式第1号の６）'!$L$8,'事業所計画（様式第1号の７）'!$L$8,'事業所計画（様式第1号の８）'!$L$8,'事業所計画（様式第1号の９）'!$L$8,'事業所計画（様式第1号の10）'!$L$8,'事業所計画（様式第1号の11）'!$L$8,'事業所計画（様式第1号の12）'!$L$8,'事業所計画（様式第1号の13）'!$L$8,'事業所計画（様式第1号の14）'!$L$8,'事業所計画（様式第1号の15）'!$L$8) -> 0 | D11: =MAX(B11-C11,0) -> 0 | E11: =D11 -> 0 | F11: =SUM('事業所計画（様式第1号の１）'!$M$8,'事業所計画（様式第1号の２） '!$M$8,'事業所計画（様式第1号の３）'!$M$8,'事業所計画（様式第1号の４）'!$M$8,'事業所計画（様式第1号の５）'!$M$8,'事業所計画（様式第1号の６）'!$M$8,'事業所計画（様式第1号の７）'!$M$8,'事業所計画（様式第1号の８）'!$M$8,'事業所計画（様式第1号の９）'!$M$8,'事業所計画（様式第1号の10）'!$M$8,'事業所計画（様式第1号の11）'!$M$8,'事業所計画（様式第1号の12）'!$M$8,'事業所計画（様式第1号の13）'!$M$8,'事業所計画（様式第1号の14）'!$M$8,'事業所計画（様式第1号の15）'!$M$8) -> 0 | G11: =F11 -> 0
A12: （3）イ 利用者・介護支援専門員等の確保のための 広報活動支援 | B12: =SUM('事業所計画（様式第1号の１）'!$L$9,'事業所計画（様式第1号の２） '!$L$9,'事業所計画（様式第1号の３）'!$L$9,'事業所計画（様式第1号の４）'!$L$9,'事業所計画（様式第1号の５）'!$L$9,'事業所計画（様式第1号の６）'!$L$9,'事業所計画（様式第1号の７）'!$L$9,'事業所計画（様式第1号の８）'!$L$9,'事業所計画（様式第1号の９）'!$L$9,'事業所計画（様式第1号の10）'!$L$9,'事業所計画（様式第1号の11）'!$L$9,'事業所計画（様式第1号の12）'!$L$9,'事業所計画（様式第1号の13）'!$L$9,'事業所計画（様式第1号の14）'!$L$9,'事業所計画（様式第1号の15）'!$L$9) -> 0 | D12: =MAX(B12-C12,0) -> 0 | E12: =D12 -> 0 | F12: =SUM('事業所計画（様式第1号の１）'!$M$9,'事業所計画（様式第1号の２） '!$M$9,'事業所計画（様式第1号の３）'!$M$9,'事業所計画（様式第1号の４）'!$M$9,'事業所計画（様式第1号の５）'!$M$9,'事業所計画（様式第1号の６）'!$M$9,'事業所計画（様式第1号の７）'!$M$9,'事業所計画（様式第1号の８）'!$M$9,'事業所計画（様式第1号の９）'!$M$9,'事業所計画（様式第1号の10）'!$M$9,'事業所計画（様式第1号の11）'!$M$9,'事業所計画（様式第1号の12）'!$M$9,'事業所計画（様式第1号の13）'!$M$9,'事業所計画（様式第1号の14）'!$M$9,'事業所計画（様式第1号の15）'!$M$9) -> 0 | G12: =F12 -> 0
A13: 合計 | B13: =SUM(B6:B12) -> 0 | C13: =SUM(C6:C12) -> 0 | D13: =SUM(D6:D12) -> 0 | E13: =SUM(E6:E12) -> 0 | F13: =SUM(F6:F12) -> 0 | G13: =SUM(G6:G12) -> 0
A14: ※「寄付金・その他」のみ入力してください。その他の項目は、各事業所計画及び法人申請総括表から自動転記・自動計算されます。

Sheet 収支予算書（見込書）(様式第3号) 
A1: 様式第３号
A2: 令和８年度 新潟県地域のケアマネジメント提供体制確保支援事業 収支予算書（見込書）の抄本
A5: １ 収入
A6: 科 目 | E6: 予算（見込）額 | G6: 摘 要
A7: 地域のケアマネジメント提供体制確保支援事業補助金 | E7: =IF('所要額調書(様式第2号)'!$G$13=0,"",'所要額調書(様式第2号)'!$G$13) | F7: 円
A8: 自己資金 | F8: 円
F9: 円
F10: 円
F11: 円
F12: 円
F13: 円
F14: 円
A15: 合 計 | E15: =SUM(E7:E14) -> 0 | F15: 円
A18: ２ 支出
A19: 科 目 | E19: 予算（見込）額 | G19: 摘 要
A20: 中山間地域等・離島等地域における採用活動に要する費用 | F20: 円
A21: 潜在介護支援専門員の復職等に要する経費 | F21: 円
A22: 事務的な業務のタスクシフトに要する経費 | F22: 円
A23: ケアマネージャーの同行訪問に要する経費 | F23: 円
A24: ケアマネージャーの安全確保に要する経費 | F24: 円
A25: 経営改善に要する費用 | F25: 円
A26: 利用者や介護支援専門員等確保のための広報活動に要する費用 | F26: 円
A27: 合 計 | E27: =SUM(E20:E26) -> 0 | F27: 円
A29: 上記のとおり原本と相違ないことを証明します。
G30: =IF(法人基本情報!$B$12="","","令和"&YEAR(法人基本情報!$B$12)-2018&"年"&MONTH(法人基本情報!$B$12)&"月"&DAY(法人基本情報!$B$12)&"日")
C32: 法人名 | E32: =IF(法人基本情報!$B$3="","",法人基本情報!$B$3)
C34: 代表者職・氏名 | E34: =IF(AND(法人基本情報!$B$6="",法人基本情報!$B$7=""),"",法人基本情報!$B$6&" "&法人基本情報!$B$7)

Sheet 事業所入力（原本）
A1: 地域のケアマネジメント提供体制確保支援事業 事業所別申請内容
A3: 法人名 | B3: =法人基本情報!B3 -> 0
A4: 事業所名
A5: 事業所番号
A6: サービス種別
A8: 1 補助メニュー別申請内容
A9: A 補助メニュー（選択） | B9: B 補助メニューの内容（自由記入） | C9: C 提出する根拠資料（自由記入） | D9: D 事業実施開始日 | E9: E 事業実施終了日 | F9: F 実際にかかる経費 | G9: G 補助対象基礎額（基準額適用後） | H9: H 補助金申請金額（自動計算) | I9: 基準額超過の確認 | J9: 補助対象基礎額
A10: （2）ウ 安全確保・ハラスメント対策等の業務負担軽減支援 | C10: 積算書 | F10: 3000 | G10: =J10 -> 3000 | H10: =IF(J10=0,0,IF($J$44<=500000,J10,J10/$J$44*500000)) -> 3000 | I10: =IF(A10="","",IF(G10>IFERROR(VLOOKUP(A10,プルダウン用!$F$2:$G$7,2,FALSE),0),"【要修正】補助対象基礎額が基準額を上回っています。","○")) -> ○ | J10: =IF(A10="",0,IF(OR(A10="（1）ア 中山間地域等・離島等地域における採用活動の支援",A10="（1）イ 潜在ケアマネジャー等の再就業支援"),IF(SUMIF($A$10:$A$19,"（1）ア 中山間地域等・離島等地域における採用活動の支援",$F$10:$F$19)+SUMIF($A$10:$A$19,"（1）イ 潜在ケアマネジャー等の再就業支援",$F$10:$F$19)=0,0,F10*MIN(1,300000/(SUMIF($A$10:$A$19,"（1）ア 中山間地域等・離島等地域における採用活動の支援",$F$10:$F$19)+SUMIF($A$10:$A$19,"（1）イ 潜在ケアマネジャー等の再就業支援",$F$10:$F$19)))),MIN(F10,IFERROR(VLOOKUP(A10,プルダウン用!$F$2:$G$7,2,FALSE),0)))) -> 3000
A11: （2）ア 事業所内のタスクシフト支援 | F11: 100000 | G11: =J11 -> 100000 | H11: =IF(J11=0,0,IF($J$44<=500000,J11,J11/$J$44*500000)) -> 100000 | I11: =IF(A11="","",IF(G11>IFERROR(VLOOKUP(A11,プルダウン用!$F$2:$G$7,2,FALSE),0),"【要修正】補助対象基礎額が基準額を上回っています。","○")) -> ○ | J11: =IF(A11="",0,IF(OR(A11="（1）ア 中山間地域等・離島等地域における採用活動の支援",A11="（1）イ 潜在ケアマネジャー等の再就業支援"),IF(SUMIF($A$10:$A$19,"（1）ア 中山間地域等・離島等地域における採用活動の支援",$F$10:$F$19)+SUMIF($A$10:$A$19,"（1）イ 潜在ケアマネジャー等の再就業支援",$F$10:$F$19)=0,0,F11*MIN(1,300000/(SUMIF($A$10:$A$19,"（1）ア 中山間地域等・離島等地域における採用活動の支援",$F$10:$F$19)+SUMIF($A$10:$A$19,"（1）イ 潜在ケアマネジャー等の再就業支援",$F$10:$F$19)))),MIN(F11,IFERROR(VLOOKUP(A11,プルダウン用!$F$2:$G$7,2,FALSE),0)))) -> 100000
A12: （2）ア 事業所内のタスクシフト支援 | G12: =J12 -> 150000 | H12: =IF(J12=0,0,IF($J$44<=500000,J12,J12/$J$44*500000)) -> 150000 | I12: =IF(A12="","",IF(G12>IFERROR(VLOOKUP(A12,プルダウン用!$F$2:$G$7,2,FALSE),0),"【要修正】補助対象基礎額が基準額を上回っています。","○")) -> ○ | J12: =IF(A12="",0,IF(OR(A12="（1）ア 中山間地域等・離島等地域における採用活動の支援",A12="（1）イ 潜在ケアマネジャー等の再就業支援"),IF(SUMIF($A$10:$A$19,"（1）ア 中山間地域等・離島等地域における採用活動の支援",$F$10:$F$19)+SUMIF($A$10:$A$19,"（1）イ 潜在ケアマネジャー等の再就業支援",$F$10:$F$19)=0,0,F12*MIN(1,300000/(SUMIF($A$10:$A$19,"（1）ア 中山間地域等・離島等地域における採用活動の支援",$F$10:$F$19)+SUMIF($A$10:$A$19,"（1）イ 潜在ケアマネジャー等の再就業支援",$F$10:$F$19)))),MIN(F12,IFERROR(VLOOKUP(A12,プルダウン用!$F$2:$G$7,2,FALSE),0)))) -> 150000
A13: （1）ア 中山間地域等・離島等地域における採用活動の支援 | F13: 50000 | G13: =J13 -> 50000 | H13: =IF(J13=0,0,IF($J$44<=500000,J13,J13/$J$44*500000)) -> 50000 | I13: =IF(A13="","",IF(G13>IFERROR(VLOOKUP(A13,プルダウン用!$F$2:$G$7,2,FALSE),0),"【要修正】補助対象基礎額が基準額を上回っています。","○")) -> ○ | J13: =IF(A13="",0,IF(OR(A13="（1）ア 中山間地域等・離島等地域における採用活動の支援",A13="（1）イ 潜在ケアマネジャー等の再就業支援"),IF(SUMIF($A$10:$A$19,"（1）ア 中山間地域等・離島等地域における採用活動の支援",$F$10:$F$19)+SUMIF($A$10:$A$19,"（1）イ 潜在ケアマネジャー等の再就業支援",$F$10:$F$19)=0,0,F13*MIN(1,300000/(SUMIF($A$10:$A$19,"（1）ア 中山間地域等・離島等地域における採用活動の支援",$F$10:$F$19)+SUMIF($A$10:$A$19,"（1）イ 潜在ケアマネジャー等の再就業支援",$F$10:$F$19)))),MIN(F13,IFERROR(VLOOKUP(A13,プルダウン用!$F$2:$G$7,2,FALSE),0)))) -> 50000
A14: （2）ア 事業所内のタスクシフト支援 | G14: =J14 -> 150000 | H14: =IF(J14=0,0,IF($J$44<=500000,J14,J14/$J$44*500000)) -> 150000 | I14: =IF(A14="","",IF(G14>IFERROR(VLOOKUP(A14,プルダウン用!$F$2:$G$7,2,FALSE),0),"【要修正】補助対象基礎額が基準額を上回っています。","○")) -> ○ | J14: =IF(A14="",0,IF(OR(A14="（1）ア 中山間地域等・離島等地域における採用活動の支援",A14="（1）イ 潜在ケアマネジャー等の再就業支援"),IF(SUMIF($A$10:$A$19,"（1）ア 中山間地域等・離島等地域における採用活動の支援",$F$10:$F$19)+SUMIF($A$10:$A$19,"（1）イ 潜在ケアマネジャー等の再就業支援",$F$10:$F$19)=0,0,F14*MIN(1,300000/(SUMIF($A$10:$A$19,"（1）ア 中山間地域等・離島等地域における採用活動の支援",$F$10:$F$19)+SUMIF($A$10:$A$19,"（1）イ 潜在ケアマネジャー等の再就業支援",$F$10:$F$19)))),MIN(F14,IFERROR(VLOOKUP(A14,プルダウン用!$F$2:$G$7,2,FALSE),0)))) -> 150000
F15: 70000 | G15: =J15 -> 0 | H15: =IF(J15=0,0,IF($J$44<=500000,J15,J15/$J$44*500000)) -> 0 | I15: =IF(A15="","",IF(G15>IFERROR(VLOOKUP(A15,プルダウン用!$F$2:$G$7,2,FALSE),0),"【要修正】補助対象基礎額が基準額を上回っています。","○")) | J15: =IF(A15="",0,IF(OR(A15="（1）ア 中山間地域等・離島等地域における採用活動の支援",A15="（1）イ 潜在ケアマネジャー等の再就業支援"),IF(SUMIF($A$10:$A$19,"（1）ア 中山間地域等・離島等地域における採用活動の支援",$F$10:$F$19)+SUMIF($A$10:$A$19,"（1）イ 潜在ケアマネジャー等の再就業支援",$F$10:$F$19)=0,0,F15*MIN(1,300000/(SUMIF($A$10:$A$19,"（1）ア 中山間地域等・離島等地域における採用活動の支援",$F$10:$F$19)+SUMIF($A$10:$A$19,"（1）イ 潜在ケアマネジャー等の再就業支援",$F$10:$F$19)))),MIN(F15,IFERROR(VLOOKUP(A15,プルダウン用!$F$2:$G$7,2,FALSE),0)))) -> 0
F16: 7888 | G16: =J16 -> 0 | H16: =IF(J16=0,0,IF($J$44<=500000,J16,J16/$J$44*500000)) -> 0 | I16: =IF(A16="","",IF(G16>IFERROR(VLOOKUP(A16,プルダウン用!$F$2:$G$7,2,FALSE),0),"【要修正】補助対象基礎額が基準額を上回っています。","○")) | J16: =IF(A16="",0,IF(OR(A16="（1）ア 中山間地域等・離島等地域における採用活動の支援",A16="（1）イ 潜在ケアマネジャー等の再就業支援"),IF(SUMIF($A$10:$A$19,"（1）ア 中山間地域等・離島等地域における採用活動の支援",$F$10:$F$19)+SUMIF($A$10:$A$19,"（1）イ 潜在ケアマネジャー等の再就業支援",$F$10:$F$19)=0,0,F16*MIN(1,300000/(SUMIF($A$10:$A$19,"（1）ア 中山間地域等・離島等地域における採用活動の支援",$F$10:$F$19)+SUMIF($A$10:$A$19,"（1）イ 潜在ケアマネジャー等の再就業支援",$F$10:$F$19)))),MIN(F16,IFERROR(VLOOKUP(A16,プルダウン用!$F$2:$G$7,2,FALSE),0)))) -> 0
G17: =J17 -> 0 | H17: =IF(J17=0,0,IF($J$44<=500000,J17,J17/$J$44*500000)) -> 0 | I17: =IF(A17="","",IF(G17>IFERROR(VLOOKUP(A17,プルダウン用!$F$2:$G$7,2,FALSE),0),"【要修正】補助対象基礎額が基準額を上回っています。","○")) | J17: =IF(A17="",0,IF(OR(A17="（1）ア 中山間地域等・離島等地域における採用活動の支援",A17="（1）イ 潜在ケアマネジャー等の再就業支援"),IF(SUMIF($A$10:$A$19,"（1）ア 中山間地域等・離島等地域における採用活動の支援",$F$10:$F$19)+SUMIF($A$10:$A$19,"（1）イ 潜在ケアマネジャー等の再就業支援",$F$10:$F$19)=0,0,F17*MIN(1,300000/(SUMIF($A$10:$A$19,"（1）ア 中山間地域等・離島等地域における採用活動の支援",$F$10:$F$19)+SUMIF($A$10:$A$19,"（1）イ 潜在ケアマネジャー等の再就業支援",$F$10:$F$19)))),MIN(F17,IFERROR(VLOOKUP(A17,プルダウン用!$F$2:$G$7,2,FALSE),0)))) -> 0
G18: =J18 -> 0 | H18: =IF(J18=0,0,IF($J$44<=500000,J18,J18/$J$44*500000)) -> 0 | I18: =IF(A18="","",IF(G18>IFERROR(VLOOKUP(A18,プルダウン用!$F$2:$G$7,2,FALSE),0),"【要修正】補助対象基礎額が基準額を上回っています。","○")) | J18: =IF(A18="",0,IF(OR(A18="（1）ア 中山間地域等・離島等地域における採用活動の支援",A18="（1）イ 潜在ケアマネジャー等の再就業支援"),IF(SUMIF($A$10:$A$19,"（1）ア 中山間地域等・離島等地域における採用活動の支援",$F$10:$F$19)+SUMIF($A$10:$A$19,"（1）イ 潜在ケアマネジャー等の再就業支援",$F$10:$F$19)=0,0,F18*MIN(1,300000/(SUMIF($A$10:$A$19,"（1）ア 中山間地域等・離島等地域における採用活動の支援",$F$10:$F$19)+SUMIF($A$10:$A$19,"（1）イ 潜在ケアマネジャー等の再就業支援",$F$10:$F$19)))),MIN(F18,IFERROR(VLOOKUP(A18,プルダウン用!$F$2:$G$7,2,FALSE),0)))) -> 0
G19: =J19 -> 0 | H19: =IF(J19=0,0,IF($J$44<=500000,J19,J19/$J$44*500000)) -> 0 | I19: =IF(A19="","",IF(G19>IFERROR(VLOOKUP(A19,プルダウン用!$F$2:$G$7,2,FALSE),0),"【要修正】補助対象基礎額が基準額を上回っています。","○")) | J19: =IF(A19="",0,IF(OR(A19="（1）ア 中山間地域等・離島等地域における採用活動の支援",A19="（1）イ 潜在ケアマネジャー等の再就業支援"),IF(SUMIF($A$10:$A$19,"（1）ア 中山間地域等・離島等地域における採用活動の支援",$F$10:$F$19)+SUMIF($A$10:$A$19,"（1）イ 潜在ケアマネジャー等の再就業支援",$F$10:$F$19)=0,0,F19*MIN(1,300000/(SUMIF($A$10:$A$19,"（1）ア 中山間地域等・離島等地域における採用活動の支援",$F$10:$F$19)+SUMIF($A$10:$A$19,"（1）イ 潜在ケアマネジャー等の再就業支援",$F$10:$F$19)))),MIN(F19,IFERROR(VLOOKUP(A19,プルダウン用!$F$2:$G$7,2,FALSE),0)))) -> 0
B20: 小計 | F20: =SUM(F10:F19) -> 230888 | G20: =SUM(G10:G19) -> 453000 | H20: =SUM(H10:H19) -> 453000 | I20: =IF(COUNTIF(I10:I19,"*要修正*")>0,"基準額超過あり","○") -> ○
A21: ※B欄には取組内容を具体的に記載し、C欄には事業所が提出する根拠資料名を自由記入してください。D・E欄には事業の開始日と終了日を入力してください。G欄には実際にかかる経費とメニュー別基準額の低い方を表示し、H欄には事業所全体が50万円を超える場合の按分後金額を表示します。各明細では千円未満の切捨てを行いません。
A24: 2 同行訪問（複数名訪問）の計算
A25: A 同行訪問の種類（選択） | B25: B 回数 | C25: C 同行する介護支援専門員等の氏名 | D25: D 基準額×回数（自動計算） | E25: E 補助金申請金額（自動計算）
A26: ① 30分以上（中山間地域等・離島等地域以外）4,000円／回 | B26: 2 | C26: 222 | D26: =IF(A26="",0,IF(LEFT(A26,1)="①",4000,IF(LEFT(A26,1)="②",2500,IF(LEFT(A26,1)="③",5000,IF(LEFT(A26,1)="④",3500,0))))*B26) -> 8000 | E26: =IF(D26=0,0,IF($J$44<=500000,D26,D26/$J$44*500000)) -> 8000 | J26: =D26 -> 8000
A27: ③ 30分以上（中山間地域等・離島等地域）5,000円／回 | D27: =IF(A27="",0,IF(LEFT(A27,1)="①",4000,IF(LEFT(A27,1)="②",2500,IF(LEFT(A27,1)="③",5000,IF(LEFT(A27,1)="④",3500,0))))*B27) -> 0 | E27: =IF(D27=0,0,IF($J$44<=500000,D27,D27/$J$44*500000)) -> 0 | J27: =D27 -> 0
D28: =IF(A28="",0,IF(LEFT(A28,1)="①",4000,IF(LEFT(A28,1)="②",2500,IF(LEFT(A28,1)="③",5000,IF(LEFT(A28,1)="④",3500,0))))*B28) -> 0 | E28: =IF(D28=0,0,IF($J$44<=500000,D28,D28/$J$44*500000)) -> 0 | J28: =D28 -> 0
D29: =IF(A29="",0,IF(LEFT(A29,1)="①",4000,IF(LEFT(A29,1)="②",2500,IF(LEFT(A29,1)="③",5000,IF(LEFT(A29,1)="④",3500,0))))*B29) -> 0 | E29: =IF(D29=0,0,IF($J$44<=500000,D29,D29/$J$44*500000)) -> 0 | J29: =D29 -> 0
D30: =IF(A30="",0,IF(LEFT(A30,1)="①",4000,IF(LEFT(A30,1)="②",2500,IF(LEFT(A30,1)="③",5000,IF(LEFT(A30,1)="④",3500,0))))*B30) -> 0 | E30: =IF(D30=0,0,IF($J$44<=500000,D30,D30/$J$44*500000)) -> 0 | J30: =D30 -> 0
D31: =IF(A31="",0,IF(LEFT(A31,1)="①",4000,IF(LEFT(A31,1)="②",2500,IF(LEFT(A31,1)="③",5000,IF(LEFT(A31,1)="④",3500,0))))*B31) -> 0 | E31: =IF(D31=0,0,IF($J$44<=500000,D31,D31/$J$44*500000)) -> 0 | J31: =D31 -> 0
D32: =IF(A32="",0,IF(LEFT(A32,1)="①",4000,IF(LEFT(A32,1)="②",2500,IF(LEFT(A32,1)="③",5000,IF(LEFT(A32,1)="④",3500,0))))*B32) -> 0 | E32: =IF(D32=0,0,IF($J$44<=500000,D32,D32/$J$44*500000)) -> 0 | J32: =D32 -> 0
D33: =IF(A33="",0,IF(LEFT(A33,1)="①",4000,IF(LEFT(A33,1)="②",2500,IF(LEFT(A33,1)="③",5000,IF(LEFT(A33,1)="④",3500,0))))*B33) -> 0 | E33: =IF(D33=0,0,IF($J$44<=500000,D33,D33/$J$44*500000)) -> 0 | J33: =D33 -> 0
D34: =IF(A34="",0,IF(LEFT(A34,1)="①",4000,IF(LEFT(A34,1)="②",2500,IF(LEFT(A34,1)="③",5000,IF(LEFT(A34,1)="④",3500,0))))*B34) -> 0 | E34: =IF(D34=0,0,IF($J$44<=500000,D34,D34/$J$44*500000)) -> 0 | J34: =D34 -> 0
D35: =IF(A35="",0,IF(LEFT(A35,1)="①",4000,IF(LEFT(A35,1)="②",2500,IF(LEFT(A35,1)="③",5000,IF(LEFT(A35,1)="④",3500,0))))*B35) -> 0 | E35: =IF(D35=0,0,IF($J$44<=500000,D35,D35/$J$44*500000)) -> 0 | J35: =D35 -> 0
C36: 小計 | D36: =SUM(D26:D35) -> 8000 | E36: =SUM(E26:E35) -> 8000
A37: 【同行訪問の単価】 ① 中山間地域等・離島等地域以外：30分以上 4,000円／回 ② 同地域以外：30分未満 2,500円／回 ③ 中山間地域等・離島等地域：30分以上 5,000円／回 ④ 同地域：30分未満 3,500円／回 D欄は選択した区分の単価×回数、E欄は事業所全体の額に応じた按分後の申請額を自動計算します。各明細では千円未満の切捨てを行いません。
A41: 3 事業所申請額の確認
B42: 補助メニュー申請額小計 | E42: =H20 -> 453000 | G42: =E20 -> 0
B43: 同行訪問申請額小計 | E43: =E36 -> 8000 | G43: =E36 -> 8000
B44: 按分後合計額 | E44: =E42+E43 -> 461000 | G44: =E42+E43 -> 461000 | J44: =SUM(J10:J19)+SUM(J26:J35) -> 461000
B45: 1事業所当たり上限額 | E45: 500000 | G45: 500000
B46: 申請希望額合計（千円未満切捨て） | E46: =MIN(ROUNDDOWN(E44,-3),E45) -> 461000
A47: =IF(J44>500000,"【上限適用】補助対象となる経費の合計が50万円を超えたため、各項目を按分しています。最終申請額は50万円です。","【申請可能】上限額50万円以下です。最終合計額の千円未満を切り捨てた金額で申請できます。") -> 【申請可能】上限額50万円以下です。最終合計額の千円未満を切り捨てた金額で申請できます。
...

Sheet プルダウン用
A1: （1）ア 中山間地域等・離島等地域における採用活動の支援 | B1: 見積書 | C1: ① 30分以上（中山間地域等・離島等地域以外）4,000円／回 | D1: 居宅介護支援 | E1: 中山間地域等・離島等地域 | F1: メニュー | G1: 基準額
A2: （1）イ 潜在ケアマネジャー等の再就業支援 | B2: 積算書 | C2: ② 30分未満（中山間地域等・離島等地域以外）2,500円／回 | D2: 介護予防支援 | E2: 中山間地域等・離島等地域以外 | F2: （1）ア 中山間地域等・離島等地域における採用活動の支援 | G2: 300000
A3: （2）ア 事業所内のタスクシフト支援 | B3: 給与規定 | C3: ③ 30分以上（中山間地域等・離島等地域）5,000円／回 | D3: 介護予防ケアマネジメント | F3: （1）イ 潜在ケアマネジャー等の再就業支援 | G3: 300000
A4: （2）ウ 安全確保・ハラスメント対策等の業務負担軽減支援 | B4: 雇用契約書（案） | C4: ④ 30分未満（中山間地域等・離島等地域）3,500円／回 | D4: 特定施設入居者生活介護 | F4: （2）ア 事業所内のタスクシフト支援 | G4: 150000
A5: （3）ア 経営改善の支援 | B5: 賃金台帳・給与明細 | D5: 介護予防特定施設入居者生活介護 | F5: （2）ウ 安全確保・ハラスメント対策等の業務負担軽減支援 | G5: 100000
A6: （3）イ 利用者・ケアマネジャー等の確保のための広報活動支援 | B6: 業務委託仕様書 | D6: 小規模多機能型居宅介護 | F6: （3）ア 経営改善の支援 | G6: 400000
B7: 業務委託契約書（案） | D7: 介護予防小規模多機能型居宅介護 | F7: （3）イ 利用者・ケアマネジャー等の確保のための広報活動支援 | G7: 300000
B8: 研修案内・受講料資料 | D8: 看護小規模多機能型居宅介護
B9: 旅費計算書 | D9: 地域密着型特定施設入居者生活介護
B10: 交通経路・運賃表 | D10: 認知症対応型共同生活介護
B11: 製品カタログ・仕様書 | D11: 介護予防認知症対応型共同生活介護
B12: ホームページ改修仕様書 | D12: 地域密着型介護老人福祉施設
B13: デザイン案・印刷仕様書 | D13: 介護老人福祉施設
B14: 実施計画書 | D14: 介護老人保健施設
B15: 請求書・領収書 | D15: 介護医療院
B16: その他

Sheet 事業所計画（様式第1号の１）
A1: 様式第１号の1
A2: 地域のケアマネジメント提供体制確保支援事業 事業所計画書1 | K2: 集計用（自動） | L2: 実際経費 | M2: 申請金額
K3: 事業所名 | L3: =B4 -> 0
A4: 事業所名 | K4: （1）ア 中山間地域等・離島等地域における採用活動の支援 | L4: =SUMIF($A$11:$A$20,K4,$F$11:$F$20) -> 0 | M4: =SUMIF($A$11:$A$20,K4,$H$11:$H$20) -> 0
A5: 事業所番号 | K5: （1）イ 潜在ケアマネジャー等の再就業支援 | L5: =SUMIF($A$11:$A$20,K5,$F$11:$F$20) -> 0 | M5: =SUMIF($A$11:$A$20,K5,$H$11:$H$20) -> 0
A6: 事業所住所 | K6: （2）ア 事業所内のタスクシフト支援 | L6: =SUMIF($A$11:$A$20,K6,$F$11:$F$20) -> 0 | M6: =SUMIF($A$11:$A$20,K6,$H$11:$H$20) -> 0
A7: サービス種別 | K7: （2）ウ 安全確保・ハラスメント対策等の業務負担軽減支援 | L7: =SUMIF($A$11:$A$20,K7,$F$11:$F$20) -> 0 | M7: =SUMIF($A$11:$A$20,K7,$H$11:$H$20) -> 0
K8: （3）ア 経営改善の支援 | L8: =SUMIF($A$11:$A$20,K8,$F$11:$F$20) -> 0 | M8: =SUMIF($A$11:$A$20,K8,$H$11:$H$20) -> 0
A9: 1 補助メニュー別申請内容 | K9: （3）イ 利用者・ケアマネジャー等の確保のための広報活動支援 | L9: =SUMIF($A$11:$A$20,K9,$F$11:$F$20) -> 0 | M9: =SUMIF($A$11:$A$20,K9,$H$11:$H$20) -> 0
A10: A 補助メニュー（選択） | B10: B 補助メニューの内容（自由記入） | C10: C 提出する根拠資料（自由記入） | D10: D 事業実施開始日 | E10: E 事業実施終了日 | F10: F 実際にかかる経費 | G10: G 補助対象基礎額（基準額適用後） | H10: H 補助金申請金額（自動計算） | I10: 基準額超過の確認 | J10: 補助対象基礎額 | K10: 同行訪問 | L10: =D35 -> 0 | M10: =E35 -> 0
G11: =J11 -> 0 | H11: =IF(J11=0,0,IF($J$42<=500000,J11,J11/$J$42*500000)) -> 0 | I11: =IF(A11="","",IF(OR(A11="（1）ア 中山間地域等・離島等地域における採用活動の支援",A11="（1）イ 潜在ケアマネジャー等の再就業支援"),IF(SUMIF($A$11:$A$20,"（1）ア 中山間地域等・離島等地域における採用活動の支援",$G$11:$G$20)+SUMIF($A$11:$A$20,"（1）イ 潜在ケアマネジャー等の再就業支援",$G$11:$G$20)<=300000,"○","【要修正】（1）アと（1）イの補助対象額合計が30万円を上回っています。"),IF(G11<=IFERROR(VLOOKUP(A11,プルダウン用!$F$2:$G$7,2,FALSE),0),"○","【要修正】補助対象基礎額が基準額を上回っています。"))) | J11: =IF(A11="",0,IF(OR(A11="（1）ア 中山間地域等・離島等地域における採用活動の支援",A11="（1）イ 潜在ケアマネジャー等の再就業支援"),IF(SUMIF($A$11:$A$20,"（1）ア 中山間地域等・離島等地域における採用活動の支援",$F$11:$F$20)+SUMIF($A$11:$A$20,"（1）イ 潜在ケアマネジャー等の再就業支援",$F$11:$F$20)=0,0,F11*MIN(1,300000/(SUMIF($A$11:$A$20,"（1）ア 中山間地域等・離島等地域における採用活動の支援",$F$11:$F$20)+SUMIF($A$11:$A$20,"（1）イ 潜在ケアマネジャー等の再就業支援",$F$11:$F$20)))),MIN(F11,IFERROR(VLOOKUP(A11,プルダウン用!$F$2:$G$7,2,FALSE),0)))) -> 0 | K11: 最終申請額 | L11: =E44 -> 0
G12: =J12 -> 0 | H12: =IF(J12=0,0,IF($J$42<=500000,J12,J12/$J$42*500000)) -> 0 | I12: =IF(A12="","",IF(OR(A12="（1）ア 中山間地域等・離島等地域における採用活動の支援",A12="（1）イ 潜在ケアマネジャー等の再就業支援"),IF(SUMIF($A$11:$A$20,"（1）ア 中山間地域等・離島等地域における採用活動の支援",$G$11:$G$20)+SUMIF($A$11:$A$20,"（1）イ 潜在ケアマネジャー等の再就業支援",$G$11:$G$20)<=300000,"○","【要修正】（1）アと（1）イの補助対象額合計が30万円を上回っています。"),IF(G12<=IFERROR(VLOOKUP(A12,プルダウン用!$F$2:$G$7,2,FALSE),0),"○","【要修正】補助対象基礎額が基準額を上回っています。"))) | J12: =IF(A12="",0,IF(OR(A12="（1）ア 中山間地域等・離島等地域における採用活動の支援",A12="（1）イ 潜在ケアマネジャー等の再就業支援"),IF(SUMIF($A$11:$A$20,"（1）ア 中山間地域等・離島等地域における採用活動の支援",$F$11:$F$20)+SUMIF($A$11:$A$20,"（1）イ 潜在ケアマネジャー等の再就業支援",$F$11:$F$20)=0,0,F12*MIN(1,300000/(SUMIF($A$11:$A$20,"（1）ア 中山間地域等・離島等地域における採用活動の支援",$F$11:$F$20)+SUMIF($A$11:$A$20,"（1）イ 潜在ケアマネジャー等の再就業支援",$F$11:$F$20)))),MIN(F12,IFERROR(VLOOKUP(A12,プルダウン用!$F$2:$G$7,2,FALSE),0)))) -> 0
G13: =J13 -> 0 | H13: =IF(J13=0,0,IF($J$42<=500000,J13,J13/$J$42*500000)) -> 0 | I13: =IF(A13="","",IF(OR(A13="（1）ア 中山間地域等・離島等地域における採用活動の支援",A13="（1）イ 潜在ケアマネジャー等の再就業支援"),IF(SUMIF($A$11:$A$20,"（1）ア 中山間地域等・離島等地域における採用活動の支援",$G$11:$G$20)+SUMIF($A$11:$A$20,"（1）イ 潜在ケアマネジャー等の再就業支援",$G$11:$G$20)<=300000,"○","【要修正】（1）アと（1）イの補助対象額合計が30万円を上回っています。"),IF(G13<=IFERROR(VLOOKUP(A13,プルダウン用!$F$2:$G$7,2,FALSE),0),"○","【要修正】補助対象基礎額が基準額を上回っています。"))) | J13: =IF(A13="",0,IF(OR(A13="（1）ア 中山間地域等・離島等地域における採用活動の支援",A13="（1）イ 潜在ケアマネジャー等の再就業支援"),IF(SUMIF($A$11:$A$20,"（1）ア 中山間地域等・離島等地域における採用活動の支援",$F$11:$F$20)+SUMIF($A$11:$A$20,"（1）イ 潜在ケアマネジャー等の再就業支援",$F$11:$F$20)=0,0,F13*MIN(1,300000/(SUMIF($A$11:$A$20,"（1）ア 中山間地域等・離島等地域における採用活動の支援",$F$11:$F$20)+SUMIF($A$11:$A$20,"（1）イ 潜在ケアマネジャー等の再就業支援",$F$11:$F$20)))),MIN(F13,IFERROR(VLOOKUP(A13,プルダウン用!$F$2:$G$7,2,FALSE),0)))) -> 0
G14: =J14 -> 0 | H14: =IF(J14=0,0,IF($J$42<=500000,J14,J14/$J$42*500000)) -> 0 | I14: =IF(A14="","",IF(OR(A14="（1）ア 中山間地域等・離島等地域における採用活動の支援",A14="（1）イ 潜在ケアマネジャー等の再就業支援"),IF(SUMIF($A$11:$A$20,"（1）ア 中山間地域等・離島等地域における採用活動の支援",$G$11:$G$20)+SUMIF($A$11:$A$20,"（1）イ 潜在ケアマネジャー等の再就業支援",$G$11:$G$20)<=300000,"○","【要修正】（1）アと（1）イの補助対象額合計が30万円を上回っています。"),IF(G14<=IFERROR(VLOOKUP(A14,プルダウン用!$F$2:$G$7,2,FALSE),0),"○","【要修正】補助対象基礎額が基準額を上回っています。"))) | J14: =IF(A14="",0,IF(OR(A14="（1）ア 中山間地域等・離島等地域における採用活動の支援",A14="（1）イ 潜在ケアマネジャー等の再就業支援"),IF(SUMIF($A$11:$A$20,"（1）ア 中山間地域等・離島等地域における採用活動の支援",$F$11:$F$20)+SUMIF($A$11:$A$20,"（1）イ 潜在ケアマネジャー等の再就業支援",$F$11:$F$20)=0,0,F14*MIN(1,300000/(SUMIF($A$11:$A$20,"（1）ア 中山間地域等・離島等地域における採用活動の支援",$F$11:$F$20)+SUMIF($A$11:$A$20,"（1）イ 潜在ケアマネジャー等の再就業支援",$F$11:$F$20)))),MIN(F14,IFERROR(VLOOKUP(A14,プルダウン用!$F$2:$G$7,2,FALSE),0)))) -> 0
G15: =J15 -> 0 | H15: =IF(J15=0,0,IF($J$42<=500000,J15,J15/$J$42*500000)) -> 0 | I15: =IF(A15="","",IF(OR(A15="（1）ア 中山間地域等・離島等地域における採用活動の支援",A15="（1）イ 潜在ケアマネジャー等の再就業支援"),IF(SUMIF($A$11:$A$20,"（1）ア 中山間地域等・離島等地域における採用活動の支援",$G$11:$G$20)+SUMIF($A$11:$A$20,"（1）イ 潜在ケアマネジャー等の再就業支援",$G$11:$G$20)<=300000,"○","【要修正】（1）アと（1）イの補助対象額合計が30万円を上回っています。"),IF(G15<=IFERROR(VLOOKUP(A15,プルダウン用!$F$2:$G$7,2,FALSE),0),"○","【要修正】補助対象基礎額が基準額を上回っています。"))) | J15: =IF(A15="",0,IF(OR(A15="（1）ア 中山間地域等・離島等地域における採用活動の支援",A15="（1）イ 潜在ケアマネジャー等の再就業支援"),IF(SUMIF($A$11:$A$20,"（1）ア 中山間地域等・離島等地域における採用活動の支援",$F$11:$F$20)+SUMIF($A$11:$A$20,"（1）イ 潜在ケアマネジャー等の再就業支援",$F$11:$F$20)=0,0,F15*MIN(1,300000/(SUMIF($A$11:$A$20,"（1）ア 中山間地域等・離島等地域における採用活動の支援",$F$11:$F$20)+SUMIF($A$11:$A$20,"（1）イ 潜在ケアマネジャー等の再就業支援",$F$11:$F$20)))),MIN(F15,IFERROR(VLOOKUP(A15,プルダウン用!$F$2:$G$7,2,FALSE),0)))) -> 0
G16: =J16 -> 0 | H16: =IF(J16=0,0,IF($J$42<=500000,J16,J16/$J$42*500000)) -> 0 | I16: =IF(A16="","",IF(OR(A16="（1）ア 中山間地域等・離島等地域における採用活動の支援",A16="（1）イ 潜在ケアマネジャー等の再就業支援"),IF(SUMIF($A$11:$A$20,"（1）ア 中山間地域等・離島等地域における採用活動の支援",$G$11:$G$20)+SUMIF($A$11:$A$20,"（1）イ 潜在ケアマネジャー等の再就業支援",$G$11:$G$20)<=300000,"○","【要修正】（1）アと（1）イの補助対象額合計が30万円を上回っています。"),IF(G16<=IFERROR(VLOOKUP(A16,プルダウン用!$F$2:$G$7,2,FALSE),0),"○","【要修正】補助対象基礎額が基準額を上回っています。"))) | J16: =IF(A16="",0,IF(OR(A16="（1）ア 中山間地域等・離島等地域における採用活動の支援",A16="（1）イ 潜在ケアマネジャー等の再就業支援"),IF(SUMIF($A$11:$A$20,"（1）ア 中山間地域等・離島等地域における採用活動の支援",$F$11:$F$20)+SUMIF($A$11:$A$20,"（1）イ 潜在ケアマネジャー等の再就業支援",$F$11:$F$20)=0,0,F16*MIN(1,300000/(SUMIF($A$11:$A$20,"（1）ア 中山間地域等・離島等地域における採用活動の支援",$F$11:$F$20)+SUMIF($A$11:$A$20,"（1）イ 潜在ケアマネジャー等の再就業支援",$F$11:$F$20)))),MIN(F16,IFERROR(VLOOKUP(A16,プルダウン用!$F$2:$G$7,2,FALSE),0)))) -> 0
G17: =J17 -> 0 | H17: =IF(J17=0,0,IF($J$42<=500000,J17,J17/$J$42*500000)) -> 0 | I17: =IF(A17="","",IF(OR(A17="（1）ア 中山間地域等・離島等地域における採用活動の支援",A17="（1）イ 潜在ケアマネジャー等の再就業支援"),IF(SUMIF($A$11:$A$20,"（1）ア 中山間地域等・離島等地域における採用活動の支援",$G$11:$G$20)+SUMIF($A$11:$A$20,"（1）イ 潜在ケアマネジャー等の再就業支援",$G$11:$G$20)<=300000,"○","【要修正】（1）アと（1）イの補助対象額合計が30万円を上回っています。"),IF(G17<=IFERROR(VLOOKUP(A17,プルダウン用!$F$2:$G$7,2,FALSE),0),"○","【要修正】補助対象基礎額が基準額を上回っています。"))) | J17: =IF(A17="",0,IF(OR(A17="（1）ア 中山間地域等・離島等地域における採用活動の支援",A17="（1）イ 潜在ケアマネジャー等の再就業支援"),IF(SUMIF($A$11:$A$20,"（1）ア 中山間地域等・離島等地域における採用活動の支援",$F$11:$F$20)+SUMIF($A$11:$A$20,"（1）イ 潜在ケアマネジャー等の再就業支援",$F$11:$F$20)=0,0,F17*MIN(1,300000/(SUMIF($A$11:$A$20,"（1）ア 中山間地域等・離島等地域における採用活動の支援",$F$11:$F$20)+SUMIF($A$11:$A$20,"（1）イ 潜在ケアマネジャー等の再就業支援",$F$11:$F$20)))),MIN(F17,IFERROR(VLOOKUP(A17,プルダウン用!$F$2:$G$7,2,FALSE),0)))) -> 0
G18: =J18 -> 0 | H18: =IF(J18=0,0,IF($J$42<=500000,J18,J18/$J$42*500000)) -> 0 | I18: =IF(A18="","",IF(OR(A18="（1）ア 中山間地域等・離島等地域における採用活動の支援",A18="（1）イ 潜在ケアマネジャー等の再就業支援"),IF(SUMIF($A$11:$A$20,"（1）ア 中山間地域等・離島等地域における採用活動の支援",$G$11:$G$20)+SUMIF($A$11:$A$20,"（1）イ 潜在ケアマネジャー等の再就業支援",$G$11:$G$20)<=300000,"○","【要修正】（1）アと（1）イの補助対象額合計が30万円を上回っています。"),IF(G18<=IFERROR(VLOOKUP(A18,プルダウン用!$F$2:$G$7,2,FALSE),0),"○","【要修正】補助対象基礎額が基準額を上回っています。"))) | J18: =IF(A18="",0,IF(OR(A18="（1）ア 中山間地域等・離島等地域における採用活動の支援",A18="（1）イ 潜在ケアマネジャー等の再就業支援"),IF(SUMIF($A$11:$A$20,"（1）ア 中山間地域等・離島等地域における採用活動の支援",$F$11:$F$20)+SUMIF($A$11:$A$20,"（1）イ 潜在ケアマネジャー等の再就業支援",$F$11:$F$20)=0,0,F18*MIN(1,300000/(SUMIF($A$11:$A$20,"（1）ア 中山間地域等・離島等地域における採用活動の支援",$F$11:$F$20)+SUMIF($A$11:$A$20,"（1）イ 潜在ケアマネジャー等の再就業支援",$F$11:$F$20)))),MIN(F18,IFERROR(VLOOKUP(A18,プルダウン用!$F$2:$G$7,2,FALSE),0)))) -> 0
G19: =J19 -> 0 | H19: =IF(J19=0,0,IF($J$42<=500000,J19,J19/$J$42*500000)) -> 0 | I19: =IF(A19="","",IF(OR(A19="（1）ア 中山間地域等・離島等地域における採用活動の支援",A19="（1）イ 潜在ケアマネジャー等の再就業支援"),IF(SUMIF($A$11:$A$20,"（1）ア 中山間地域等・離島等地域における採用活動の支援",$G$11:$G$20)+SUMIF($A$11:$A$20,"（1）イ 潜在ケアマネジャー等の再就業支援",$G$11:$G$20)<=300000,"○","【要修正】（1）アと（1）イの補助対象額合計が30万円を上回っています。"),IF(G19<=IFERROR(VLOOKUP(A19,プルダウン用!$F$2:$G$7,2,FALSE),0),"○","【要修正】補助対象基礎額が基準額を上回っています。"))) | J19: =IF(A19="",0,IF(OR(A19="（1）ア 中山間地域等・離島等地域における採用活動の支援",A19="（1）イ 潜在ケアマネジャー等の再就業支援"),IF(SUMIF($A$11:$A$20,"（1）ア 中山間地域等・離島等地域における採用活動の支援",$F$11:$F$20)+SUMIF($A$11:$A$20,"（1）イ 潜在ケアマネジャー等の再就業支援",$F$11:$F$20)=0,0,F19*MIN(1,300000/(SUMIF($A$11:$A$20,"（1）ア 中山間地域等・離島等地域における採用活動の支援",$F$11:$F$20)+SUMIF($A$11:$A$20,"（1）イ 潜在ケアマネジャー等の再就業支援",$F$11:$F$20)))),MIN(F19,IFERROR(VLOOKUP(A19,プルダウン用!$F$2:$G$7,2,FALSE),0)))) -> 0
G20: =J20 -> 0 | H20: =IF(J20=0,0,IF($J$42<=500000,J20,J20/$J$42*500000)) -> 0 | I20: =IF(A20="","",IF(OR(A20="（1）ア 中山間地域等・離島等地域における採用活動の支援",A20="（1）イ 潜在ケアマネジャー等の再就業支援"),IF(SUMIF($A$11:$A$20,"（1）ア 中山間地域等・離島等地域における採用活動の支援",$G$11:$G$20)+SUMIF($A$11:$A$20,"（1）イ 潜在ケアマネジャー等の再就業支援",$G$11:$G$20)<=300000,"○","【要修正】（1）アと（1）イの補助対象額合計が30万円を上回っています。"),IF(G20<=IFERROR(VLOOKUP(A20,プルダウン用!$F$2:$G$7,2,FALSE),0),"○","【要修正】補助対象基礎額が基準額を上回っています。"))) | J20: =IF(A20="",0,IF(OR(A20="（1）ア 中山間地域等・離島等地域における採用活動の支援",A20="（1）イ 潜在ケアマネジャー等の再就業支援"),IF(SUMIF($A$11:$A$20,"（1）ア 中山間地域等・離島等地域における採用活動の支援",$F$11:$F$20)+SUMIF($A$11:$A$20,"（1）イ 潜在ケアマネジャー等の再就業支援",$F$11:$F$20)=0,0,F20*MIN(1,300000/(SUMIF($A$11:$A$20,"（1）ア 中山間地域等・離島等地域における採用活動の支援",$F$11:$F$20)+SUMIF($A$11:$A$20,"（1）イ 潜在ケアマネジャー等の再就業支援",$F$11:$F$20)))),MIN(F20,IFERROR(VLOOKUP(A20,プルダウン用!$F$2:$G$7,2,FALSE),0)))) -> 0
B21: 小計 | F21: =SUM(F11:F20) -> 0 | G21: =SUM(G11:G20) -> 0 | H21: =SUM(H11:H20) -> 0 | I21: =IF(COUNTIF(I11:I20,"*要修正*")>0,"基準額超過あり","○") -> ○
A23: 2 同行訪問（複数名訪問）の計算
A24: A 同行訪問の種類（選択） | B24: B 回数 | C24: C 介護支援専門員の氏名 （複数可） | D24: D 基準額×回数（自動計算） | E24: E 補助金申請金額（自動計算）
D25: =IF(A25="",0,IF(LEFT(A25,1)="①",4000,IF(LEFT(A25,1)="②",2500,IF(LEFT(A25,1)="③",5000,IF(LEFT(A25,1)="④",3500,0))))*B25) -> 0 | E25: =IF(D25=0,0,IF($J$42<=500000,D25,D25/$J$42*500000)) -> 0 | J25: =D25 -> 0
D26: =IF(A26="",0,IF(LEFT(A26,1)="①",4000,IF(LEFT(A26,1)="②",2500,IF(LEFT(A26,1)="③",5000,IF(LEFT(A26,1)="④",3500,0))))*B26) -> 0 | E26: =IF(D26=0,0,IF($J$42<=500000,D26,D26/$J$42*500000)) -> 0 | J26: =D26 -> 0
D27: =IF(A27="",0,IF(LEFT(A27,1)="①",4000,IF(LEFT(A27,1)="②",2500,IF(LEFT(A27,1)="③",5000,IF(LEFT(A27,1)="④",3500,0))))*B27) -> 0 | E27: =IF(D27=0,0,IF($J$42<=500000,D27,D27/$J$42*500000)) -> 0 | J27: =D27 -> 0
D28: =IF(A28="",0,IF(LEFT(A28,1)="①",4000,IF(LEFT(A28,1)="②",2500,IF(LEFT(A28,1)="③",5000,IF(LEFT(A28,1)="④",3500,0))))*B28) -> 0 | E28: =IF(D28=0,0,IF($J$42<=500000,D28,D28/$J$42*500000)) -> 0 | J28: =D28 -> 0
D29: =IF(A29="",0,IF(LEFT(A29,1)="①",4000,IF(LEFT(A29,1)="②",2500,IF(LEFT(A29,1)="③",5000,IF(LEFT(A29,1)="④",3500,0))))*B29) -> 0 | E29: =IF(D29=0,0,IF($J$42<=500000,D29,D29/$J$42*500000)) -> 0 | J29: =D29 -> 0
D30: =IF(A30="",0,IF(LEFT(A30,1)="①",4000,IF(LEFT(A30,1)="②",2500,IF(LEFT(A30,1)="③",5000,IF(LEFT(A30,1)="④",3500,0))))*B30) -> 0 | E30: =IF(D30=0,0,IF($J$42<=500000,D30,D30/$J$42*500000)) -> 0 | J30: =D30 -> 0
D31: =IF(A31="",0,IF(LEFT(A31,1)="①",4000,IF(LEFT(A31,1)="②",2500,IF(LEFT(A31,1)="③",5000,IF(LEFT(A31,1)="④",3500,0))))*B31) -> 0 | E31: =IF(D31=0,0,IF($J$42<=500000,D31,D31/$J$42*500000)) -> 0 | J31: =D31 -> 0
D32: =IF(A32="",0,IF(LEFT(A32,1)="①",4000,IF(LEFT(A32,1)="②",2500,IF(LEFT(A32,1)="③",5000,IF(LEFT(A32,1)="④",3500,0))))*B32) -> 0 | E32: =IF(D32=0,0,IF($J$42<=500000,D32,D32/$J$42*500000)) -> 0 | J32: =D32 -> 0
D33: =IF(A33="",0,IF(LEFT(A33,1)="①",4000,IF(LEFT(A33,1)="②",2500,IF(LEFT(A33,1)="③",5000,IF(LEFT(A33,1)="④",3500,0))))*B33) -> 0 | E33: =IF(D33=0,0,IF($J$42<=500000,D33,D33/$J$42*500000)) -> 0 | J33: =D33 -> 0
D34: =IF(A34="",0,IF(LEFT(A34,1)="①",4000,IF(LEFT(A34,1)="②",2500,IF(LEFT(A34,1)="③",5000,IF(LEFT(A34,1)="④",3500,0))))*B34) -> 0 | E34: =IF(D34=0,0,IF($J$42<=500000,D34,D34/$J$42*500000)) -> 0 | J34: =D34 -> 0
C35: 小計 | D35: =SUM(D25:D34) -> 0 | E35: =SUM(E25:E34) -> 0
A36: 【同行訪問の単価】 ① 中山間地域等・離島等地域以外：30分以上 4,000円／回 ② 同地域以外：30分未満 2,500円／回 ③ 中山間地域等・離島等地域：30分以上 5,000円／回 ④ 同地域：30分未満 3,500円／回 D欄は選択した区分の単価×回数、E欄は事業所全体の額に応じた按分後の申請額を自動計算します。各明細では千円未満の切捨てを行いません。
A39: 3 事業所申請額の確認
B40: 補助メニュー申請額小計 | E40: =H21 -> 0 | G40: =E21 -> 0
B41: 同行訪問申請額小計 | E41: =E35 -> 0 | G41: =E35 -> 0
B42: 按分後合計額 | E42: =E40+E41 -> 0 | G42: =E40+E41 -> 0 | J42: =SUM(J11:J20)+SUM(J25:J34) -> 0
B43: 1事業所当たり上限額 | E43: 500000 | G43: 500000
...

Sheet 事業所計画（様式第1号の２） 
A1: 様式第１号の2
A2: 地域のケアマネジメント提供体制確保支援事業 事業所計画書2 | K2: 集計用（自動） | L2: 実際経費 | M2: 申請金額
K3: 事業所名 | L3: =B4 -> 0
A4: 事業所名 | K4: （1）ア 中山間地域等・離島等地域における採用活動の支援 | L4: =SUMIF($A$11:$A$20,K4,$F$11:$F$20) -> 0 | M4: =SUMIF($A$11:$A$20,K4,$H$11:$H$20) -> 0
A5: 事業所番号 | K5: （1）イ 潜在ケアマネジャー等の再就業支援 | L5: =SUMIF($A$11:$A$20,K5,$F$11:$F$20) -> 0 | M5: =SUMIF($A$11:$A$20,K5,$H$11:$H$20) -> 0
A6: 事業所住所 | K6: （2）ア 事業所内のタスクシフト支援 | L6: =SUMIF($A$11:$A$20,K6,$F$11:$F$20) -> 0 | M6: =SUMIF($A$11:$A$20,K6,$H$11:$H$20) -> 0
A7: サービス種別 | K7: （2）ウ 安全確保・ハラスメント対策等の業務負担軽減支援 | L7: =SUMIF($A$11:$A$20,K7,$F$11:$F$20) -> 0 | M7: =SUMIF($A$11:$A$20,K7,$H$11:$H$20) -> 0
K8: （3）ア 経営改善の支援 | L8: =SUMIF($A$11:$A$20,K8,$F$11:$F$20) -> 0 | M8: =SUMIF($A$11:$A$20,K8,$H$11:$H$20) -> 0
A9: 1 補助メニュー別申請内容 | K9: （3）イ 利用者・ケアマネジャー等の確保のための広報活動支援 | L9: =SUMIF($A$11:$A$20,K9,$F$11:$F$20) -> 0 | M9: =SUMIF($A$11:$A$20,K9,$H$11:$H$20) -> 0
A10: A 補助メニュー（選択） | B10: B 補助メニューの内容（自由記入） | C10: C 提出する根拠資料（自由記入） | D10: D 事業実施開始日 | E10: E 事業実施終了日 | F10: F 実際にかかる経費 | G10: G 補助対象基礎額（基準額適用後） | H10: H 補助金申請金額（自動計算） | I10: 基準額超過の確認 | J10: 補助対象基礎額 | K10: 同行訪問 | L10: =D35 -> 0 | M10: =E35 -> 0
G11: =J11 -> 0 | H11: =IF(J11=0,0,IF($J$42<=500000,J11,J11/$J$42*500000)) -> 0 | I11: =IF(A11="","",IF(OR(A11="（1）ア 中山間地域等・離島等地域における採用活動の支援",A11="（1）イ 潜在ケアマネジャー等の再就業支援"),IF(SUMIF($A$11:$A$20,"（1）ア 中山間地域等・離島等地域における採用活動の支援",$G$11:$G$20)+SUMIF($A$11:$A$20,"（1）イ 潜在ケアマネジャー等の再就業支援",$G$11:$G$20)<=300000,"○","【要修正】（1）アと（1）イの補助対象額合計が30万円を上回っています。"),IF(G11<=IFERROR(VLOOKUP(A11,プルダウン用!$F$2:$G$7,2,FALSE),0),"○","【要修正】補助対象基礎額が基準額を上回っています。"))) | J11: =IF(A11="",0,IF(OR(A11="（1）ア 中山間地域等・離島等地域における採用活動の支援",A11="（1）イ 潜在ケアマネジャー等の再就業支援"),IF(SUMIF($A$11:$A$20,"（1）ア 中山間地域等・離島等地域における採用活動の支援",$F$11:$F$20)+SUMIF($A$11:$A$20,"（1）イ 潜在ケアマネジャー等の再就業支援",$F$11:$F$20)=0,0,F11*MIN(1,300000/(SUMIF($A$11:$A$20,"（1）ア 中山間地域等・離島等地域における採用活動の支援",$F$11:$F$20)+SUMIF($A$11:$A$20,"（1）イ 潜在ケアマネジャー等の再就業支援",$F$11:$F$20)))),MIN(F11,IFERROR(VLOOKUP(A11,プルダウン用!$F$2:$G$7,2,FALSE),0)))) -> 0 | K11: 最終申請額 | L11: =E44 -> 0
G12: =J12 -> 0 | H12: =IF(J12=0,0,IF($J$42<=500000,J12,J12/$J$42*500000)) -> 0 | I12: =IF(A12="","",IF(OR(A12="（1）ア 中山間地域等・離島等地域における採用活動の支援",A12="（1）イ 潜在ケアマネジャー等の再就業支援"),IF(SUMIF($A$11:$A$20,"（1）ア 中山間地域等・離島等地域における採用活動の支援",$G$11:$G$20)+SUMIF($A$11:$A$20,"（1）イ 潜在ケアマネジャー等の再就業支援",$G$11:$G$20)<=300000,"○","【要修正】（1）アと（1）イの補助対象額合計が30万円を上回っています。"),IF(G12<=IFERROR(VLOOKUP(A12,プルダウン用!$F$2:$G$7,2,FALSE),0),"○","【要修正】補助対象基礎額が基準額を上回っています。"))) | J12: =IF(A12="",0,IF(OR(A12="（1）ア 中山間地域等・離島等地域における採用活動の支援",A12="（1）イ 潜在ケアマネジャー等の再就業支援"),IF(SUMIF($A$11:$A$20,"（1）ア 中山間地域等・離島等地域における採用活動の支援",$F$11:$F$20)+SUMIF($A$11:$A$20,"（1）イ 潜在ケアマネジャー等の再就業支援",$F$11:$F$20)=0,0,F12*MIN(1,300000/(SUMIF($A$11:$A$20,"（1）ア 中山間地域等・離島等地域における採用活動の支援",$F$11:$F$20)+SUMIF($A$11:$A$20,"（1）イ 潜在ケアマネジャー等の再就業支援",$F$11:$F$20)))),MIN(F12,IFERROR(VLOOKUP(A12,プルダウン用!$F$2:$G$7,2,FALSE),0)))) -> 0
G13: =J13 -> 0 | H13: =IF(J13=0,0,IF($J$42<=500000,J13,J13/$J$42*500000)) -> 0 | I13: =IF(A13="","",IF(OR(A13="（1）ア 中山間地域等・離島等地域における採用活動の支援",A13="（1）イ 潜在ケアマネジャー等の再就業支援"),IF(SUMIF($A$11:$A$20,"（1）ア 中山間地域等・離島等地域における採用活動の支援",$G$11:$G$20)+SUMIF($A$11:$A$20,"（1）イ 潜在ケアマネジャー等の再就業支援",$G$11:$G$20)<=300000,"○","【要修正】（1）アと（1）イの補助対象額合計が30万円を上回っています。"),IF(G13<=IFERROR(VLOOKUP(A13,プルダウン用!$F$2:$G$7,2,FALSE),0),"○","【要修正】補助対象基礎額が基準額を上回っています。"))) | J13: =IF(A13="",0,IF(OR(A13="（1）ア 中山間地域等・離島等地域における採用活動の支援",A13="（1）イ 潜在ケアマネジャー等の再就業支援"),IF(SUMIF($A$11:$A$20,"（1）ア 中山間地域等・離島等地域における採用活動の支援",$F$11:$F$20)+SUMIF($A$11:$A$20,"（1）イ 潜在ケアマネジャー等の再就業支援",$F$11:$F$20)=0,0,F13*MIN(1,300000/(SUMIF($A$11:$A$20,"（1）ア 中山間地域等・離島等地域における採用活動の支援",$F$11:$F$20)+SUMIF($A$11:$A$20,"（1）イ 潜在ケアマネジャー等の再就業支援",$F$11:$F$20)))),MIN(F13,IFERROR(VLOOKUP(A13,プルダウン用!$F$2:$G$7,2,FALSE),0)))) -> 0
G14: =J14 -> 0 | H14: =IF(J14=0,0,IF($J$42<=500000,J14,J14/$J$42*500000)) -> 0 | I14: =IF(A14="","",IF(OR(A14="（1）ア 中山間地域等・離島等地域における採用活動の支援",A14="（1）イ 潜在ケアマネジャー等の再就業支援"),IF(SUMIF($A$11:$A$20,"（1）ア 中山間地域等・離島等地域における採用活動の支援",$G$11:$G$20)+SUMIF($A$11:$A$20,"（1）イ 潜在ケアマネジャー等の再就業支援",$G$11:$G$20)<=300000,"○","【要修正】（1）アと（1）イの補助対象額合計が30万円を上回っています。"),IF(G14<=IFERROR(VLOOKUP(A14,プルダウン用!$F$2:$G$7,2,FALSE),0),"○","【要修正】補助対象基礎額が基準額を上回っています。"))) | J14: =IF(A14="",0,IF(OR(A14="（1）ア 中山間地域等・離島等地域における採用活動の支援",A14="（1）イ 潜在ケアマネジャー等の再就業支援"),IF(SUMIF($A$11:$A$20,"（1）ア 中山間地域等・離島等地域における採用活動の支援",$F$11:$F$20)+SUMIF($A$11:$A$20,"（1）イ 潜在ケアマネジャー等の再就業支援",$F$11:$F$20)=0,0,F14*MIN(1,300000/(SUMIF($A$11:$A$20,"（1）ア 中山間地域等・離島等地域における採用活動の支援",$F$11:$F$20)+SUMIF($A$11:$A$20,"（1）イ 潜在ケアマネジャー等の再就業支援",$F$11:$F$20)))),MIN(F14,IFERROR(VLOOKUP(A14,プルダウン用!$F$2:$G$7,2,FALSE),0)))) -> 0
G15: =J15 -> 0 | H15: =IF(J15=0,0,IF($J$42<=500000,J15,J15/$J$42*500000)) -> 0 | I15: =IF(A15="","",IF(OR(A15="（1）ア 中山間地域等・離島等地域における採用活動の支援",A15="（1）イ 潜在ケアマネジャー等の再就業支援"),IF(SUMIF($A$11:$A$20,"（1）ア 中山間地域等・離島等地域における採用活動の支援",$G$11:$G$20)+SUMIF($A$11:$A$20,"（1）イ 潜在ケアマネジャー等の再就業支援",$G$11:$G$20)<=300000,"○","【要修正】（1）アと（1）イの補助対象額合計が30万円を上回っています。"),IF(G15<=IFERROR(VLOOKUP(A15,プルダウン用!$F$2:$G$7,2,FALSE),0),"○","【要修正】補助対象基礎額が基準額を上回っています。"))) | J15: =IF(A15="",0,IF(OR(A15="（1）ア 中山間地域等・離島等地域における採用活動の支援",A15="（1）イ 潜在ケアマネジャー等の再就業支援"),IF(SUMIF($A$11:$A$20,"（1）ア 中山間地域等・離島等地域における採用活動の支援",$F$11:$F$20)+SUMIF($A$11:$A$20,"（1）イ 潜在ケアマネジャー等の再就業支援",$F$11:$F$20)=0,0,F15*MIN(1,300000/(SUMIF($A$11:$A$20,"（1）ア 中山間地域等・離島等地域における採用活動の支援",$F$11:$F$20)+SUMIF($A$11:$A$20,"（1）イ 潜在ケアマネジャー等の再就業支援",$F$11:$F$20)))),MIN(F15,IFERROR(VLOOKUP(A15,プルダウン用!$F$2:$G$7,2,FALSE),0)))) -> 0
G16: =J16 -> 0 | H16: =IF(J16=0,0,IF($J$42<=500000,J16,J16/$J$42*500000)) -> 0 | I16: =IF(A16="","",IF(OR(A16="（1）ア 中山間地域等・離島等地域における採用活動の支援",A16="（1）イ 潜在ケアマネジャー等の再就業支援"),IF(SUMIF($A$11:$A$20,"（1）ア 中山間地域等・離島等地域における採用活動の支援",$G$11:$G$20)+SUMIF($A$11:$A$20,"（1）イ 潜在ケアマネジャー等の再就業支援",$G$11:$G$20)<=300000,"○","【要修正】（1）アと（1）イの補助対象額合計が30万円を上回っています。"),IF(G16<=IFERROR(VLOOKUP(A16,プルダウン用!$F$2:$G$7,2,FALSE),0),"○","【要修正】補助対象基礎額が基準額を上回っています。"))) | J16: =IF(A16="",0,IF(OR(A16="（1）ア 中山間地域等・離島等地域における採用活動の支援",A16="（1）イ 潜在ケアマネジャー等の再就業支援"),IF(SUMIF($A$11:$A$20,"（1）ア 中山間地域等・離島等地域における採用活動の支援",$F$11:$F$20)+SUMIF($A$11:$A$20,"（1）イ 潜在ケアマネジャー等の再就業支援",$F$11:$F$20)=0,0,F16*MIN(1,300000/(SUMIF($A$11:$A$20,"（1）ア 中山間地域等・離島等地域における採用活動の支援",$F$11:$F$20)+SUMIF($A$11:$A$20,"（1）イ 潜在ケアマネジャー等の再就業支援",$F$11:$F$20)))),MIN(F16,IFERROR(VLOOKUP(A16,プルダウン用!$F$2:$G$7,2,FALSE),0)))) -> 0
G17: =J17 -> 0 | H17: =IF(J17=0,0,IF($J$42<=500000,J17,J17/$J$42*500000)) -> 0 | I17: =IF(A17="","",IF(OR(A17="（1）ア 中山間地域等・離島等地域における採用活動の支援",A17="（1）イ 潜在ケアマネジャー等の再就業支援"),IF(SUMIF($A$11:$A$20,"（1）ア 中山間地域等・離島等地域における採用活動の支援",$G$11:$G$20)+SUMIF($A$11:$A$20,"（1）イ 潜在ケアマネジャー等の再就業支援",$G$11:$G$20)<=300000,"○","【要修正】（1）アと（1）イの補助対象額合計が30万円を上回っています。"),IF(G17<=IFERROR(VLOOKUP(A17,プルダウン用!$F$2:$G$7,2,FALSE),0),"○","【要修正】補助対象基礎額が基準額を上回っています。"))) | J17: =IF(A17="",0,IF(OR(A17="（1）ア 中山間地域等・離島等地域における採用活動の支援",A17="（1）イ 潜在ケアマネジャー等の再就業支援"),IF(SUMIF($A$11:$A$20,"（1）ア 中山間地域等・離島等地域における採用活動の支援",$F$11:$F$20)+SUMIF($A$11:$A$20,"（1）イ 潜在ケアマネジャー等の再就業支援",$F$11:$F$20)=0,0,F17*MIN(1,300000/(SUMIF($A$11:$A$20,"（1）ア 中山間地域等・離島等地域における採用活動の支援",$F$11:$F$20)+SUMIF($A$11:$A$20,"（1）イ 潜在ケアマネジャー等の再就業支援",$F$11:$F$20)))),MIN(F17,IFERROR(VLOOKUP(A17,プルダウン用!$F$2:$G$7,2,FALSE),0)))) -> 0
G18: =J18 -> 0 | H18: =IF(J18=0,0,IF($J$42<=500000,J18,J18/$J$42*500000)) -> 0 | I18: =IF(A18="","",IF(OR(A18="（1）ア 中山間地域等・離島等地域における採用活動の支援",A18="（1）イ 潜在ケアマネジャー等の再就業支援"),IF(SUMIF($A$11:$A$20,"（1）ア 中山間地域等・離島等地域における採用活動の支援",$G$11:$G$20)+SUMIF($A$11:$A$20,"（1）イ 潜在ケアマネジャー等の再就業支援",$G$11:$G$20)<=300000,"○","【要修正】（1）アと（1）イの補助対象額合計が30万円を上回っています。"),IF(G18<=IFERROR(VLOOKUP(A18,プルダウン用!$F$2:$G$7,2,FALSE),0),"○","【要修正】補助対象基礎額が基準額を上回っています。"))) | J18: =IF(A18="",0,IF(OR(A18="（1）ア 中山間地域等・離島等地域における採用活動の支援",A18="（1）イ 潜在ケアマネジャー等の再就業支援"),IF(SUMIF($A$11:$A$20,"（1）ア 中山間地域等・離島等地域における採用活動の支援",$F$11:$F$20)+SUMIF($A$11:$A$20,"（1）イ 潜在ケアマネジャー等の再就業支援",$F$11:$F$20)=0,0,F18*MIN(1,300000/(SUMIF($A$11:$A$20,"（1）ア 中山間地域等・離島等地域における採用活動の支援",$F$11:$F$20)+SUMIF($A$11:$A$20,"（1）イ 潜在ケアマネジャー等の再就業支援",$F$11:$F$20)))),MIN(F18,IFERROR(VLOOKUP(A18,プルダウン用!$F$2:$G$7,2,FALSE),0)))) -> 0
G19: =J19 -> 0 | H19: =IF(J19=0,0,IF($J$42<=500000,J19,J19/$J$42*500000)) -> 0 | I19: =IF(A19="","",IF(OR(A19="（1）ア 中山間地域等・離島等地域における採用活動の支援",A19="（1）イ 潜在ケアマネジャー等の再就業支援"),IF(SUMIF($A$11:$A$20,"（1）ア 中山間地域等・離島等地域における採用活動の支援",$G$11:$G$20)+SUMIF($A$11:$A$20,"（1）イ 潜在ケアマネジャー等の再就業支援",$G$11:$G$20)<=300000,"○","【要修正】（1）アと（1）イの補助対象額合計が30万円を上回っています。"),IF(G19<=IFERROR(VLOOKUP(A19,プルダウン用!$F$2:$G$7,2,FALSE),0),"○","【要修正】補助対象基礎額が基準額を上回っています。"))) | J19: =IF(A19="",0,IF(OR(A19="（1）ア 中山間地域等・離島等地域における採用活動の支援",A19="（1）イ 潜在ケアマネジャー等の再就業支援"),IF(SUMIF($A$11:$A$20,"（1）ア 中山間地域等・離島等地域における採用活動の支援",$F$11:$F$20)+SUMIF($A$11:$A$20,"（1）イ 潜在ケアマネジャー等の再就業支援",$F$11:$F$20)=0,0,F19*MIN(1,300000/(SUMIF($A$11:$A$20,"（1）ア 中山間地域等・離島等地域における採用活動の支援",$F$11:$F$20)+SUMIF($A$11:$A$20,"（1）イ 潜在ケアマネジャー等の再就業支援",$F$11:$F$20)))),MIN(F19,IFERROR(VLOOKUP(A19,プルダウン用!$F$2:$G$7,2,FALSE),0)))) -> 0
G20: =J20 -> 0 | H20: =IF(J20=0,0,IF($J$42<=500000,J20,J20/$J$42*500000)) -> 0 | I20: =IF(A20="","",IF(OR(A20="（1）ア 中山間地域等・離島等地域における採用活動の支援",A20="（1）イ 潜在ケアマネジャー等の再就業支援"),IF(SUMIF($A$11:$A$20,"（1）ア 中山間地域等・離島等地域における採用活動の支援",$G$11:$G$20)+SUMIF($A$11:$A$20,"（1）イ 潜在ケアマネジャー等の再就業支援",$G$11:$G$20)<=300000,"○","【要修正】（1）アと（1）イの補助対象額合計が30万円を上回っています。"),IF(G20<=IFERROR(VLOOKUP(A20,プルダウン用!$F$2:$G$7,2,FALSE),0),"○","【要修正】補助対象基礎額が基準額を上回っています。"))) | J20: =IF(A20="",0,IF(OR(A20="（1）ア 中山間地域等・離島等地域における採用活動の支援",A20="（1）イ 潜在ケアマネジャー等の再就業支援"),IF(SUMIF($A$11:$A$20,"（1）ア 中山間地域等・離島等地域における採用活動の支援",$F$11:$F$20)+SUMIF($A$11:$A$20,"（1）イ 潜在ケアマネジャー等の再就業支援",$F$11:$F$20)=0,0,F20*MIN(1,300000/(SUMIF($A$11:$A$20,"（1）ア 中山間地域等・離島等地域における採用活動の支援",$F$11:$F$20)+SUMIF($A$11:$A$20,"（1）イ 潜在ケアマネジャー等の再就業支援",$F$11:$F$20)))),MIN(F20,IFERROR(VLOOKUP(A20,プルダウン用!$F$2:$G$7,2,FALSE),0)))) -> 0
B21: 小計 | F21: =SUM(F11:F20) -> 0 | G21: =SUM(G11:G20) -> 0 | H21: =SUM(H11:H20) -> 0 | I21: =IF(COUNTIF(I11:I20,"*要修正*")>0,"基準額超過あり","○") -> ○
A23: 2 同行訪問（複数名訪問）の計算
A24: A 同行訪問の種類（選択） | B24: B 回数 | C24: C 同行する介護支援専門員等の氏名 | D24: D 基準額×回数（自動計算） | E24: E 補助金申請金額（自動計算）
D25: =IF(A25="",0,IF(LEFT(A25,1)="①",4000,IF(LEFT(A25,1)="②",2500,IF(LEFT(A25,1)="③",5000,IF(LEFT(A25,1)="④",3500,0))))*B25) -> 0 | E25: =IF(D25=0,0,IF($J$42<=500000,D25,D25/$J$42*500000)) -> 0 | J25: =D25 -> 0
D26: =IF(A26="",0,IF(LEFT(A26,1)="①",4000,IF(LEFT(A26,1)="②",2500,IF(LEFT(A26,1)="③",5000,IF(LEFT(A26,1)="④",3500,0))))*B26) -> 0 | E26: =IF(D26=0,0,IF($J$42<=500000,D26,D26/$J$42*500000)) -> 0 | J26: =D26 -> 0
D27: =IF(A27="",0,IF(LEFT(A27,1)="①",4000,IF(LEFT(A27,1)="②",2500,IF(LEFT(A27,1)="③",5000,IF(LEFT(A27,1)="④",3500,0))))*B27) -> 0 | E27: =IF(D27=0,0,IF($J$42<=500000,D27,D27/$J$42*500000)) -> 0 | J27: =D27 -> 0
D28: =IF(A28="",0,IF(LEFT(A28,1)="①",4000,IF(LEFT(A28,1)="②",2500,IF(LEFT(A28,1)="③",5000,IF(LEFT(A28,1)="④",3500,0))))*B28) -> 0 | E28: =IF(D28=0,0,IF($J$42<=500000,D28,D28/$J$42*500000)) -> 0 | J28: =D28 -> 0
D29: =IF(A29="",0,IF(LEFT(A29,1)="①",4000,IF(LEFT(A29,1)="②",2500,IF(LEFT(A29,1)="③",5000,IF(LEFT(A29,1)="④",3500,0))))*B29) -> 0 | E29: =IF(D29=0,0,IF($J$42<=500000,D29,D29/$J$42*500000)) -> 0 | J29: =D29 -> 0
D30: =IF(A30="",0,IF(LEFT(A30,1)="①",4000,IF(LEFT(A30,1)="②",2500,IF(LEFT(A30,1)="③",5000,IF(LEFT(A30,1)="④",3500,0))))*B30) -> 0 | E30: =IF(D30=0,0,IF($J$42<=500000,D30,D30/$J$42*500000)) -> 0 | J30: =D30 -> 0
D31: =IF(A31="",0,IF(LEFT(A31,1)="①",4000,IF(LEFT(A31,1)="②",2500,IF(LEFT(A31,1)="③",5000,IF(LEFT(A31,1)="④",3500,0))))*B31) -> 0 | E31: =IF(D31=0,0,IF($J$42<=500000,D31,D31/$J$42*500000)) -> 0 | J31: =D31 -> 0
D32: =IF(A32="",0,IF(LEFT(A32,1)="①",4000,IF(LEFT(A32,1)="②",2500,IF(LEFT(A32,1)="③",5000,IF(LEFT(A32,1)="④",3500,0))))*B32) -> 0 | E32: =IF(D32=0,0,IF($J$42<=500000,D32,D32/$J$42*500000)) -> 0 | J32: =D32 -> 0
D33: =IF(A33="",0,IF(LEFT(A33,1)="①",4000,IF(LEFT(A33,1)="②",2500,IF(LEFT(A33,1)="③",5000,IF(LEFT(A33,1)="④",3500,0))))*B33) -> 0 | E33: =IF(D33=0,0,IF($J$42<=500000,D33,D33/$J$42*500000)) -> 0 | J33: =D33 -> 0
D34: =IF(A34="",0,IF(LEFT(A34,1)="①",4000,IF(LEFT(A34,1)="②",2500,IF(LEFT(A34,1)="③",5000,IF(LEFT(A34,1)="④",3500,0))))*B34) -> 0 | E34: =IF(D34=0,0,IF($J$42<=500000,D34,D34/$J$42*500000)) -> 0 | J34: =D34 -> 0
C35: 小計 | D35: =SUM(D25:D34) -> 0 | E35: =SUM(E25:E34) -> 0
A36: 【同行訪問の単価】 ① 中山間地域等・離島等地域以外：30分以上 4,000円／回 ② 同地域以外：30分未満 2,500円／回 ③ 中山間地域等・離島等地域：30分以上 5,000円／回 ④ 同地域：30分未満 3,500円／回 D欄は選択した区分の単価×回数、E欄は事業所全体の額に応じた按分後の申請額を自動計算します。各明細では千円未満の切捨てを行いません。
A39: 3 事業所申請額の確認
B40: 補助メニュー申請額小計 | E40: =H21 -> 0 | G40: =E21 -> 0
B41: 同行訪問申請額小計 | E41: =E35 -> 0 | G41: =E35 -> 0
B42: 按分後合計額 | E42: =E40+E41 -> 0 | G42: =E40+E41 -> 0 | J42: =SUM(J11:J20)+SUM(J25:J34) -> 0
B43: 1事業所当たり上限額 | E43: 500000 | G43: 500000
...

Sheet 事業所計画（様式第1号の３）
A1: 様式第１号の3
A2: 地域のケアマネジメント提供体制確保支援事業 事業所計画書3 | K2: 集計用（自動） | L2: 実際経費 | M2: 申請金額
K3: 事業所名 | L3: =B4 -> 0
A4: 事業所名 | K4: （1）ア 中山間地域等・離島等地域における採用活動の支援 | L4: =SUMIF($A$11:$A$20,K4,$F$11:$F$20) -> 0 | M4: =SUMIF($A$11:$A$20,K4,$H$11:$H$20) -> 0
A5: 事業所番号 | K5: （1）イ 潜在ケアマネジャー等の再就業支援 | L5: =SUMIF($A$11:$A$20,K5,$F$11:$F$20) -> 0 | M5: =SUMIF($A$11:$A$20,K5,$H$11:$H$20) -> 0
A6: 事業所住所 | K6: （2）ア 事業所内のタスクシフト支援 | L6: =SUMIF($A$11:$A$20,K6,$F$11:$F$20) -> 0 | M6: =SUMIF($A$11:$A$20,K6,$H$11:$H$20) -> 0
A7: サービス種別 | K7: （2）ウ 安全確保・ハラスメント対策等の業務負担軽減支援 | L7: =SUMIF($A$11:$A$20,K7,$F$11:$F$20) -> 0 | M7: =SUMIF($A$11:$A$20,K7,$H$11:$H$20) -> 0
K8: （3）ア 経営改善の支援 | L8: =SUMIF($A$11:$A$20,K8,$F$11:$F$20) -> 0 | M8: =SUMIF($A$11:$A$20,K8,$H$11:$H$20) -> 0
A9: 1 補助メニュー別申請内容 | K9: （3）イ 利用者・ケアマネジャー等の確保のための広報活動支援 | L9: =SUMIF($A$11:$A$20,K9,$F$11:$F$20) -> 0 | M9: =SUMIF($A$11:$A$20,K9,$H$11:$H$20) -> 0
A10: A 補助メニュー（選択） | B10: B 補助メニューの内容（自由記入） | C10: C 提出する根拠資料（自由記入） | D10: D 事業実施開始日 | E10: E 事業実施終了日 | F10: F 実際にかかる経費 | G10: G 補助対象基礎額（基準額適用後） | H10: H 補助金申請金額（自動計算） | I10: 基準額超過の確認 | J10: 補助対象基礎額 | K10: 同行訪問 | L10: =D35 -> 0 | M10: =E35 -> 0
G11: =J11 -> 0 | H11: =IF(J11=0,0,IF($J$42<=500000,J11,J11/$J$42*500000)) -> 0 | I11: =IF(A11="","",IF(OR(A11="（1）ア 中山間地域等・離島等地域における採用活動の支援",A11="（1）イ 潜在ケアマネジャー等の再就業支援"),IF(SUMIF($A$11:$A$20,"（1）ア 中山間地域等・離島等地域における採用活動の支援",$G$11:$G$20)+SUMIF($A$11:$A$20,"（1）イ 潜在ケアマネジャー等の再就業支援",$G$11:$G$20)<=300000,"○","【要修正】（1）アと（1）イの補助対象額合計が30万円を上回っています。"),IF(G11<=IFERROR(VLOOKUP(A11,プルダウン用!$F$2:$G$7,2,FALSE),0),"○","【要修正】補助対象基礎額が基準額を上回っています。"))) | J11: =IF(A11="",0,IF(OR(A11="（1）ア 中山間地域等・離島等地域における採用活動の支援",A11="（1）イ 潜在ケアマネジャー等の再就業支援"),IF(SUMIF($A$11:$A$20,"（1）ア 中山間地域等・離島等地域における採用活動の支援",$F$11:$F$20)+SUMIF($A$11:$A$20,"（1）イ 潜在ケアマネジャー等の再就業支援",$F$11:$F$20)=0,0,F11*MIN(1,300000/(SUMIF($A$11:$A$20,"（1）ア 中山間地域等・離島等地域における採用活動の支援",$F$11:$F$20)+SUMIF($A$11:$A$20,"（1）イ 潜在ケアマネジャー等の再就業支援",$F$11:$F$20)))),MIN(F11,IFERROR(VLOOKUP(A11,プルダウン用!$F$2:$G$7,2,FALSE),0)))) -> 0 | K11: 最終申請額 | L11: =E44 -> 0
G12: =J12 -> 0 | H12: =IF(J12=0,0,IF($J$42<=500000,J12,J12/$J$42*500000)) -> 0 | I12: =IF(A12="","",IF(OR(A12="（1）ア 中山間地域等・離島等地域における採用活動の支援",A12="（1）イ 潜在ケアマネジャー等の再就業支援"),IF(SUMIF($A$11:$A$20,"（1）ア 中山間地域等・離島等地域における採用活動の支援",$G$11:$G$20)+SUMIF($A$11:$A$20,"（1）イ 潜在ケアマネジャー等の再就業支援",$G$11:$G$20)<=300000,"○","【要修正】（1）アと（1）イの補助対象額合計が30万円を上回っています。"),IF(G12<=IFERROR(VLOOKUP(A12,プルダウン用!$F$2:$G$7,2,FALSE),0),"○","【要修正】補助対象基礎額が基準額を上回っています。"))) | J12: =IF(A12="",0,IF(OR(A12="（1）ア 中山間地域等・離島等地域における採用活動の支援",A12="（1）イ 潜在ケアマネジャー等の再就業支援"),IF(SUMIF($A$11:$A$20,"（1）ア 中山間地域等・離島等地域における採用活動の支援",$F$11:$F$20)+SUMIF($A$11:$A$20,"（1）イ 潜在ケアマネジャー等の再就業支援",$F$11:$F$20)=0,0,F12*MIN(1,300000/(SUMIF($A$11:$A$20,"（1）ア 中山間地域等・離島等地域における採用活動の支援",$F$11:$F$20)+SUMIF($A$11:$A$20,"（1）イ 潜在ケアマネジャー等の再就業支援",$F$11:$F$20)))),MIN(F12,IFERROR(VLOOKUP(A12,プルダウン用!$F$2:$G$7,2,FALSE),0)))) -> 0
G13: =J13 -> 0 | H13: =IF(J13=0,0,IF($J$42<=500000,J13,J13/$J$42*500000)) -> 0 | I13: =IF(A13="","",IF(OR(A13="（1）ア 中山間地域等・離島等地域における採用活動の支援",A13="（1）イ 潜在ケアマネジャー等の再就業支援"),IF(SUMIF($A$11:$A$20,"（1）ア 中山間地域等・離島等地域における採用活動の支援",$G$11:$G$20)+SUMIF($A$11:$A$20,"（1）イ 潜在ケアマネジャー等の再就業支援",$G$11:$G$20)<=300000,"○","【要修正】（1）アと（1）イの補助対象額合計が30万円を上回っています。"),IF(G13<=IFERROR(VLOOKUP(A13,プルダウン用!$F$2:$G$7,2,FALSE),0),"○","【要修正】補助対象基礎額が基準額を上回っています。"))) | J13: =IF(A13="",0,IF(OR(A13="（1）ア 中山間地域等・離島等地域における採用活動の支援",A13="（1）イ 潜在ケアマネジャー等の再就業支援"),IF(SUMIF($A$11:$A$20,"（1）ア 中山間地域等・離島等地域における採用活動の支援",$F$11:$F$20)+SUMIF($A$11:$A$20,"（1）イ 潜在ケアマネジャー等の再就業支援",$F$11:$F$20)=0,0,F13*MIN(1,300000/(SUMIF($A$11:$A$20,"（1）ア 中山間地域等・離島等地域における採用活動の支援",$F$11:$F$20)+SUMIF($A$11:$A$20,"（1）イ 潜在ケアマネジャー等の再就業支援",$F$11:$F$20)))),MIN(F13,IFERROR(VLOOKUP(A13,プルダウン用!$F$2:$G$7,2,FALSE),0)))) -> 0
G14: =J14 -> 0 | H14: =IF(J14=0,0,IF($J$42<=500000,J14,J14/$J$42*500000)) -> 0 | I14: =IF(A14="","",IF(OR(A14="（1）ア 中山間地域等・離島等地域における採用活動の支援",A14="（1）イ 潜在ケアマネジャー等の再就業支援"),IF(SUMIF($A$11:$A$20,"（1）ア 中山間地域等・離島等地域における採用活動の支援",$G$11:$G$20)+SUMIF($A$11:$A$20,"（1）イ 潜在ケアマネジャー等の再就業支援",$G$11:$G$20)<=300000,"○","【要修正】（1）アと（1）イの補助対象額合計が30万円を上回っています。"),IF(G14<=IFERROR(VLOOKUP(A14,プルダウン用!$F$2:$G$7,2,FALSE),0),"○","【要修正】補助対象基礎額が基準額を上回っています。"))) | J14: =IF(A14="",0,IF(OR(A14="（1）ア 中山間地域等・離島等地域における採用活動の支援",A14="（1）イ 潜在ケアマネジャー等の再就業支援"),IF(SUMIF($A$11:$A$20,"（1）ア 中山間地域等・離島等地域における採用活動の支援",$F$11:$F$20)+SUMIF($A$11:$A$20,"（1）イ 潜在ケアマネジャー等の再就業支援",$F$11:$F$20)=0,0,F14*MIN(1,300000/(SUMIF($A$11:$A$20,"（1）ア 中山間地域等・離島等地域における採用活動の支援",$F$11:$F$20)+SUMIF($A$11:$A$20,"（1）イ 潜在ケアマネジャー等の再就業支援",$F$11:$F$20)))),MIN(F14,IFERROR(VLOOKUP(A14,プルダウン用!$F$2:$G$7,2,FALSE),0)))) -> 0
G15: =J15 -> 0 | H15: =IF(J15=0,0,IF($J$42<=500000,J15,J15/$J$42*500000)) -> 0 | I15: =IF(A15="","",IF(OR(A15="（1）ア 中山間地域等・離島等地域における採用活動の支援",A15="（1）イ 潜在ケアマネジャー等の再就業支援"),IF(SUMIF($A$11:$A$20,"（1）ア 中山間地域等・離島等地域における採用活動の支援",$G$11:$G$20)+SUMIF($A$11:$A$20,"（1）イ 潜在ケアマネジャー等の再就業支援",$G$11:$G$20)<=300000,"○","【要修正】（1）アと（1）イの補助対象額合計が30万円を上回っています。"),IF(G15<=IFERROR(VLOOKUP(A15,プルダウン用!$F$2:$G$7,2,FALSE),0),"○","【要修正】補助対象基礎額が基準額を上回っています。"))) | J15: =IF(A15="",0,IF(OR(A15="（1）ア 中山間地域等・離島等地域における採用活動の支援",A15="（1）イ 潜在ケアマネジャー等の再就業支援"),IF(SUMIF($A$11:$A$20,"（1）ア 中山間地域等・離島等地域における採用活動の支援",$F$11:$F$20)+SUMIF($A$11:$A$20,"（1）イ 潜在ケアマネジャー等の再就業支援",$F$11:$F$20)=0,0,F15*MIN(1,300000/(SUMIF($A$11:$A$20,"（1）ア 中山間地域等・離島等地域における採用活動の支援",$F$11:$F$20)+SUMIF($A$11:$A$20,"（1）イ 潜在ケアマネジャー等の再就業支援",$F$11:$F$20)))),MIN(F15,IFERROR(VLOOKUP(A15,プルダウン用!$F$2:$G$7,2,FALSE),0)))) -> 0
