Workbook

Sheet 全品種(このシートのみ使用)
A1: 令和８年度 収穫適期早見表（村上アメダス） | X1: ※積算気温は、出穂日翌日の気温から起算
Z2: =TODAY() -> 46281 | AA2: 以降は平年値
Y3: 凡例 | AA3: 925 - 950℃
AA4: 950 - 1000℃
AA5: 1000 - 1050℃
AA6: 1050 - 1100℃
AA7: 1100 - 1200℃
A8: 出穂期 収穫期
C10: 日平均気温 | D10: 39640 | E10: 39641 | F10: 39642 | G10: 39643 | H10: 39644 | I10: 39645 | J10: 39646 | K10: 39647 | L10: 39648 | M10: 39649 | N10: 39650 | O10: 39651 | P10: 39652 | Q10: 39653 | R10: 39654 | S10: 39655 | T10: 39656 | U10: 39657 | V10: 39658 | W10: 39659 | X10: 39660 | Y10: 39661 | Z10: 39662 | AA10: 39663 | AB10: 39664 | AC10: 39665 | AD10: 39666 | AE10: 39667 | AF10: 39668 | AG10: 39669 | AH10: 39670 | AI10: 39671 | AJ10: 39672 | AK10: 39673 | AL10: 39674 | AM10: 39675 | AN10: 39676 | AO10: 39677 | AP10: 39678 | AQ10: 39679 | AR10: 39680
B11: 11日 | C11: =IF('使用DATA（平均気温入力用）'!C13=0,'使用DATA（平均気温入力用）'!D13,'使用DATA（平均気温入力用）'!C13) -> 25.5
B12: 12日 | C12: =IF('使用DATA（平均気温入力用）'!C14=0,'使用DATA（平均気温入力用）'!D14,'使用DATA（平均気温入力用）'!C14) -> 24.5 | D12: =C12 -> 24.5
B13: 13日 | C13: =IF('使用DATA（平均気温入力用）'!C15=0,'使用DATA（平均気温入力用）'!D15,'使用DATA（平均気温入力用）'!C15) -> 23.9 | D13: =D12+C13 -> 48.4 | E13: =C13 -> 23.9
B14: 14日 | C14: =IF('使用DATA（平均気温入力用）'!C16=0,'使用DATA（平均気温入力用）'!D16,'使用DATA（平均気温入力用）'!C16) -> 26.4 | D14: =D13+C14 -> 74.8 | E14: =E13+C14 -> 50.3 | F14: =C14 -> 26.4
B15: 15日 | C15: =IF('使用DATA（平均気温入力用）'!C17=0,'使用DATA（平均気温入力用）'!D17,'使用DATA（平均気温入力用）'!C17) -> 28.6 | D15: =D14+C15 -> 103.4 | E15: =E14+C15 -> 78.9 | F15: =F14+C15 -> 55 | G15: =C15 -> 28.6
A16: 7月 | B16: 16日 | C16: =IF('使用DATA（平均気温入力用）'!C18=0,'使用DATA（平均気温入力用）'!D18,'使用DATA（平均気温入力用）'!C18) -> 26.8 | D16: =D15+C16 -> 130.2 | E16: =E15+C16 -> 105.7 | F16: =F15+C16 -> 81.8 | G16: =G15+C16 -> 55.4 | H16: =C16 -> 26.8
B17: 17日 | C17: =IF('使用DATA（平均気温入力用）'!C19=0,'使用DATA（平均気温入力用）'!D19,'使用DATA（平均気温入力用）'!C19) -> 26.9 | D17: =D16+C17 -> 157.1 | E17: =E16+C17 -> 132.6 | F17: =F16+C17 -> 108.7 | G17: =G16+C17 -> 82.3 | H17: =H16+C17 -> 53.7 | I17: =I16+$C17 -> 26.9
B18: 18日 | C18: =IF('使用DATA（平均気温入力用）'!C20=0,'使用DATA（平均気温入力用）'!D20,'使用DATA（平均気温入力用）'!C20) -> 28.1 | D18: =D17+C18 -> 185.2 | E18: =E17+C18 -> 160.7 | F18: =F17+C18 -> 136.8 | G18: =G17+C18 -> 110.4 | H18: =H17+C18 -> 81.8 | I18: =I17+$C18 -> 55 | J18: =J17+$C18 -> 28.1
B19: 19日 | C19: =IF('使用DATA（平均気温入力用）'!C21=0,'使用DATA（平均気温入力用）'!D21,'使用DATA（平均気温入力用）'!C21) -> 27.5 | D19: =D18+C19 -> 212.7 | E19: =E18+C19 -> 188.2 | F19: =F18+C19 -> 164.3 | G19: =G18+C19 -> 137.9 | H19: =H18+C19 -> 109.3 | I19: =I18+$C19 -> 82.5 | J19: =J18+$C19 -> 55.6 | K19: =K18+$C19 -> 27.5
B20: 20日 | C20: =IF('使用DATA（平均気温入力用）'!C22=0,'使用DATA（平均気温入力用）'!D22,'使用DATA（平均気温入力用）'!C22) -> 28.4 | D20: =D19+C20 -> 241.1 | E20: =E19+C20 -> 216.6 | F20: =F19+C20 -> 192.7 | G20: =G19+C20 -> 166.3 | H20: =H19+C20 -> 137.7 | I20: =I19+$C20 -> 110.9 | J20: =J19+$C20 -> 84 | K20: =K19+$C20 -> 55.9 | L20: =L19+$C20 -> 28.4
B21: 21日 | C21: =IF('使用DATA（平均気温入力用）'!C23=0,'使用DATA（平均気温入力用）'!D23,'使用DATA（平均気温入力用）'!C23) -> 27.4 | D21: =D20+C21 -> 268.5 | E21: =E20+C21 -> 244 | F21: =F20+C21 -> 220.1 | G21: =G20+C21 -> 193.7 | H21: =H20+C21 -> 165.1 | I21: =I20+$C21 -> 138.3 | J21: =J20+$C21 -> 111.4 | K21: =K20+$C21 -> 83.3 | L21: =L20+$C21 -> 55.8 | M21: =M20+$C21 -> 27.4
B22: 22日 | C22: =IF('使用DATA（平均気温入力用）'!C24=0,'使用DATA（平均気温入力用）'!D24,'使用DATA（平均気温入力用）'!C24) -> 27.8 | D22: =D21+C22 -> 296.3 | E22: =E21+C22 -> 271.8 | F22: =F21+C22 -> 247.9 | G22: =G21+C22 -> 221.5 | H22: =H21+C22 -> 192.9 | I22: =I21+$C22 -> 166.1 | J22: =J21+$C22 -> 139.2 | K22: =K21+$C22 -> 111.1 | L22: =L21+$C22 -> 83.6 | M22: =M21+$C22 -> 55.2 | N22: =N21+$C22 -> 27.8
B23: 23日 | C23: =IF('使用DATA（平均気温入力用）'!C25=0,'使用DATA（平均気温入力用）'!D25,'使用DATA（平均気温入力用）'!C25) -> 27.1 | D23: =D22+C23 -> 323.4 | E23: =E22+C23 -> 298.9 | F23: =F22+C23 -> 275 | G23: =G22+C23 -> 248.6 | H23: =H22+C23 -> 220 | I23: =I22+$C23 -> 193.2 | J23: =J22+$C23 -> 166.3 | K23: =K22+$C23 -> 138.2 | L23: =L22+$C23 -> 110.7 | M23: =M22+$C23 -> 82.3 | N23: =N22+$C23 -> 54.9 | O23: =O22+$C23 -> 27.1
B24: 24日 | C24: =IF('使用DATA（平均気温入力用）'!C26=0,'使用DATA（平均気温入力用）'!D26,'使用DATA（平均気温入力用）'!C26) -> 24.9 | D24: =D23+C24 -> 348.3 | E24: =E23+C24 -> 323.8 | F24: =F23+C24 -> 299.9 | G24: =G23+C24 -> 273.5 | H24: =H23+C24 -> 244.9 | I24: =I23+$C24 -> 218.1 | J24: =J23+$C24 -> 191.2 | K24: =K23+$C24 -> 163.1 | L24: =L23+$C24 -> 135.6 | M24: =M23+$C24 -> 107.2 | N24: =N23+$C24 -> 79.8 | O24: =O23+$C24 -> 52 | P24: =P23+$C24 -> 24.9
B25: 25日 | C25: =IF('使用DATA（平均気温入力用）'!C27=0,'使用DATA（平均気温入力用）'!D27,'使用DATA（平均気温入力用）'!C27) -> 26 | D25: =D24+C25 -> 374.3 | E25: =E24+C25 -> 349.8 | F25: =F24+C25 -> 325.9 | G25: =G24+C25 -> 299.5 | H25: =H24+C25 -> 270.9 | I25: =I24+$C25 -> 244.1 | J25: =J24+$C25 -> 217.2 | K25: =K24+$C25 -> 189.1 | L25: =L24+$C25 -> 161.6 | M25: =M24+$C25 -> 133.2 | N25: =N24+$C25 -> 105.8 | O25: =O24+$C25 -> 78 | P25: =P24+$C25 -> 50.9 | Q25: =Q24+$C25 -> 26
B26: 26日 | C26: =IF('使用DATA（平均気温入力用）'!C28=0,'使用DATA（平均気温入力用）'!D28,'使用DATA（平均気温入力用）'!C28) -> 24.6 | D26: =D25+C26 -> 398.9 | E26: =E25+C26 -> 374.4 | F26: =F25+C26 -> 350.5 | G26: =G25+C26 -> 324.1 | H26: =H25+C26 -> 295.5 | I26: =I25+$C26 -> 268.7 | J26: =J25+$C26 -> 241.8 | K26: =K25+$C26 -> 213.7 | L26: =L25+$C26 -> 186.2 | M26: =M25+$C26 -> 157.8 | N26: =N25+$C26 -> 130.4 | O26: =O25+$C26 -> 102.6 | P26: =P25+$C26 -> 75.5 | ... R26: =R25+$C26 -> 24.6
B27: 27日 | C27: =IF('使用DATA（平均気温入力用）'!C29=0,'使用DATA（平均気温入力用）'!D29,'使用DATA（平均気温入力用）'!C29) -> 24.5 | D27: =D26+C27 -> 423.4 | E27: =E26+C27 -> 398.9 | F27: =F26+C27 -> 375 | G27: =G26+C27 -> 348.6 | H27: =H26+C27 -> 320 | I27: =I26+$C27 -> 293.2 | J27: =J26+$C27 -> 266.3 | K27: =K26+$C27 -> 238.2 | L27: =L26+$C27 -> 210.7 | M27: =M26+$C27 -> 182.3 | N27: =N26+$C27 -> 154.9 | O27: =O26+$C27 -> 127.1 | P27: =P26+$C27 -> 100 | ... S27: =S26+$C27 -> 24.5
B28: 28日 | C28: =IF('使用DATA（平均気温入力用）'!C30=0,'使用DATA（平均気温入力用）'!D30,'使用DATA（平均気温入力用）'!C30) -> 24.2 | D28: =D27+C28 -> 447.6 | E28: =E27+C28 -> 423.1 | F28: =F27+C28 -> 399.2 | G28: =G27+C28 -> 372.8 | H28: =H27+C28 -> 344.2 | I28: =I27+$C28 -> 317.4 | J28: =J27+$C28 -> 290.5 | K28: =K27+$C28 -> 262.4 | L28: =L27+$C28 -> 234.9 | M28: =M27+$C28 -> 206.5 | N28: =N27+$C28 -> 179.1 | O28: =O27+$C28 -> 151.3 | P28: =P27+$C28 -> 124.2 | ... T28: =T27+$C28 -> 24.2
B29: 29日 | C29: =IF('使用DATA（平均気温入力用）'!C31=0,'使用DATA（平均気温入力用）'!D31,'使用DATA（平均気温入力用）'!C31) -> 24.3 | D29: =D28+C29 -> 471.9 | E29: =E28+C29 -> 447.4 | F29: =F28+C29 -> 423.5 | G29: =G28+C29 -> 397.1 | H29: =H28+C29 -> 368.5 | I29: =I28+$C29 -> 341.7 | J29: =J28+$C29 -> 314.8 | K29: =K28+$C29 -> 286.7 | L29: =L28+$C29 -> 259.2 | M29: =M28+$C29 -> 230.8 | N29: =N28+$C29 -> 203.4 | O29: =O28+$C29 -> 175.6 | P29: =P28+$C29 -> 148.5 | ... U29: =U28+$C29 -> 24.3
B30: 30日 | C30: =IF('使用DATA（平均気温入力用）'!C32=0,'使用DATA（平均気温入力用）'!D32,'使用DATA（平均気温入力用）'!C32) -> 26.5 | D30: =D29+C30 -> 498.4 | E30: =E29+C30 -> 473.9 | F30: =F29+C30 -> 450 | G30: =G29+C30 -> 423.6 | H30: =H29+C30 -> 395 | I30: =I29+$C30 -> 368.2 | J30: =J29+$C30 -> 341.3 | K30: =K29+$C30 -> 313.2 | L30: =L29+$C30 -> 285.7 | M30: =M29+$C30 -> 257.3 | N30: =N29+$C30 -> 229.9 | O30: =O29+$C30 -> 202.1 | P30: =P29+$C30 -> 175 | ... V30: =V29+$C30 -> 26.5
B31: 31日 | C31: =IF('使用DATA（平均気温入力用）'!C33=0,'使用DATA（平均気温入力用）'!D33,'使用DATA（平均気温入力用）'!C33) -> 24 | D31: =D30+C31 -> 522.4 | E31: =E30+C31 -> 497.9 | F31: =F30+C31 -> 474 | G31: =G30+C31 -> 447.6 | H31: =H30+C31 -> 419 | I31: =I30+$C31 -> 392.2 | J31: =J30+$C31 -> 365.3 | K31: =K30+$C31 -> 337.2 | L31: =L30+$C31 -> 309.7 | M31: =M30+$C31 -> 281.3 | N31: =N30+$C31 -> 253.9 | O31: =O30+$C31 -> 226.1 | P31: =P30+$C31 -> 199 | ... R31: =R30+$C31 -> 148.1 | S31: =S30+$C30 -> 126 | T31: =T30+$C31 -> 99 | U31: =U30+$C31 -> 74.8 | V31: =V30+$C31 -> 50.5 | W31: =W30+$C31 -> 24
A32: 8月 | B32: 1日 | C32: =IF('使用DATA（平均気温入力用）'!C34=0,'使用DATA（平均気温入力用）'!D34,'使用DATA（平均気温入力用）'!C34) -> 26.3 | D32: =D31+C32 -> 548.7 | E32: =E31+C32 -> 524.2 | F32: =F31+C32 -> 500.3 | G32: =G31+C32 -> 473.9 | H32: =H31+C32 -> 445.3 | I32: =I31+$C32 -> 418.5 | J32: =J31+$C32 -> 391.6 | K32: =K31+$C32 -> 363.5 | L32: =L31+$C32 -> 336 | M32: =M31+$C32 -> 307.6 | N32: =N31+$C32 -> 280.2 | O32: =O31+$C32 -> 252.4 | P32: =P31+$C32 -> 225.3 | ... R32: =R31+$C32 -> 174.4 | S32: =S31+$C31 -> 150 | T32: =T31+$C32 -> 125.3 | U32: =U31+$C32 -> 101.1 | V32: =V31+$C32 -> 76.8 | W32: =W31+$C32 -> 50.3 | X32: =X31+$C32 -> 26.3
B33: 2日 | C33: =IF('使用DATA（平均気温入力用）'!C35=0,'使用DATA（平均気温入力用）'!D35,'使用DATA（平均気温入力用）'!C35) -> 26.4 | D33: =D32+C33 -> 575.1 | E33: =E32+C33 -> 550.6 | F33: =F32+C33 -> 526.7 | G33: =G32+C33 -> 500.3 | H33: =H32+C33 -> 471.7 | I33: =I32+$C33 -> 444.9 | J33: =J32+$C33 -> 418 | K33: =K32+$C33 -> 389.9 | L33: =L32+$C33 -> 362.4 | M33: =M32+$C33 -> 334 | N33: =N32+$C33 -> 306.6 | O33: =O32+$C33 -> 278.8 | P33: =P32+$C33 -> 251.7 | ... R33: =R32+$C33 -> 200.8 | S33: =S32+$C32 -> 176.3 | T33: =T32+$C33 -> 151.7 | U33: =U32+$C33 -> 127.5 | V33: =V32+$C33 -> 103.2 | W33: =W32+$C33 -> 76.7 | X33: =X32+$C33 -> 52.7 | Y33: =Y32+$C33 -> 26.4
B34: 3日 | C34: =IF('使用DATA（平均気温入力用）'!C36=0,'使用DATA（平均気温入力用）'!D36,'使用DATA（平均気温入力用）'!C36) -> 27.1 | D34: =D33+C34 -> 602.2 | E34: =E33+C34 -> 577.7 | F34: =F33+C34 -> 553.8 | G34: =G33+C34 -> 527.4 | H34: =H33+C34 -> 498.8 | I34: =I33+$C34 -> 472 | J34: =J33+$C34 -> 445.1 | K34: =K33+$C34 -> 417 | L34: =L33+$C34 -> 389.5 | M34: =M33+$C34 -> 361.1 | N34: =N33+$C34 -> 333.7 | O34: =O33+$C34 -> 305.9 | P34: =P33+$C34 -> 278.8 | ... R34: =R33+$C34 -> 227.9 | S34: =S33+$C33 -> 202.7 | T34: =T33+$C34 -> 178.8 | U34: =U33+$C34 -> 154.6 | V34: =V33+$C34 -> 130.3 | W34: =W33+$C34 -> 103.8 | X34: =X33+$C34 -> 79.8 | Y34: =Y33+$C34 -> 53.5 | Z34: =Z33+$C34 -> 27.1
B35: 4日 | C35: =IF('使用DATA（平均気温入力用）'!C37=0,'使用DATA（平均気温入力用）'!D37,'使用DATA（平均気温入力用）'!C37) -> 26.8 | D35: =D34+C35 -> 629 | E35: =E34+C35 -> 604.5 | F35: =F34+C35 -> 580.6 | G35: =G34+C35 -> 554.2 | H35: =H34+C35 -> 525.6 | I35: =I34+$C35 -> 498.8 | J35: =J34+$C35 -> 471.9 | K35: =K34+$C35 -> 443.8 | L35: =L34+$C35 -> 416.3 | M35: =M34+$C35 -> 387.9 | N35: =N34+$C35 -> 360.5 | O35: =O34+$C35 -> 332.7 | P35: =P34+$C35 -> 305.6 | ... R35: =R34+$C35 -> 254.7 | S35: =S34+$C34 -> 229.8 | T35: =T34+$C35 -> 205.6 | U35: =U34+$C35 -> 181.4 | V35: =V34+$C35 -> 157.1 | W35: =W34+$C35 -> 130.6 | X35: =X34+$C35 -> 106.6 | Y35: =Y34+$C35 -> 80.3 | Z35: =Z34+$C35 -> 53.9 | AA35: =AA34+$C35 -> 26.8
B36: 5日 | C36: =IF('使用DATA（平均気温入力用）'!C38=0,'使用DATA（平均気温入力用）'!D38,'使用DATA（平均気温入力用）'!C38) -> 26.4 | D36: =D35+C36 -> 655.4 | E36: =E35+C36 -> 630.9 | F36: =F35+C36 -> 607 | G36: =G35+C36 -> 580.6 | H36: =H35+C36 -> 552 | I36: =I35+$C36 -> 525.2 | J36: =J35+$C36 -> 498.3 | K36: =K35+$C36 -> 470.2 | L36: =L35+$C36 -> 442.7 | M36: =M35+$C36 -> 414.3 | N36: =N35+$C36 -> 386.9 | O36: =O35+$C36 -> 359.1 | P36: =P35+$C36 -> 332 | ... R36: =R35+$C36 -> 281.1 | S36: =S35+$C35 -> 256.6 | T36: =T35+$C36 -> 232 | U36: =U35+$C36 -> 207.8 | V36: =V35+$C36 -> 183.5 | W36: =W35+$C36 -> 157 | X36: =X35+$C36 -> 133 | Y36: =Y35+$C36 -> 106.7 | Z36: =Z35+$C36 -> 80.3 | AA36: =AA35+$C36 -> 53.2 | AB36: =AB35+$C36 -> 26.4
B37: 6日 | C37: =IF('使用DATA（平均気温入力用）'!C39=0,'使用DATA（平均気温入力用）'!D39,'使用DATA（平均気温入力用）'!C39) -> 28.6 | D37: =D36+C37 -> 684 | E37: =E36+C37 -> 659.5 | F37: =F36+C37 -> 635.6 | G37: =G36+C37 -> 609.2 | H37: =H36+C37 -> 580.6 | I37: =I36+$C37 -> 553.8 | J37: =J36+$C37 -> 526.9 | K37: =K36+$C37 -> 498.8 | L37: =L36+$C37 -> 471.3 | M37: =M36+$C37 -> 442.9 | N37: =N36+$C37 -> 415.5 | O37: =O36+$C37 -> 387.7 | P37: =P36+$C37 -> 360.6 | ... R37: =R36+$C37 -> 309.7 | S37: =S36+$C36 -> 283 | T37: =T36+$C37 -> 260.6 | U37: =U36+$C37 -> 236.4 | V37: =V36+$C37 -> 212.1 | W37: =W36+$C37 -> 185.6 | X37: =X36+$C37 -> 161.6 | Y37: =Y36+$C37 -> 135.3 | Z37: =Z36+$C37 -> 108.9 | AA37: =AA36+$C37 -> 81.8 | ... AC37: =AC36+$C37 -> 28.6
B38: 7日 | C38: =IF('使用DATA（平均気温入力用）'!C40=0,'使用DATA（平均気温入力用）'!D40,'使用DATA（平均気温入力用）'!C40) -> 29.8 | D38: =D37+C38 -> 713.8 | E38: =E37+C38 -> 689.3 | F38: =F37+C38 -> 665.4 | G38: =G37+C38 -> 639 | H38: =H37+C38 -> 610.4 | I38: =I37+$C38 -> 583.6 | J38: =J37+$C38 -> 556.7 | K38: =K37+$C38 -> 528.6 | L38: =L37+$C38 -> 501.1 | M38: =M37+$C38 -> 472.7 | N38: =N37+$C38 -> 445.3 | O38: =O37+$C38 -> 417.5 | P38: =P37+$C38 -> 390.4 | ... R38: =R37+$C38 -> 339.5 | S38: =S37+$C37 -> 311.6 | T38: =T37+$C38 -> 290.4 | U38: =U37+$C38 -> 266.2 | V38: =V37+$C38 -> 241.9 | W38: =W37+$C38 -> 215.4 | X38: =X37+$C38 -> 191.4 | Y38: =Y37+$C38 -> 165.1 | Z38: =Z37+$C38 -> 138.7 | AA38: =AA37+$C38 -> 111.6 | ... AD38: =AD37+$C38 -> 29.8
B39: 8日 | C39: =IF('使用DATA（平均気温入力用）'!C41=0,'使用DATA（平均気温入力用）'!D41,'使用DATA（平均気温入力用）'!C41) -> 28.4 | D39: =D38+C39 -> 742.2 | E39: =E38+C39 -> 717.7 | F39: =F38+C39 -> 693.8 | G39: =G38+C39 -> 667.4 | H39: =H38+C39 -> 638.8 | I39: =I38+$C39 -> 612 | J39: =J38+$C39 -> 585.1 | K39: =K38+$C39 -> 557 | L39: =L38+$C39 -> 529.5 | M39: =M38+$C39 -> 501.1 | N39: =N38+$C39 -> 473.7 | O39: =O38+$C39 -> 445.9 | P39: =P38+$C39 -> 418.8 | ... R39: =R38+$C39 -> 367.9 | S39: =S38+$C38 -> 341.4 | T39: =T38+$C39 -> 318.8 | U39: =U38+$C39 -> 294.6 | V39: =V38+$C39 -> 270.3 | W39: =W38+$C39 -> 243.8 | X39: =X38+$C39 -> 219.8 | Y39: =Y38+$C39 -> 193.5 | Z39: =Z38+$C39 -> 167.1 | AA39: =AA38+$C39 -> 140 | ... AE39: =AE38+$C39 -> 28.4
B40: 9日 | C40: =IF('使用DATA（平均気温入力用）'!C42=0,'使用DATA（平均気温入力用）'!D42,'使用DATA（平均気温入力用）'!C42) -> 26.5 | D40: =D39+C40 -> 768.7 | E40: =E39+C40 -> 744.2 | F40: =F39+C40 -> 720.3 | G40: =G39+C40 -> 693.9 | H40: =H39+C40 -> 665.3 | I40: =I39+$C40 -> 638.5 | J40: =J39+$C40 -> 611.6 | K40: =K39+$C40 -> 583.5 | L40: =L39+$C40 -> 556 | M40: =M39+$C40 -> 527.6 | N40: =N39+$C40 -> 500.2 | O40: =O39+$C40 -> 472.4 | P40: =P39+$C40 -> 445.3 | ... R40: =R39+$C40 -> 394.4 | S40: =S39+$C39 -> 369.8 | T40: =T39+$C40 -> 345.3 | U40: =U39+$C40 -> 321.1 | V40: =V39+$C40 -> 296.8 | W40: =W39+$C40 -> 270.3 | X40: =X39+$C40 -> 246.3 | Y40: =Y39+$C40 -> 220 | Z40: =Z39+$C40 -> 193.6 | AA40: =AA39+$C40 -> 166.5 | ... AF40: =AF39+$C40 -> 26.5
B41: 10日 | C41: =IF('使用DATA（平均気温入力用）'!C43=0,'使用DATA（平均気温入力用）'!D43,'使用DATA（平均気温入力用）'!C43) -> 25.3 | D41: =D40+C41 -> 794 | E41: =E40+C41 -> 769.5 | F41: =F40+C41 -> 745.6 | G41: =G40+C41 -> 719.2 | H41: =H40+C41 -> 690.6 | I41: =I40+$C41 -> 663.8 | J41: =J40+$C41 -> 636.9 | K41: =K40+$C41 -> 608.8 | L41: =L40+$C41 -> 581.3 | M41: =M40+$C41 -> 552.9 | N41: =N40+$C41 -> 525.5 | O41: =O40+$C41 -> 497.7 | P41: =P40+$C41 -> 470.6 | ... R41: =R40+$C41 -> 419.7 | S41: =S40+$C40 -> 396.3 | T41: =T40+$C41 -> 370.6 | U41: =U40+$C41 -> 346.4 | V41: =V40+$C41 -> 322.1 | W41: =W40+$C41 -> 295.6 | X41: =X40+$C41 -> 271.6 | Y41: =Y40+$C41 -> 245.3 | Z41: =Z40+$C41 -> 218.9 | AA41: =AA40+$C41 -> 191.8 | ... AG41: =AG40+$C41 -> 25.3
B42: 11日 | C42: =IF('使用DATA（平均気温入力用）'!C44=0,'使用DATA（平均気温入力用）'!D44,'使用DATA（平均気温入力用）'!C44) -> 24.2 | D42: =D41+C42 -> 818.2 | E42: =E41+C42 -> 793.7 | F42: =F41+C42 -> 769.8 | G42: =G41+C42 -> 743.4 | H42: =H41+C42 -> 714.8 | I42: =I41+$C42 -> 688 | J42: =J41+$C42 -> 661.1 | K42: =K41+$C42 -> 633 | L42: =L41+$C42 -> 605.5 | M42: =M41+$C42 -> 577.1 | N42: =N41+$C42 -> 549.7 | O42: =O41+$C42 -> 521.9 | P42: =P41+$C42 -> 494.8 | ... R42: =R41+$C42 -> 443.9 | S42: =S41+$C41 -> 421.6 | T42: =T41+$C42 -> 394.8 | U42: =U41+$C42 -> 370.6 | V42: =V41+$C42 -> 346.3 | W42: =W41+$C42 -> 319.8 | X42: =X41+$C42 -> 295.8 | Y42: =Y41+$C42 -> 269.5 | Z42: =Z41+$C42 -> 243.1 | AA42: =AA41+$C42 -> 216 | ... AH42: =AH41+$C42 -> 24.2
B43: 12日 | C43: =IF('使用DATA（平均気温入力用）'!C45=0,'使用DATA（平均気温入力用）'!D45,'使用DATA（平均気温入力用）'!C45) -> 28.1 | D43: =D42+C43 -> 846.3 | E43: =E42+C43 -> 821.8 | F43: =F42+C43 -> 797.9 | G43: =G42+C43 -> 771.5 | H43: =H42+C43 -> 742.9 | I43: =I42+$C43 -> 716.1 | J43: =J42+$C43 -> 689.2 | K43: =K42+$C43 -> 661.1 | L43: =L42+$C43 -> 633.6 | M43: =M42+$C43 -> 605.2 | N43: =N42+$C43 -> 577.8 | O43: =O42+$C43 -> 550 | P43: =P42+$C43 -> 522.9 | ... R43: =R42+$C43 -> 472 | S43: =S42+$C42 -> 445.8 | T43: =T42+$C43 -> 422.9 | U43: =U42+$C43 -> 398.7 | V43: =V42+$C43 -> 374.4 | W43: =W42+$C43 -> 347.9 | X43: =X42+$C43 -> 323.9 | Y43: =Y42+$C43 -> 297.6 | Z43: =Z42+$C43 -> 271.2 | AA43: =AA42+$C43 -> 244.1 | ... AI43: =AI42+$C43 -> 28.1
B44: 13日 | C44: =IF('使用DATA（平均気温入力用）'!C46=0,'使用DATA（平均気温入力用）'!D46,'使用DATA（平均気温入力用）'!C46) -> 29.3 | D44: =D43+C44 -> 875.6 | E44: =E43+C44 -> 851.1 | F44: =F43+C44 -> 827.2 | G44: =G43+C44 -> 800.8 | H44: =H43+C44 -> 772.2 | I44: =I43+$C44 -> 745.4 | J44: =J43+$C44 -> 718.5 | K44: =K43+$C44 -> 690.4 | L44: =L43+$C44 -> 662.9 | M44: =M43+$C44 -> 634.5 | N44: =N43+$C44 -> 607.1 | O44: =O43+$C44 -> 579.3 | P44: =P43+$C44 -> 552.2 | ... R44: =R43+$C44 -> 501.3 | S44: =S43+$C43 -> 473.9 | T44: =T43+$C44 -> 452.2 | U44: =U43+$C44 -> 428 | V44: =V43+$C44 -> 403.7 | W44: =W43+$C44 -> 377.2 | X44: =X43+$C44 -> 353.2 | Y44: =Y43+$C44 -> 326.9 | Z44: =Z43+$C44 -> 300.5 | AA44: =AA43+$C44 -> 273.4 | ... AJ44: =AJ43+$C44 -> 29.3
B45: 14日 | C45: =IF('使用DATA（平均気温入力用）'!C47=0,'使用DATA（平均気温入力用）'!D47,'使用DATA（平均気温入力用）'!C47) -> 27.9 | D45: =D44+C45 -> 903.5 | E45: =E44+C45 -> 879 | F45: =F44+C45 -> 855.1 | G45: =G44+C45 -> 828.7 | H45: =H44+C45 -> 800.1 | I45: =I44+$C45 -> 773.3 | J45: =J44+$C45 -> 746.4 | K45: =K44+$C45 -> 718.3 | L45: =L44+$C45 -> 690.8 | M45: =M44+$C45 -> 662.4 | N45: =N44+$C45 -> 635 | O45: =O44+$C45 -> 607.2 | P45: =P44+$C45 -> 580.1 | ... R45: =R44+$C45 -> 529.2 | S45: =S44+$C44 -> 503.2 | T45: =T44+$C45 -> 480.1 | U45: =U44+$C45 -> 455.9 | V45: =V44+$C45 -> 431.6 | W45: =W44+$C45 -> 405.1 | X45: =X44+$C45 -> 381.1 | Y45: =Y44+$C45 -> 354.8 | Z45: =Z44+$C45 -> 328.4 | AA45: =AA44+$C45 -> 301.3 | ... AK45: =AK44+$C45 -> 27.9
B46: 15日 | C46: =IF('使用DATA（平均気温入力用）'!C48=0,'使用DATA（平均気温入力用）'!D48,'使用DATA（平均気温入力用）'!C48) -> 28.4 | D46: =D45+C46 -> 931.9 | E46: =E45+C46 -> 907.4 | F46: =F45+C46 -> 883.5 | G46: =G45+C46 -> 857.1 | H46: =H45+C46 -> 828.5 | I46: =I45+$C46 -> 801.7 | J46: =J45+$C46 -> 774.8 | K46: =K45+$C46 -> 746.7 | L46: =L45+$C46 -> 719.2 | M46: =M45+$C46 -> 690.8 | N46: =N45+$C46 -> 663.4 | O46: =O45+$C46 -> 635.6 | P46: =P45+$C46 -> 608.5 | ... R46: =R45+$C46 -> 557.6 | S46: =S45+$C45 -> 531.1 | T46: =T45+$C46 -> 508.5 | U46: =U45+$C46 -> 484.3 | V46: =V45+$C46 -> 460 | W46: =W45+$C46 -> 433.5 | X46: =X45+$C46 -> 409.5 | Y46: =Y45+$C46 -> 383.2 | Z46: =Z45+$C46 -> 356.8 | AA46: =AA45+$C46 -> 329.7 | ... AL46: =AL45+$C46 -> 28.4
A47: 8月 | B47: 16日 | C47: =IF('使用DATA（平均気温入力用）'!C49=0,'使用DATA（平均気温入力用）'!D49,'使用DATA（平均気温入力用）'!C49) -> 27.8 | D47: =D46+C47 -> 959.7 | E47: =E46+C47 -> 935.2 | F47: =F46+C47 -> 911.3 | G47: =G46+C47 -> 884.9 | H47: =H46+C47 -> 856.3 | I47: =I46+$C47 -> 829.5 | J47: =J46+$C47 -> 802.6 | K47: =K46+$C47 -> 774.5 | L47: =L46+$C47 -> 747 | M47: =M46+$C47 -> 718.6 | N47: =N46+$C47 -> 691.2 | O47: =O46+$C47 -> 663.4 | P47: =P46+$C47 -> 636.3 | ... R47: =R46+$C47 -> 585.4 | S47: =S46+$C46 -> 559.5 | T47: =T46+$C47 -> 536.3 | U47: =U46+$C47 -> 512.1 | V47: =V46+$C47 -> 487.8 | W47: =W46+$C47 -> 461.3 | X47: =X46+$C47 -> 437.3 | Y47: =Y46+$C47 -> 411 | Z47: =Z46+$C47 -> 384.6 | AA47: =AA46+$C47 -> 357.5 | ... AM47: =AM46+$C47 -> 27.8
B48: 17日 | C48: =IF('使用DATA（平均気温入力用）'!C50=0,'使用DATA（平均気温入力用）'!D50,'使用DATA（平均気温入力用）'!C50) -> 27.2 | D48: =D47+C48 -> 986.9 | E48: =E47+C48 -> 962.4 | F48: =F47+C48 -> 938.5 | G48: =G47+C48 -> 912.1 | H48: =H47+C48 -> 883.5 | I48: =I47+$C48 -> 856.7 | J48: =J47+$C48 -> 829.8 | K48: =K47+$C48 -> 801.7 | L48: =L47+$C48 -> 774.2 | M48: =M47+$C48 -> 745.8 | N48: =N47+$C48 -> 718.4 | O48: =O47+$C48 -> 690.6 | P48: =P47+$C48 -> 663.5 | ... R48: =R47+$C48 -> 612.6 | S48: =S47+$C47 -> 587.3 | T48: =T47+$C48 -> 563.5 | U48: =U47+$C48 -> 539.3 | V48: =V47+$C48 -> 515 | W48: =W47+$C48 -> 488.5 | X48: =X47+$C48 -> 464.5 | Y48: =Y47+$C48 -> 438.2 | Z48: =Z47+$C48 -> 411.8 | AA48: =AA47+$C48 -> 384.7 | ... AN48: =AN47+$C48 -> 27.2
B49: 18日 | C49: =IF('使用DATA（平均気温入力用）'!C51=0,'使用DATA（平均気温入力用）'!D51,'使用DATA（平均気温入力用）'!C51) -> 27.4 | D49: =D48+C49 -> 1014.3 | E49: =E48+C49 -> 989.8 | F49: =F48+C49 -> 965.9 | G49: =G48+C49 -> 939.5 | H49: =H48+C49 -> 910.9 | I49: =I48+$C49 -> 884.1 | J49: =J48+$C49 -> 857.2 | K49: =K48+$C49 -> 829.1 | L49: =L48+$C49 -> 801.6 | M49: =M48+$C49 -> 773.2 | N49: =N48+$C49 -> 745.8 | O49: =O48+$C49 -> 718 | P49: =P48+$C49 -> 690.9 | ... R49: =R48+$C49 -> 640 | S49: =S48+$C48 -> 614.5 | T49: =T48+$C49 -> 590.9 | U49: =U48+$C49 -> 566.7 | V49: =V48+$C49 -> 542.4 | W49: =W48+$C49 -> 515.9 | X49: =X48+$C49 -> 491.9 | Y49: =Y48+$C49 -> 465.6 | Z49: =Z48+$C49 -> 439.2 | AA49: =AA48+$C49 -> 412.1 | ... AO49: =AO48+$C49 -> 27.4
B50: 19日 | C50: =IF('使用DATA（平均気温入力用）'!C52=0,'使用DATA（平均気温入力用）'!D52,'使用DATA（平均気温入力用）'!C52) -> 27.7 | D50: =D49+C50 -> 1042 | E50: =E49+C50 -> 1017.5 | F50: =F49+C50 -> 993.6 | G50: =G49+C50 -> 967.2 | H50: =H49+C50 -> 938.6 | I50: =I49+$C50 -> 911.8 | J50: =J49+$C50 -> 884.9 | K50: =K49+$C50 -> 856.8 | L50: =L49+$C50 -> 829.3 | M50: =M49+$C50 -> 800.9 | N50: =N49+$C50 -> 773.5 | O50: =O49+$C50 -> 745.7 | P50: =P49+$C50 -> 718.6 | ... AP50: =AP49+$C50 -> 27.7
B51: 20日 | C51: =IF('使用DATA（平均気温入力用）'!C53=0,'使用DATA（平均気温入力用）'!D53,'使用DATA（平均気温入力用）'!C53) -> 26.9 | D51: =D50+C51 -> 1068.9 | E51: =E50+C51 -> 1044.4 | F51: =F50+C51 -> 1020.5 | G51: =G50+C51 -> 994.1 | H51: =H50+C51 -> 965.5 | I51: =I50+$C51 -> 938.7 | J51: =J50+$C51 -> 911.8 | K51: =K50+$C51 -> 883.7 | L51: =L50+$C51 -> 856.2 | M51: =M50+$C51 -> 827.8 | N51: =N50+$C51 -> 800.4 | O51: =O50+$C51 -> 772.6 | P51: =P50+$C51 -> 745.5 | ... AQ51: =AQ50+$C51 -> 26.9
B52: 21日 | C52: =IF('使用DATA（平均気温入力用）'!C54=0,'使用DATA（平均気温入力用）'!D54,'使用DATA（平均気温入力用）'!C54) -> 25.3 | D52: =D51+C52 -> 1094.2 | E52: =E51+C52 -> 1069.7 | F52: =F51+C52 -> 1045.8 | G52: =G51+C52 -> 1019.4 | H52: =H51+C52 -> 990.8 | I52: =I51+$C52 -> 964 | J52: =J51+$C52 -> 937.1 | K52: =K51+$C52 -> 909 | L52: =L51+$C52 -> 881.5 | M52: =M51+$C52 -> 853.1 | N52: =N51+$C52 -> 825.7 | O52: =O51+$C52 -> 797.9 | P52: =P51+$C52 -> 770.8 | ... AR52: =AR51+$C52 -> 25.3
B53: 22日 | C53: =IF('使用DATA（平均気温入力用）'!C55=0,'使用DATA（平均気温入力用）'!D55,'使用DATA（平均気温入力用）'!C55) -> 25.6 | D53: =D52+C53 -> 1119.8 | E53: =E52+C53 -> 1095.3 | F53: =F52+C53 -> 1071.4 | G53: =G52+C53 -> 1045 | H53: =H52+C53 -> 1016.4 | I53: =I52+$C53 -> 989.6 | J53: =J52+$C53 -> 962.7 | K53: =K52+$C53 -> 934.6 | L53: =L52+$C53 -> 907.1 | M53: =M52+$C53 -> 878.7 | N53: =N52+$C53 -> 851.3 | O53: =O52+$C53 -> 823.5 | P53: =P52+$C53 -> 796.4 | ... AR53: =AR52+$C53 -> 50.9
B54: 23日 | C54: =IF('使用DATA（平均気温入力用）'!C56=0,'使用DATA（平均気温入力用）'!D56,'使用DATA（平均気温入力用）'!C56) -> 26 | D54: =D53+C54 -> 1145.8 | E54: =E53+C54 -> 1121.3 | F54: =F53+C54 -> 1097.4 | G54: =G53+C54 -> 1071 | H54: =H53+C54 -> 1042.4 | I54: =I53+$C54 -> 1015.6 | J54: =J53+$C54 -> 988.7 | K54: =K53+$C54 -> 960.6 | L54: =L53+$C54 -> 933.1 | M54: =M53+$C54 -> 904.7 | N54: =N53+$C54 -> 877.3 | O54: =O53+$C54 -> 849.5 | P54: =P53+$C54 -> 822.4 | ... AR54: =AR53+$C54 -> 76.9
B55: 24日 | C55: =IF('使用DATA（平均気温入力用）'!C57=0,'使用DATA（平均気温入力用）'!D57,'使用DATA（平均気温入力用）'!C57) -> 27.2 | D55: =D54+C55 -> 1173 | E55: =E54+C55 -> 1148.5 | F55: =F54+C55 -> 1124.6 | G55: =G54+C55 -> 1098.2 | H55: =H54+C55 -> 1069.6 | I55: =I54+$C55 -> 1042.8 | J55: =J54+$C55 -> 1015.9 | K55: =K54+$C55 -> 987.8 | L55: =L54+$C55 -> 960.3 | M55: =M54+$C55 -> 931.9 | N55: =N54+$C55 -> 904.5 | O55: =O54+$C55 -> 876.7 | P55: =P54+$C55 -> 849.6 | ... AR55: =AR54+$C55 -> 104.1
B56: 25日 | C56: =IF('使用DATA（平均気温入力用）'!C58=0,'使用DATA（平均気温入力用）'!D58,'使用DATA（平均気温入力用）'!C58) -> 28.1 | D56: =D55+C56 -> 1201.1 | E56: =E55+C56 -> 1176.6 | F56: =F55+C56 -> 1152.7 | G56: =G55+C56 -> 1126.3 | H56: =H55+C56 -> 1097.7 | I56: =I55+$C56 -> 1070.9 | J56: =J55+$C56 -> 1044 | K56: =K55+$C56 -> 1015.9 | L56: =L55+$C56 -> 988.4 | M56: =M55+$C56 -> 960 | N56: =N55+$C56 -> 932.6 | O56: =O55+$C56 -> 904.8 | P56: =P55+$C56 -> 877.7 | ... AR56: =AR55+$C56 -> 132.2
B57: 26日 | C57: =IF('使用DATA（平均気温入力用）'!C59=0,'使用DATA（平均気温入力用）'!D59,'使用DATA（平均気温入力用）'!C59) -> 27.5 | D57: =D56+C57 -> 1228.6 | E57: =E56+C57 -> 1204.1 | F57: =F56+C57 -> 1180.2 | G57: =G56+C57 -> 1153.8 | H57: =H56+C57 -> 1125.2 | I57: =I56+$C57 -> 1098.4 | J57: =J56+$C57 -> 1071.5 | K57: =K56+$C57 -> 1043.4 | L57: =L56+$C57 -> 1015.9 | M57: =M56+$C57 -> 987.5 | N57: =N56+$C57 -> 960.1 | O57: =O56+$C57 -> 932.3 | P57: =P56+$C57 -> 905.2 | ... AR57: =AR56+$C57 -> 159.7
B58: 27日 | C58: =IF('使用DATA（平均気温入力用）'!C60=0,'使用DATA（平均気温入力用）'!D60,'使用DATA（平均気温入力用）'!C60) -> 23.8 | D58: =D57+C58 -> 1252.4 | E58: =E57+C58 -> 1227.9 | F58: =F57+C58 -> 1204 | G58: =G57+C58 -> 1177.6 | H58: =H57+C58 -> 1149 | I58: =I57+$C58 -> 1122.2 | J58: =J57+$C58 -> 1095.3 | K58: =K57+$C58 -> 1067.2 | L58: =L57+$C58 -> 1039.7 | M58: =M57+$C58 -> 1011.3 | N58: =N57+$C58 -> 983.9 | O58: =O57+$C58 -> 956.1 | P58: =P57+$C58 -> 929 | ... AR58: =AR57+$C58 -> 183.5
B59: 28日 | C59: =IF('使用DATA（平均気温入力用）'!C61=0,'使用DATA（平均気温入力用）'!D61,'使用DATA（平均気温入力用）'!C61) -> 24.7 | D59: =D58+C59 -> 1277.1 | E59: =E58+C59 -> 1252.6 | F59: =F58+C59 -> 1228.7 | G59: =G58+C59 -> 1202.3 | H59: =H58+C59 -> 1173.7 | I59: =I58+$C59 -> 1146.9 | J59: =J58+$C59 -> 1120 | K59: =K58+$C59 -> 1091.9 | L59: =L58+$C59 -> 1064.4 | M59: =M58+$C59 -> 1036 | N59: =N58+$C59 -> 1008.6 | O59: =O58+$C59 -> 980.8 | P59: =P58+$C59 -> 953.7 | ... AR59: =AR58+$C59 -> 208.2
B60: 29日 | C60: =IF('使用DATA（平均気温入力用）'!C62=0,'使用DATA（平均気温入力用）'!D62,'使用DATA（平均気温入力用）'!C62) -> 21.1 | D60: =D59+C60 -> 1298.2 | E60: =E59+C60 -> 1273.7 | F60: =F59+C60 -> 1249.8 | G60: =G59+C60 -> 1223.4 | H60: =H59+C60 -> 1194.8 | I60: =I59+$C60 -> 1168 | J60: =J59+$C60 -> 1141.1 | K60: =K59+$C60 -> 1113 | L60: =L59+$C60 -> 1085.5 | M60: =M59+$C60 -> 1057.1 | N60: =N59+$C60 -> 1029.7 | O60: =O59+$C60 -> 1001.9 | P60: =P59+$C60 -> 974.8 | ... AR60: =AR59+$C60 -> 229.3
B61: 30日 | C61: =IF('使用DATA（平均気温入力用）'!C63=0,'使用DATA（平均気温入力用）'!D63,'使用DATA（平均気温入力用）'!C63) -> 21.9 | D61: =D60+C61 -> 1320.1 | E61: =E60+C61 -> 1295.6 | F61: =F60+C61 -> 1271.7 | G61: =G60+C61 -> 1245.3 | H61: =H60+C61 -> 1216.7 | I61: =I60+$C61 -> 1189.9 | J61: =J60+$C61 -> 1163 | K61: =K60+$C61 -> 1134.9 | L61: =L60+$C61 -> 1107.4 | M61: =M60+$C61 -> 1079 | N61: =N60+$C61 -> 1051.6 | O61: =O60+$C61 -> 1023.8 | P61: =P60+$C61 -> 996.7 | ... AR61: =AR60+$C61 -> 251.2
B62: 31日 | C62: =IF('使用DATA（平均気温入力用）'!C64=0,'使用DATA（平均気温入力用）'!D64,'使用DATA（平均気温入力用）'!C64) -> 25.8 | D62: =D61+C62 -> 1345.9 | E62: =E61+C62 -> 1321.4 | F62: =F61+C62 -> 1297.5 | G62: =G61+C62 -> 1271.1 | H62: =H61+C62 -> 1242.5 | I62: =I61+$C62 -> 1215.7 | J62: =J61+$C62 -> 1188.8 | K62: =K61+$C62 -> 1160.7 | L62: =L61+$C62 -> 1133.2 | M62: =M61+$C62 -> 1104.8 | N62: =N61+$C62 -> 1077.4 | O62: =O61+$C62 -> 1049.6 | P62: =P61+$C62 -> 1022.5 | ... AR62: =AR61+$C62 -> 277
A63: ９月 | B63: 1日 | C63: =IF('使用DATA（平均気温入力用）'!C65=0,'使用DATA（平均気温入力用）'!D65,'使用DATA（平均気温入力用）'!C65) -> 25.6 | D63: =D62+C63 -> 1371.5 | E63: =E62+C63 -> 1347 | F63: =F62+C63 -> 1323.1 | G63: =G62+C63 -> 1296.7 | H63: =H62+C63 -> 1268.1 | I63: =I62+$C63 -> 1241.3 | J63: =J62+$C63 -> 1214.4 | K63: =K62+$C63 -> 1186.3 | L63: =L62+$C63 -> 1158.8 | M63: =M62+$C63 -> 1130.4 | N63: =N62+$C63 -> 1103 | O63: =O62+$C63 -> 1075.2 | P63: =P62+$C63 -> 1048.1 | ... AR63: =AR62+$C63 -> 302.6
B64: 2日 | C64: =IF('使用DATA（平均気温入力用）'!C66=0,'使用DATA（平均気温入力用）'!D66,'使用DATA（平均気温入力用）'!C66) -> 25.3 | D64: =D63+C64 -> 1396.8 | E64: =E63+C64 -> 1372.3 | F64: =F63+C64 -> 1348.4 | G64: =G63+C64 -> 1322 | H64: =H63+C64 -> 1293.4 | I64: =I63+$C64 -> 1266.6 | J64: =J63+$C64 -> 1239.7 | K64: =K63+$C64 -> 1211.6 | L64: =L63+$C64 -> 1184.1 | M64: =M63+$C64 -> 1155.7 | N64: =N63+$C64 -> 1128.3 | O64: =O63+$C64 -> 1100.5 | P64: =P63+$C64 -> 1073.4 | ... AR64: =AR63+$C64 -> 327.9
B65: 3日 | C65: =IF('使用DATA（平均気温入力用）'!C67=0,'使用DATA（平均気温入力用）'!D67,'使用DATA（平均気温入力用）'!C67) -> 23.1 | D65: =D64+C65 -> 1419.9 | E65: =E64+C65 -> 1395.4 | F65: =F64+C65 -> 1371.5 | G65: =G64+C65 -> 1345.1 | H65: =H64+C65 -> 1316.5 | I65: =I64+$C65 -> 1289.7 | J65: =J64+$C65 -> 1262.8 | K65: =K64+$C65 -> 1234.7 | L65: =L64+$C65 -> 1207.2 | M65: =M64+$C65 -> 1178.8 | N65: =N64+$C65 -> 1151.4 | O65: =O64+$C65 -> 1123.6 | P65: =P64+$C65 -> 1096.5 | ... AR65: =AR64+$C65 -> 351
B66: 4日 | C66: =IF('使用DATA（平均気温入力用）'!C68=0,'使用DATA（平均気温入力用）'!D68,'使用DATA（平均気温入力用）'!C68) -> 22.3 | D66: =D65+C66 -> 1442.2 | E66: =E65+C66 -> 1417.7 | F66: =F65+C66 -> 1393.8 | G66: =G65+C66 -> 1367.4 | H66: =H65+C66 -> 1338.8 | I66: =I65+$C66 -> 1312 | J66: =J65+$C66 -> 1285.1 | K66: =K65+$C66 -> 1257 | L66: =L65+$C66 -> 1229.5 | M66: =M65+$C66 -> 1201.1 | N66: =N65+$C66 -> 1173.7 | O66: =O65+$C66 -> 1145.9 | P66: =P65+$C66 -> 1118.8 | ... AR66: =AR65+$C66 -> 373.3
B67: 5日 | C67: =IF('使用DATA（平均気温入力用）'!C69=0,'使用DATA（平均気温入力用）'!D69,'使用DATA（平均気温入力用）'!C69) -> 21.5 | D67: =D66+C67 -> 1463.7 | E67: =E66+C67 -> 1439.2 | F67: =F66+C67 -> 1415.3 | G67: =G66+C67 -> 1388.9 | H67: =H66+C67 -> 1360.3 | I67: =I66+$C67 -> 1333.5 | J67: =J66+$C67 -> 1306.6 | K67: =K66+$C67 -> 1278.5 | L67: =L66+$C67 -> 1251 | M67: =M66+$C67 -> 1222.6 | N67: =N66+$C67 -> 1195.2 | O67: =O66+$C67 -> 1167.4 | P67: =P66+$C67 -> 1140.3 | ... AR67: =AR66+$C67 -> 394.8
B68: 6日 | C68: =IF('使用DATA（平均気温入力用）'!C70=0,'使用DATA（平均気温入力用）'!D70,'使用DATA（平均気温入力用）'!C70) -> 23.3 | D68: =D67+C68 -> 1487 | E68: =E67+C68 -> 1462.5 | F68: =F67+C68 -> 1438.6 | G68: =G67+C68 -> 1412.2 | H68: =H67+C68 -> 1383.6 | I68: =I67+$C68 -> 1356.8 | J68: =J67+$C68 -> 1329.9 | K68: =K67+$C68 -> 1301.8 | L68: =L67+$C68 -> 1274.3 | M68: =M67+$C68 -> 1245.9 | N68: =N67+$C68 -> 1218.5 | O68: =O67+$C68 -> 1190.7 | P68: =P67+$C68 -> 1163.6 | ... AR68: =AR67+$C68 -> 418.1
B69: 7日 | C69: =IF('使用DATA（平均気温入力用）'!C71=0,'使用DATA（平均気温入力用）'!D71,'使用DATA（平均気温入力用）'!C71) -> 24.4 | D69: =D68+C69 -> 1511.4 | E69: =E68+C69 -> 1486.9 | F69: =F68+C69 -> 1463 | G69: =G68+C69 -> 1436.6 | H69: =H68+C69 -> 1408 | I69: =I68+$C69 -> 1381.2 | J69: =J68+$C69 -> 1354.3 | K69: =K68+$C69 -> 1326.2 | L69: =L68+$C69 -> 1298.7 | M69: =M68+$C69 -> 1270.3 | N69: =N68+$C69 -> 1242.9 | O69: =O68+$C69 -> 1215.1 | P69: =P68+$C69 -> 1188 | ... AR69: =AR68+$C69 -> 442.5
B70: 8日 | C70: =IF('使用DATA（平均気温入力用）'!C72=0,'使用DATA（平均気温入力用）'!D72,'使用DATA（平均気温入力用）'!C72) -> 23.5 | D70: =D69+C70 -> 1534.9 | E70: =E69+C70 -> 1510.4 | F70: =F69+C70 -> 1486.5 | G70: =G69+C70 -> 1460.1 | H70: =H69+C70 -> 1431.5 | I70: =I69+$C70 -> 1404.7 | J70: =J69+$C70 -> 1377.8 | K70: =K69+$C70 -> 1349.7 | L70: =L69+$C70 -> 1322.2 | M70: =M69+$C70 -> 1293.8 | N70: =N69+$C70 -> 1266.4 | O70: =O69+$C70 -> 1238.6 | P70: =P69+$C70 -> 1211.5 | ... AR70: =AR69+$C70 -> 466
B71: 9日 | C71: =IF('使用DATA（平均気温入力用）'!C73=0,'使用DATA（平均気温入力用）'!D73,'使用DATA（平均気温入力用）'!C73) -> 20.3 | D71: =D70+C71 -> 1555.2 | E71: =E70+C71 -> 1530.7 | F71: =F70+C71 -> 1506.8 | G71: =G70+C71 -> 1480.4 | H71: =H70+C71 -> 1451.8 | I71: =I70+$C71 -> 1425 | J71: =J70+$C71 -> 1398.1 | K71: =K70+$C71 -> 1370 | L71: =L70+$C71 -> 1342.5 | M71: =M70+$C71 -> 1314.1 | N71: =N70+$C71 -> 1286.7 | O71: =O70+$C71 -> 1258.9 | P71: =P70+$C71 -> 1231.8 | ... AR71: =AR70+$C71 -> 486.3
B72: 10日 | C72: =IF('使用DATA（平均気温入力用）'!C74=0,'使用DATA（平均気温入力用）'!D74,'使用DATA（平均気温入力用）'!C74) -> 20.1 | D72: =D71+C72 -> 1575.3 | E72: =E71+C72 -> 1550.8 | F72: =F71+C72 -> 1526.9 | G72: =G71+C72 -> 1500.5 | H72: =H71+C72 -> 1471.9 | I72: =I71+$C72 -> 1445.1 | J72: =J71+$C72 -> 1418.2 | K72: =K71+$C72 -> 1390.1 | L72: =L71+$C72 -> 1362.6 | M72: =M71+$C72 -> 1334.2 | N72: =N71+$C72 -> 1306.8 | O72: =O71+$C72 -> 1279 | P72: =P71+$C72 -> 1251.9 | ... AR72: =AR71+$C72 -> 506.4
B73: 11日 | C73: =IF('使用DATA（平均気温入力用）'!C75=0,'使用DATA（平均気温入力用）'!D75,'使用DATA（平均気温入力用）'!C75) -> 20.3 | D73: =D72+C73 -> 1595.6 | E73: =E72+C73 -> 1571.1 | F73: =F72+C73 -> 1547.2 | G73: =G72+C73 -> 1520.8 | H73: =H72+C73 -> 1492.2 | I73: =I72+$C73 -> 1465.4 | J73: =J72+$C73 -> 1438.5 | K73: =K72+$C73 -> 1410.4 | L73: =L72+$C73 -> 1382.9 | M73: =M72+$C73 -> 1354.5 | N73: =N72+$C73 -> 1327.1 | O73: =O72+$C73 -> 1299.3 | P73: =P72+$C73 -> 1272.2 | ... AR73: =AR72+$C73 -> 526.7
B74: 12日 | C74: =IF('使用DATA（平均気温入力用）'!C76=0,'使用DATA（平均気温入力用）'!D76,'使用DATA（平均気温入力用）'!C76) -> 21.8 | D74: =D73+C74 -> 1617.4 | E74: =E73+C74 -> 1592.9 | F74: =F73+C74 -> 1569 | G74: =G73+C74 -> 1542.6 | H74: =H73+C74 -> 1514 | I74: =I73+$C74 -> 1487.2 | J74: =J73+$C74 -> 1460.3 | K74: =K73+$C74 -> 1432.2 | L74: =L73+$C74 -> 1404.7 | M74: =M73+$C74 -> 1376.3 | N74: =N73+$C74 -> 1348.9 | O74: =O73+$C74 -> 1321.1 | P74: =P73+$C74 -> 1294 | ... AR74: =AR73+$C74 -> 548.5
B75: 13日 | C75: =IF('使用DATA（平均気温入力用）'!C77=0,'使用DATA（平均気温入力用）'!D77,'使用DATA（平均気温入力用）'!C77) -> 23.8 | D75: =D74+C75 -> 1641.2 | E75: =E74+C75 -> 1616.7 | F75: =F74+C75 -> 1592.8 | G75: =G74+C75 -> 1566.4 | H75: =H74+C75 -> 1537.8 | I75: =I74+$C75 -> 1511 | J75: =J74+$C75 -> 1484.1 | K75: =K74+$C75 -> 1456 | L75: =L74+$C75 -> 1428.5 | M75: =M74+$C75 -> 1400.1 | N75: =N74+$C75 -> 1372.7 | O75: =O74+$C75 -> 1344.9 | P75: =P74+$C75 -> 1317.8 | ... AR75: =AR74+$C75 -> 572.3
... B92: 30日 | C92: =IF('使用DATA（平均気温入力用）'!C94=0,'使用DATA（平均気温入力用）'!D94,'使用DATA（平均気温入力用）'!C94) -> 18.2 | D92: =D91+C92 -> 1979.9 | E92: =E91+C92 -> 1955.4 | F92: =F91+C92 -> 1931.5 | G92: =G91+C92 -> 1905.1 | H92: =H91+C92 -> 1876.5 | I92: =I91+$C92 -> 1849.7 | J92: =J91+$C92 -> 1822.8 | K92: =K91+$C92 -> 1794.7 | L92: =L91+$C92 -> 1767.2 | M92: =M91+$C92 -> 1738.8 | N92: =N91+$C92 -> 1711.4 | O92: =O91+$C92 -> 1683.6 | P92: =P91+$C92 -> 1656.5 | ... AR92: =AR91+$C92 -> 911
A93: 10月 | B93: 1日 | C93: =IF('使用DATA（平均気温入力用）'!C95=0,'使用DATA（平均気温入力用）'!D95,'使用DATA（平均気温入力用）'!C95) -> 18 | I93: =I92+$C93 -> 1867.7 | J93: =J92+$C93 -> 1840.8 | K93: =K92+$C93 -> 1812.7 | L93: =L92+$C93 -> 1785.2 | M93: =M92+$C93 -> 1756.8 | N93: =N92+$C93 -> 1729.4 | O93: =O92+$C93 -> 1701.6 | P93: =P92+$C93 -> 1674.5 | ... AR93: =AR92+$C93 -> 929
B94: 2日 | C94: =IF('使用DATA（平均気温入力用）'!C96=0,'使用DATA（平均気温入力用）'!D96,'使用DATA（平均気温入力用）'!C96) -> 17.9 | I94: =I93+$C94 -> 1885.6 | J94: =J93+$C94 -> 1858.7 | K94: =K93+$C94 -> 1830.6 | L94: =L93+$C94 -> 1803.1 | M94: =M93+$C94 -> 1774.7 | N94: =N93+$C94 -> 1747.3 | O94: =O93+$C94 -> 1719.5 | P94: =P93+$C94 -> 1692.4 | ... AR94: =AR93+$C94 -> 946.9
B95: 3日 | C95: =IF('使用DATA（平均気温入力用）'!C97=0,'使用DATA（平均気温入力用）'!D97,'使用DATA（平均気温入力用）'!C97) -> 17.7 | I95: =I94+$C95 -> 1903.3 | J95: =J94+$C95 -> 1876.4 | K95: =K94+$C95 -> 1848.3 | L95: =L94+$C95 -> 1820.8 | M95: =M94+$C95 -> 1792.4 | N95: =N94+$C95 -> 1765 | O95: =O94+$C95 -> 1737.2 | P95: =P94+$C95 -> 1710.1 | ... AR95: =AR94+$C95 -> 964.6
B96: 4日 | C96: =IF('使用DATA（平均気温入力用）'!C98=0,'使用DATA（平均気温入力用）'!D98,'使用DATA（平均気温入力用）'!C98) -> 17.5 | I96: =I95+$C96 -> 1920.8 | J96: =J95+$C96 -> 1893.9 | K96: =K95+$C96 -> 1865.8 | L96: =L95+$C96 -> 1838.3 | M96: =M95+$C96 -> 1809.9 | N96: =N95+$C96 -> 1782.5 | O96: =O95+$C96 -> 1754.7 | P96: =P95+$C96 -> 1727.6 | ... AR96: =AR95+$C96 -> 982.1
B97: 5日 | C97: =IF('使用DATA（平均気温入力用）'!C99=0,'使用DATA（平均気温入力用）'!D99,'使用DATA（平均気温入力用）'!C99) -> 17.3 | I97: =I96+$C97 -> 1938.1 | J97: =J96+$C97 -> 1911.2 | K97: =K96+$C97 -> 1883.1 | L97: =L96+$C97 -> 1855.6 | M97: =M96+$C97 -> 1827.2 | N97: =N96+$C97 -> 1799.8 | O97: =O96+$C97 -> 1772 | P97: =P96+$C97 -> 1744.9 | ... AR97: =AR96+$C97 -> 999.4
B98: 6日 | C98: =IF('使用DATA（平均気温入力用）'!C100=0,'使用DATA（平均気温入力用）'!D100,'使用DATA（平均気温入力用）'!C100) -> 17.1 | I98: =I97+$C98 -> 1955.2 | J98: =J97+$C98 -> 1928.3 | K98: =K97+$C98 -> 1900.2 | L98: =L97+$C98 -> 1872.7 | M98: =M97+$C98 -> 1844.3 | N98: =N97+$C98 -> 1816.9 | O98: =O97+$C98 -> 1789.1 | P98: =P97+$C98 -> 1762 | ... AR98: =AR97+$C98 -> 1016.5
B99: 7日 | C99: =IF('使用DATA（平均気温入力用）'!C101=0,'使用DATA（平均気温入力用）'!D101,'使用DATA（平均気温入力用）'!C101) -> 16.9 | I99: =I98+$C99 -> 1972.1 | J99: =J98+$C99 -> 1945.2 | K99: =K98+$C99 -> 1917.1 | L99: =L98+$C99 -> 1889.6 | M99: =M98+$C99 -> 1861.2 | N99: =N98+$C99 -> 1833.8 | O99: =O98+$C99 -> 1806 | P99: =P98+$C99 -> 1778.9 | ... AR99: =AR98+$C99 -> 1033.4
B100: 8日 | C100: =IF('使用DATA（平均気温入力用）'!C102=0,'使用DATA（平均気温入力用）'!D102,'使用DATA（平均気温入力用）'!C102) -> 16.7 | I100: =I99+$C100 -> 1988.8 | J100: =J99+$C100 -> 1961.9 | K100: =K99+$C100 -> 1933.8 | L100: =L99+$C100 -> 1906.3 | M100: =M99+$C100 -> 1877.9 | N100: =N99+$C100 -> 1850.5 | O100: =O99+$C100 -> 1822.7 | P100: =P99+$C100 -> 1795.6 | ... AR100: =AR99+$C100 -> 1050.1
B101: 9日 | C101: =IF('使用DATA（平均気温入力用）'!C103=0,'使用DATA（平均気温入力用）'!D103,'使用DATA（平均気温入力用）'!C103) -> 16.5 | I101: =I100+$C101 -> 2005.3 | J101: =J100+$C101 -> 1978.4 | K101: =K100+$C101 -> 1950.3 | L101: =L100+$C101 -> 1922.8 | M101: =M100+$C101 -> 1894.4 | N101: =N100+$C101 -> 1867 | O101: =O100+$C101 -> 1839.2 | P101: =P100+$C101 -> 1812.1 | ... AR101: =AR100+$C101 -> 1066.6
B102: 10日 | C102: =IF('使用DATA（平均気温入力用）'!C104=0,'使用DATA（平均気温入力用）'!D104,'使用DATA（平均気温入力用）'!C104) -> 16.3 | I102: =I101+$C102 -> 2021.6 | J102: =J101+$C102 -> 1994.7 | K102: =K101+$C102 -> 1966.6 | L102: =L101+$C102 -> 1939.1 | M102: =M101+$C102 -> 1910.7 | N102: =N101+$C102 -> 1883.3 | O102: =O101+$C102 -> 1855.5 | P102: =P101+$C102 -> 1828.4 | ... AR102: =AR101+$C102 -> 1082.9
B103: 11日 | C103: =IF('使用DATA（平均気温入力用）'!C105=0,'使用DATA（平均気温入力用）'!D105,'使用DATA（平均気温入力用）'!C105) -> 16.1 | I103: =I102+$C103 -> 2037.7 | J103: =J102+$C103 -> 2010.8 | K103: =K102+$C103 -> 1982.7 | L103: =L102+$C103 -> 1955.2 | M103: =M102+$C103 -> 1926.8 | N103: =N102+$C103 -> 1899.4 | O103: =O102+$C103 -> 1871.6 | P103: =P102+$C103 -> 1844.5 | ... AR103: =AR102+$C103 -> 1099
B104: 12日 | C104: =IF('使用DATA（平均気温入力用）'!C106=0,'使用DATA（平均気温入力用）'!D106,'使用DATA（平均気温入力用）'!C106) -> 15.9 | I104: =I103+$C104 -> 2053.6 | J104: =J103+$C104 -> 2026.7 | K104: =K103+$C104 -> 1998.6 | L104: =L103+$C104 -> 1971.1 | M104: =M103+$C104 -> 1942.7 | N104: =N103+$C104 -> 1915.3 | O104: =O103+$C104 -> 1887.5 | P104: =P103+$C104 -> 1860.4 | ... AR104: =AR103+$C104 -> 1114.9
B105: 13日 | C105: =IF('使用DATA（平均気温入力用）'!C107=0,'使用DATA（平均気温入力用）'!D107,'使用DATA（平均気温入力用）'!C107) -> 15.6 | I105: =I104+$C105 -> 2069.2 | J105: =J104+$C105 -> 2042.3 | K105: =K104+$C105 -> 2014.2 | L105: =L104+$C105 -> 1986.7 | M105: =M104+$C105 -> 1958.3 | N105: =N104+$C105 -> 1930.9 | O105: =O104+$C105 -> 1903.1 | P105: =P104+$C105 -> 1876 | ... AR105: =AR104+$C105 -> 1130.5
... B107: 15日 | C107: =IF('使用DATA（平均気温入力用）'!C109=0,'使用DATA（平均気温入力用）'!D109,'使用DATA（平均気温入力用）'!C109) -> 15.2 | I107: =I106+$C107 -> 2099.8 | J107: =J106+$C107 -> 2072.9 | K107: =K106+$C107 -> 2044.8 | L107: =L106+$C107 -> 2017.3 | M107: =M106+$C107 -> 1988.9 | N107: =N106+$C107 -> 1961.5 | O107: =O106+$C107 -> 1933.7 | P107: =P106+$C107 -> 1906.6 | ... AR107: =AR106+$C107 -> 1161.1

Sheet 使用DATA（平均気温入力用）
B1: 2026(R8) | C1: 村上アメダス
A2: 月 | B2: 日 | C2: 平均気温 | E2: =SUBTOTAL(101,E18:E125) -> -6.6560748
C3: (℃) | D3: 平年値 | E3: 平年差 | I3: 平年 | J3: 0-19
B7: 5日 | C7: 25.4
B8: 6日 | C8: 24.4
B9: 7日 | C9: 25.9 | L9: ＊ 高温登熟年の判断
B10: 8日 | C10: 25.5 | L10: 高温登熟年とは、出穂期５～24日後の20日間の平均気温が概ね26℃を超える年
B11: 9日 | C11: 26.8
B12: 10日 | C12: 27.4 | L12: 出穂期 | M12: 出穂期5日後 | N12: 出穂期24日後
B13: 11日 | C13: 25.5 | L13: 46214 | M13: =L13+5 -> 46219 | N13: =L13+24 -> 46238 | O13: =SUM(H18:H37) -> 525.6 | P13: =O13/20 -> 26.28 | Q13: *太字は確定
B14: 12日 | C14: 24.5 | L14: 46215 | M14: =L14+5 -> 46220 | N14: =L14+24 -> 46239 | O14: =SUM(H19:H38) -> 525.2 | P14: =O14/20 -> 26.26
B15: 13日 | C15: 23.9 | L15: 46216 | M15: =L15+5 -> 46221 | N15: =L15+24 -> 46240 | O15: =SUM(H20:H39) -> 526.9 | P15: =O15/20 -> 26.345
B16: 14日 | C16: 26.4 | L16: 46217 | M16: =L16+5 -> 46222 | N16: =L16+24 -> 46241 | O16: =SUM(H21:H40) -> 528.6 | P16: =O16/20 -> 26.43
B17: 15日 | C17: 28.6 | G17: 高温登熟判定用 | L17: 46218 | M17: =L17+5 -> 46223 | N17: =L17+24 -> 46242 | O17: =SUM(H22:H41) -> 529.5 | P17: =O17/20 -> 26.475
A18: ７月 | B18: 16日 | C18: 26.8 | D18: 23.9 | E18: =IF(C18=D18,"",C18-D18) -> 2.9 | H18: =C18 -> 26.8 | I18: =AVERAGE(Y40:Y59) -> 25.775 | J18: =AVERAGE(C18:C37) -> 26.28 | L18: 46219 | M18: =L18+5 -> 46224 | N18: =L18+24 -> 46243 | O18: =SUM(H23:H42) -> 527.6 | P18: =O18/20 -> 26.38
B19: 17日 | C19: 26.9 | D19: 24 | E19: =IF(C19=D19,"",C19-D19) -> 2.9 | H19: =C19 -> 26.9 | J19: =AVERAGE(C19:C38) -> 26.26 | L19: 46220 | M19: =L19+5 -> 46225 | N19: =L19+24 -> 46244 | O19: =SUM(H24:H43) -> 525.5 | P19: =O19/20 -> 26.275 | Y19: 村上平年値
B20: 18日 | C20: 28.1 | D20: 24.2 | E20: =IF(C20=D20,"",C20-D20) -> 3.9 | H20: =C20 -> 28.1 | J20: =AVERAGE(C20:C39) -> 26.345 | L20: 46221 | M20: =L20+5 -> 46226 | N20: =L20+24 -> 46245 | O20: =SUM(H25:H44) -> 521.9 | P20: =O20/20 -> 26.095 | X20: 42186 | Y20: 22.2
B21: 19日 | C21: 27.5 | D21: 24.3 | E21: =IF(C21=D21,"",C21-D21) -> 3.2 | H21: =C21 -> 27.5 | J21: =AVERAGE(C21:C40) -> 26.43 | L21: 46222 | M21: =L21+5 -> 46227 | N21: =L21+24 -> 46246 | O21: =SUM(H26:H45) -> 522.9 | P21: =O21/20 -> 26.145 | X21: 42187 | Y21: 22.3
B22: 20日 | C22: 28.4 | D22: 24.5 | E22: =IF(C22=D22,"",C22-D22) -> 3.9 | H22: =C22 -> 28.4 | J22: =AVERAGE(C22:C41) -> 26.475 | L22: 46223 | M22: =L22+5 -> 46228 | N22: =L22+24 -> 46247 | O22: =SUM(H27:H46) -> 527.3 | P22: =O22/20 -> 26.365 | X22: 42188 | Y22: 22.4
B23: 21日 | C23: 27.4 | D23: 24.7 | E23: =IF(C23=D23,"",C23-D23) -> 2.7 | H23: =C23 -> 27.4 | J23: =AVERAGE(C23:C42) -> 26.38 | L23: 46224 | M23: =L23+5 -> 46229 | N23: =L23+24 -> 46248 | O23: =SUM(H28:H47) -> 529.2 | P23: =O23/20 -> 26.46 | X23: 42189 | Y23: 22.5
B24: 22日 | C24: 27.8 | D24: 24.8 | E24: =IF(C24=D24,"",C24-D24) -> 3 | H24: =C24 -> 27.8 | J24: =AVERAGE(C24:C43) -> 26.275 | L24: 46225 | M24: =L24+5 -> 46230 | N24: =L24+24 -> 46249 | O24: =SUM(H29:H48) -> 533 | P24: =O24/20 -> 26.65 | X24: 42190 | Y24: 22.6
B25: 23日 | C25: 27.1 | D25: 25 | E25: =IF(C25=D25,"",C25-D25) -> 2.1 | H25: =C25 -> 27.1 | J25: =AVERAGE(C25:C44) -> 26.095 | L25: 46226 | M25: =L25+5 -> 46231 | N25: =L25+24 -> 46250 | O25: =SUM(H30:H49) -> 536.3 | P25: =O25/20 -> 26.815 | X25: 42191 | Y25: 22.7
B26: 24日 | C26: 24.9 | D26: 25.2 | E26: =IF(C26=D26,"",C26-D26) -> -0.3 | H26: =C26 -> 24.9 | J26: =AVERAGE(C26:C45) -> 26.145 | L26: 46227 | M26: =L26+5 -> 46232 | N26: =L26+24 -> 46251 | O26: =SUM(H31:H50) -> 539.3 | P26: =O26/20 -> 26.965 | X26: 42192 | Y26: 22.8
B27: 25日 | C27: 26 | D27: 25.4 | E27: =IF(C27=D27,"",C27-D27) -> 0.6 | H27: =C27 -> 26 | J27: =AVERAGE(C27:C46) -> 26.365 | L27: 46228 | M27: =L27+5 -> 46233 | N27: =L27+24 -> 46252 | O27: =SUM(H32:H51) -> 542.4 | P27: =O27/20 -> 27.12 | X27: 42193 | Y27: 22.9
B28: 26日 | C28: 24.6 | D28: 25.5 | E28: =IF(C28=D28,"",C28-D28) -> -0.9 | H28: =C28 -> 24.6 | J28: =AVERAGE(C28:C47) -> 26.46 | L28: 46229 | M28: =L28+5 -> 46234 | N28: =L28+24 -> 46253 | O28: =SUM(H33:H52) -> 543.6 | P28: =O28/20 -> 27.18 | X28: 42194 | Y28: 23
B29: 27日 | C29: 24.5 | D29: 25.6 | E29: =IF(C29=D29,"",C29-D29) -> -1.1 | H29: =C29 -> 24.5 | J29: =AVERAGE(C29:C48) -> 26.65 | L29: 46230 | M29: =L29+5 -> 46235 | N29: =L29+24 -> 46254 | O29: =SUM(H34:H53) -> 546.5 | P29: =O29/20 -> 27.325 | X29: 42195 | Y29: 23.1
B30: 28日 | C30: 24.2 | D30: 25.8 | E30: =IF(C30=D30,"",C30-D30) -> -1.6 | H30: =C30 -> 24.2 | J30: =AVERAGE(C30:C49) -> 26.815 | L30: 46231 | M30: =L30+5 -> 46236 | N30: =L30+24 -> 46255 | O30: =SUM(H35:H54) -> 545.5 | P30: =O30/20 -> 27.275 | X30: 42196 | Y30: 23.2
B31: 29日 | C31: 24.3 | D31: 25.9 | E31: =IF(C31=D31,"",C31-D31) -> -1.6 | H31: =C31 -> 24.3 | J31: =AVERAGE(C31:C50) -> 26.965 | L31: 46232 | M31: =L31+5 -> 46237 | N31: =L31+24 -> 46256 | O31: =SUM(H36:H55) -> 544.7 | P31: =O31/20 -> 27.235 | X31: 42197 | Y31: 23.3
... B33: 31日 | C33: 24 | D33: 26.1 | E33: =IF(C33=D33,"",C33-D33) -> -2.1 | H33: =C33 -> 24 | J33: =AVERAGE(C33:C52) -> 27.18 | L33: 46234 | M33: =L33+5 -> 46239 | N33: =L33+24 -> 46258 | O33: =SUM(H38:H57) -> 544 | P33: =O33/20 -> 27.2 | X33: 42199 | Y33: 23.6
A34: ８月 | B34: 1日 | C34: 26.3 | D34: 26.1 | E34: =IF(C34=D34,"",C34-D34) -> 0.2 | H34: =C34 -> 26.3 | J34: =AVERAGE(C34:C53) -> 27.325 | L34: 46235 | M34: =L34+5 -> 46240 | N34: =L34+24 -> 46259 | O34: =SUM(H39:H58) -> 545.7 | P34: =O34/20 -> 27.285 | X34: 42200 | Y34: 23.7
B35: 2日 | C35: 26.4 | D35: 26.2 | E35: =IF(C35=D35,"",C35-D35) -> 0.2 | H35: =C35 -> 26.4 | J35: =AVERAGE(C35:C54) -> 27.275 | L35: 46236 | M35: =L35+5 -> 46241 | N35: =L35+24 -> 46260 | O35: =SUM(H40:H59) -> 544.6 | P35: =O35/20 -> 27.23 | X35: 42201 | Y35: 23.9
B36: 3日 | C36: 27.1 | D36: 26.2 | E36: =IF(C36=D36,"",C36-D36) -> 0.9 | H36: =C36 -> 27.1 | J36: =AVERAGE(C36:C55) -> 27.235 | L36: 46237 | M36: =L36+5 -> 46242 | N36: =L36+24 -> 46261 | O36: =SUM(H41:H60) -> 538.6 | P36: =O36/20 -> 26.93 | X36: 42202 | Y36: 24
B37: 4日 | C37: 26.8 | D37: 26.2 | E37: =IF(C37=D37,"",C37-D37) -> 0.6 | H37: =C37 -> 26.8 | J37: =AVERAGE(C37:C56) -> 27.18 | L37: 46238 | M37: =L37+5 -> 46243 | N37: =L37+24 -> 46262 | O37: =SUM(H42:H61) -> 534.9 | P37: =O37/20 -> 26.745 | X37: 42203 | Y37: 24.2
B38: 5日 | C38: 26.4 | D38: 26.2 | E38: =IF(C38=D38,"",C38-D38) -> 0.2 | H38: =C38 -> 26.4 | J38: =AVERAGE(C38:C57) -> 27.2 | L38: 46239 | M38: =L38+5 -> 46244 | N38: =L38+24 -> 46263 | O38: =SUM(H43:H62) -> 529.5 | P38: =O38/20 -> 26.475 | X38: 42204 | Y38: 24.3
B39: 6日 | C39: 28.6 | D39: 26.2 | E39: =IF(C39=D39,"",C39-D39) -> 2.4 | H39: =C39 -> 28.6 | J39: =AVERAGE(C39:C58) -> 27.285 | L39: 46240 | M39: =L39+5 -> 46245 | N39: =L39+24 -> 46264 | O39: =SUM(H44:H63) -> 526.1 | P39: =O39/20 -> 26.305 | X39: 42205 | Y39: 24.5
B40: 7日 | C40: 29.8 | D40: 26.2 | E40: =IF(C40=D40,"",C40-D40) -> 3.6 | H40: =C40 -> 29.8 | J40: =AVERAGE(C40:C59) -> 27.23 | L40: 46241 | M40: =L40+5 -> 46246 | N40: =L40+24 -> 46265 | O40: =SUM(H45:H64) -> 527.7 | P40: =O40/20 -> 26.385 | X40: 42206 | Y40: 24.7
B41: 8日 | C41: 28.4 | D41: 26.1 | E41: =IF(C41=D41,"",C41-D41) -> 2.3 | H41: =C41 -> 28.4 | J41: =AVERAGE(C41:C60) -> 26.93 | L41: 46242 | M41: =L41+5 -> 46247 | N41: =L41+24 -> 46266 | O41: =SUM(H46:H65) -> 525.2 | P41: =O41/20 -> 26.26 | X41: 42207 | Y41: 24.8
B42: 9日 | C42: 26.5 | D42: 26.1 | E42: =IF(C42=D42,"",C42-D42) -> 0.4 | H42: =C42 -> 26.5 | J42: =AVERAGE(C42:C61) -> 26.745 | L42: 46243 | M42: =L42+5 -> 46248 | N42: =L42+24 -> 46267 | O42: =SUM(H47:H66) -> 521.2 | P42: =O42/20 -> 26.06 | X42: 42208 | Y42: 25
B43: 10日 | C43: 25.3 | D43: 26 | E43: =IF(C43=D43,"",C43-D43) -> -0.7 | H43: =C43 -> 25.3 | J43: =AVERAGE(C43:C62) -> 26.475 | L43: 46244 | M43: =L43+5 -> 46249 | N43: =L43+24 -> 46268 | O43: =SUM(H48:H67) -> 516.4 | P43: =O43/20 -> 25.82 | X43: 42209 | Y43: 25.2
B44: 11日 | C44: 24.2 | D44: 25.9 | E44: =IF(C44=D44,"",C44-D44) -> -1.7 | H44: =C44 -> 24.2 | J44: =AVERAGE(C44:C63) -> 26.305 | L44: 46245 | M44: =L44+5 -> 46250 | N44: =L44+24 -> 46269 | O44: =SUM(H49:H68) -> 510.3 | P44: =O44/20 -> 25.515 | X44: 42210 | Y44: 25.4
B45: 12日 | C45: 28.1 | D45: 25.9 | E45: =IF(C45=D45,"",C45-D45) -> 2.2 | H45: =C45 -> 28.1 | J45: =AVERAGE(C45:C64) -> 26.385 | L45: 46246 | M45: =L45+5 -> 46251 | N45: =L45+24 -> 46270 | O45: =SUM(H50:H69) -> 504 | P45: =O45/20 -> 25.2 | X45: 42211 | Y45: 25.5
B46: 13日 | C46: 29.3 | D46: 25.8 | E46: =IF(C46=D46,"",C46-D46) -> 3.5 | H46: =C46 -> 29.3 | J46: =AVERAGE(C46:C65) -> 26.26 | L46: 46247 | M46: =L46+5 -> 46252 | N46: =L46+24 -> 46271 | O46: =SUM(H51:H70) -> 500.1 | P46: =O46/20 -> 25.005 | X46: 42212 | Y46: 25.6
... B48: 15日 | C48: 28.4 | D48: 25.7 | E48: =IF(C48=D48,"",C48-D48) -> 2.7 | H48: =C48 -> 28.4 | J48: =AVERAGE(C48:C67) -> 25.82 | L48: 46249 | M48: =L48+5 -> 46254 | N48: =L48+24 -> 46273 | O48: =SUM(H53:H72) -> 492.9 | P48: =O48/20 -> 24.645 | X48: 42214 | Y48: 25.9
B49: 16日 | C49: 27.8 | D49: 25.6 | E49: =IF(C49=D49,"",C49-D49) -> 2.2 | H49: =C49 -> 27.8 | J49: =AVERAGE(C49:C68) -> 25.515 | X49: 42215 | Y49: 26
B50: 17日 | C50: 27.2 | D50: 25.5 | E50: =IF(C50=D50,"",C50-D50) -> 1.7 | H50: =C50 -> 27.2 | J50: =AVERAGE(C50:C69) -> 25.2 | X50: 42216 | Y50: 26.1
B51: 18日 | C51: 27.4 | D51: 25.4 | E51: =IF(C51=D51,"",C51-D51) -> 2 | H51: =C51 -> 27.4 | J51: =AVERAGE(C51:C70) -> 25.005 | X51: 42217 | Y51: 26.1
B52: 19日 | C52: 27.7 | D52: 25.4 | E52: =IF(C52=D52,"",C52-D52) -> 2.3 | H52: =C52 -> 27.7 | X52: 42218 | Y52: 26.2
B53: 20日 | C53: 26.9 | D53: 25.3 | E53: =IF(C53=D53,"",C53-D53) -> 1.6 | H53: =C53 -> 26.9 | X53: 42219 | Y53: 26.2
B54: 21日 | C54: 25.3 | D54: 25.2 | E54: =IF(C54=D54,"",C54-D54) -> 0.1 | H54: =C54 -> 25.3 | X54: 42220 | Y54: 26.2
B55: 22日 | C55: 25.6 | D55: 25.1 | E55: =IF(C55=D55,"",C55-D55) -> 0.5 | H55: =C55 -> 25.6 | X55: 42221 | Y55: 26.2
B56: 23日 | C56: 26 | D56: 24.9 | E56: =IF(C56=D56,"",C56-D56) -> 1.1 | F56: =C56 -> 26 | H56: =C56 -> 26 | X56: 42222 | Y56: 26.2
B57: 24日 | C57: 27.2 | D57: 24.8 | E57: =IF(C57=D57,"",C57-D57) -> 2.4 | F57: =C57 -> 27.2 | H57: =IF(C57=0,D57,C57) -> 27.2 | X57: 42223 | Y57: 26.2
B58: 25日 | C58: 28.1 | D58: 24.7 | E58: =IF(C58=D58,"",C58-D58) -> 3.4 | F58: =C58 -> 28.1 | H58: =IF(C58=0,D58,C58) -> 28.1 | X58: 42224 | Y58: 26.1
B59: 26日 | C59: 27.5 | D59: 24.6 | E59: =IF(C59=D59,"",C59-D59) -> 2.9 | F59: =C59 -> 27.5 | H59: =IF(C59=0,D59,C59) -> 27.5 | X59: 42225 | Y59: 26.1
B60: 27日 | C60: 23.8 | D60: 24.5 | E60: =IF(C60=D60,"",C60-D60) -> -0.7 | F60: =C60 -> 23.8 | H60: =IF(C60=0,D60,C60) -> 23.8 | X60: 42226 | Y60: 26
B61: 28日 | C61: 24.7 | D61: 24.4 | E61: =IF(C61=D61,"",C61-D61) -> 0.3 | F61: =C61 -> 24.7 | H61: =IF(C61=0,D61,C61) -> 24.7 | X61: 42227 | Y61: 25.9
B62: 29日 | C62: 21.1 | D62: 24.3 | E62: =IF(C62=D62,"",C62-D62) -> -3.2 | F62: =C62 -> 21.1 | H62: =IF(C62=0,D62,C62) -> 21.1 | X62: 42228 | Y62: 25.9
B63: 30日 | C63: 21.9 | D63: 24.2 | E63: =IF(C63=D63,"",C63-D63) -> -2.3 | F63: =C63 -> 21.9 | H63: =IF(C63=0,D63,C63) -> 21.9 | X63: 42229 | Y63: 25.8
B64: 31日 | C64: 25.8 | D64: 24.1 | E64: =IF(C64=D64,"",C64-D64) -> 1.7 | F64: =C64 -> 25.8 | H64: =IF(C64=0,D64,C64) -> 25.8 | X64: 42230 | Y64: 25.7
A65: ９月 | B65: 1日 | C65: 25.6 | D65: 24 | E65: =IF(C65=D65,"",C65-D65) -> 1.6 | F65: =C65 -> 25.6 | H65: =IF(C65=0,D65,C65) -> 25.6 | X65: 42231 | Y65: 25.7
B66: 2日 | C66: 25.3 | D66: 23.9 | E66: =IF(C66=D66,"",C66-D66) -> 1.4 | F66: =C66 -> 25.3 | H66: =IF(C66=0,D66,C66) -> 25.3 | X66: 42232 | Y66: 25.6
B67: 3日 | C67: 23.1 | D67: 23.8 | E67: =IF(C67=D67,"",C67-D67) -> -0.7 | F67: =C67 -> 23.1 | H67: =IF(C67=0,D67,C67) -> 23.1 | X67: 42233 | Y67: 25.5
B68: 4日 | C68: 22.3 | D68: 23.6 | E68: =IF(C68=D68,"",C68-D68) -> -1.3 | F68: =C68 -> 22.3 | H68: =IF(C68=0,D68,C68) -> 22.3 | X68: 42234 | Y68: 25.4
B69: 5日 | C69: 21.5 | D69: 23.5 | E69: =IF(C69=D69,"",C69-D69) -> -2 | F69: =C69 -> 21.5 | H69: =IF(C69=0,D69,C69) -> 21.5 | X69: 42235 | Y69: 25.4
B70: 6日 | C70: 23.3 | D70: 23.3 | E70: =IF(C70=D70,"",C70-D70) | F70: =C70 -> 23.3 | H70: =IF(C70=0,D70,C70) -> 23.3 | X70: 42236 | Y70: 25.3
B71: 7日 | C71: 24.4 | D71: 23.2 | E71: =IF(C71=D71,"",C71-D71) -> 1.2 | F71: =C71 -> 24.4 | H71: =IF(C71=0,D71,C71) -> 24.4 | X71: 42237 | Y71: 25.2
B72: 8日 | C72: 23.5 | D72: 23 | E72: =IF(C72=D72,"",C72-D72) -> 0.5 | F72: =C72 -> 23.5 | H72: =IF(C72=0,D72,C72) -> 23.5 | X72: 42238 | Y72: 25.1
B73: 9日 | C73: 20.3 | D73: 22.8 | E73: =IF(C73=D73,"",C73-D73) -> -2.5 | F73: =C73 -> 20.3 | H73: =IF(C73=0,D73,C73) -> 20.3 | X73: 42239 | Y73: 24.9
B74: 10日 | C74: 20.1 | D74: 22.6 | E74: =IF(C74=D74,"",C74-D74) -> -2.5 | F74: =C74 -> 20.1 | H74: =IF(C74=0,D74,C74) -> 20.1 | X74: 42240 | Y74: 24.8
B75: 11日 | C75: 20.3 | D75: 22.4 | E75: =IF(C75=D75,"",C75-D75) -> -2.1 | F75: =C75 -> 20.3 | H75: =IF(C75=0,D75,C75) -> 20.3 | X75: 42241 | Y75: 24.7
B76: 12日 | C76: 21.8 | D76: 22.2 | E76: =IF(C76=D76,"",C76-D76) -> -0.4 | F76: =C76 -> 21.8 | H76: =IF(C76=0,D76,C76) -> 21.8 | X76: 42242 | Y76: 24.6
B77: 13日 | C77: 23.8 | D77: 22 | E77: =IF(C77=D77,"",C77-D77) -> 1.8 | F77: =C77 -> 23.8 | H77: =IF(C77=0,D77,C77) -> 23.8 | X77: 42243 | Y77: 24.5
... B79: 15日 | C79: 20.5 | D79: 21.5 | E79: =IF(C79=D79,"",C79-D79) -> -1 | F79: =C79 -> 20.5 | H79: =IF(C79=0,D79,C79) -> 20.5 | X79: 42245 | Y79: 24.3
B80: 16日 | D80: 21.3 | E80: =IF(C80=D80,"",C80-D80) -> -21.3 | F80: =C80 -> 0 | H80: =IF(C80=0,D80,C80) -> 21.3 | X80: 42246 | Y80: 24.2
B81: 17日 | D81: 21 | E81: =IF(C81=D81,"",C81-D81) -> -21 | F81: =C81 -> 0 | H81: =IF(C81=0,D81,C81) -> 21 | X81: 42247 | Y81: 24.1
B82: 18日 | D82: 20.8 | E82: =IF(C82=D82,"",C82-D82) -> -20.8 | F82: =C82 -> 0 | H82: =IF(C82=0,D82,C82) -> 20.8 | X82: 42248 | Y82: 24
B83: 19日 | D83: 20.6 | E83: =IF(C83=D83,"",C83-D83) -> -20.6 | F83: =C83 -> 0 | H83: =IF(C83=0,D83,C83) -> 20.6 | X83: 42249 | Y83: 23.9
B84: 20日 | D84: 20.3 | E84: =IF(C84=D84,"",C84-D84) -> -20.3 | F84: =C84 -> 0 | H84: =IF(C84=0,D84,C84) -> 20.3 | X84: 42250 | Y84: 23.8
B85: 21日 | D85: 20.1 | E85: =IF(C85=D85,"",C85-D85) -> -20.1 | F85: =C85 -> 0 | X85: 42251 | Y85: 23.6
B86: 22日 | D86: 19.8 | E86: =IF(C86=D86,"",C86-D86) -> -19.8 | F86: =C86 -> 0 | X86: 42252 | Y86: 23.5
B87: 23日 | D87: 19.6 | E87: =IF(C87=D87,"",C87-D87) -> -19.6 | F87: =C87 -> 0 | X87: 42253 | Y87: 23.3
B88: 24日 | D88: 19.4 | E88: =IF(C88=D88,"",C88-D88) -> -19.4 | F88: =C88 -> 0 | X88: 42254 | Y88: 23.2
B89: 25日 | D89: 19.2 | E89: =IF(C89=D89,"",C89-D89) -> -19.2 | F89: =D89+4 -> 23.2 | X89: 42255 | Y89: 23
B90: 26日 | D90: 19 | E90: =IF(C90=D90,"",C90-D90) -> -19 | F90: =D90+4 -> 23 | X90: 42256 | Y90: 22.8
B91: 27日 | D91: 18.8 | E91: =IF(C91=D91,"",C91-D91) -> -18.8 | F91: =D91+4 -> 22.8 | X91: 42257 | Y91: 22.6
B92: 28日 | D92: 18.6 | E92: =IF(C92=D92,"",C92-D92) -> -18.6 | F92: =D92+4 -> 22.6 | X92: 42258 | Y92: 22.4
B93: 29日 | D93: 18.4 | E93: =IF(C93=D93,"",C93-D93) -> -18.4 | F93: =D93+4 -> 22.4 | X93: 42259 | Y93: 22.2
B94: 30日 | D94: 18.2 | E94: =IF(C94=D94,"",C94-D94) -> -18.2 | F94: =D94+4 -> 22.2 | X94: 42260 | Y94: 22
A95: １０月 | B95: 1日 | D95: 18 | E95: =IF(C95=D95,"",C95-D95) -> -18 | F95: =D95+4 -> 22 | X95: 42261 | Y95: 21.7
B96: 2日 | D96: 17.9 | E96: =IF(C96=D96,"",C96-D96) -> -17.9 | F96: =D96+4 -> 21.9 | X96: 42262 | Y96: 21.5
B97: 3日 | D97: 17.7 | E97: =IF(C97=D97,"",C97-D97) -> -17.7 | F97: =D97+4 -> 21.7 | X97: 42263 | Y97: 21.3
B98: 4日 | D98: 17.5 | E98: =IF(C98=D98,"",C98-D98) -> -17.5 | F98: =D98+4 -> 21.5 | X98: 42264 | Y98: 21
B99: 5日 | D99: 17.3 | E99: =IF(C99=D99,"",C99-D99) -> -17.3 | F99: =D99+4 -> 21.3 | X99: 42265 | Y99: 20.8
B100: 6日 | D100: 17.1 | E100: =IF(C100=D100,"",C100-D100) -> -17.1 | F100: =D100+4 -> 21.1 | X100: 42266 | Y100: 20.6
B101: 7日 | D101: 16.9 | E101: =IF(C101=D101,"",C101-D101) -> -16.9 | F101: =D101+4 -> 20.9 | X101: 42267 | Y101: 20.3
B102: 8日 | D102: 16.7 | E102: =IF(C102=D102,"",C102-D102) -> -16.7 | F102: =D102+4 -> 20.7 | X102: 42268 | Y102: 20.1
B103: 9日 | D103: 16.5 | E103: =IF(C103=D103,"",C103-D103) -> -16.5 | F103: =D103+4 -> 20.5 | X103: 42269 | Y103: 19.8
B104: 10日 | D104: 16.3 | E104: =IF(C104=D104,"",C104-D104) -> -16.3 | F104: =D104+4 -> 20.3 | X104: 42270 | Y104: 19.6
B105: 11日 | D105: 16.1 | E105: =IF(C105=D105,"",C105-D105) -> -16.1 | F105: =D105+4 -> 20.1 | X105: 42271 | Y105: 19.4
B106: 12日 | D106: 15.9 | E106: =IF(C106=D106,"",C106-D106) -> -15.9 | F106: =D106+4 -> 19.9 | X106: 42272 | Y106: 19.2
...

Sheet 平年値
B2: 村上 7月 平年値（日ごとの値）
B3: 要素 | C3: 降水量 | D3: 平均気温 | E3: 日最高気温 | F3: 日最低気温 | G3: 日照時間 | H3: 降雪の深さ合計 | I3: 最深積雪
C4: (mm) | D4: (℃) | E4: (℃) | F4: (℃) | G4: (h) | H4: (cm) | I4: (cm)
B5: 統計期間 | C5: 1991～2020 | D5: 1991～2020 | E5: 1991～2020 | F5: 1991～2020 | G5: 1991～2020 | H5: /// | I5: ///
B6: 資料年数 | C6: 30 | D6: 30 | E6: 30 | F6: 30 | G6: 30 | H6: 0 | I6: 0
B7: 1日 | C7: 8.6 | D7: 22.2 | E7: 26.5 | F7: 18.5 | G7: 4.6 | H7: /// | I7: ///
B8: 2日 | C8: 8.7 | D8: 22.3 | E8: 26.6 | F8: 18.6 | G8: 4.5 | H8: /// | I8: ///
B9: 3日 | C9: 8.7 | D9: 22.4 | E9: 26.7 | F9: 18.8 | G9: 4.5 | H9: /// | I9: ///
B10: 4日 | C10: 8.8 | D10: 22.5 | E10: 26.8 | F10: 18.9 | G10: 4.5 | H10: /// | I10: ///
B11: 5日 | C11: 9 | D11: 22.6 | E11: 26.9 | F11: 19.1 | G11: 4.4 | H11: /// | I11: ///
B12: 6日 | C12: 9.1 | D12: 22.7 | E12: 26.9 | F12: 19.2 | G12: 4.4 | H12: /// | I12: ///
B13: 7日 | C13: 9.3 | D13: 22.8 | E13: 27 | F13: 19.4 | G13: 4.4 | H13: /// | I13: ///
B14: 8日 | C14: 9.5 | D14: 22.9 | E14: 27.1 | F14: 19.5 | G14: 4.3 | H14: /// | I14: ///
B15: 9日 | C15: 9.6 | D15: 23 | E15: 27.2 | F15: 19.6 | G15: 4.3 | H15: /// | I15: ///
B16: 10日 | C16: 9.8 | D16: 23.1 | E16: 27.3 | F16: 19.7 | G16: 4.4 | H16: /// | I16: ///
B17: 11日 | C17: 9.8 | D17: 23.2 | E17: 27.4 | F17: 19.8 | G17: 4.4 | H17: /// | I17: ///
B18: 12日 | C18: 9.9 | D18: 23.3 | E18: 27.5 | F18: 19.9 | G18: 4.5 | H18: /// | I18: ///
... B37: 31日 | C37: 4.1 | D37: 26.1 | E37: 31 | F37: 21.9 | G37: 6.7 | H37: /// | I37: ///
B39: 村上 8月 平年値（日ごとの値）
B40: 要素 | C40: 降水量 | D40: 平均気温 | E40: 日最高気温 | F40: 日最低気温 | G40: 日照時間 | H40: 降雪の深さ合計 | I40: 最深積雪
C41: (mm) | D41: (℃) | E41: (℃) | F41: (℃) | G41: (h) | H41: (cm) | I41: (cm)
B42: 統計期間 | C42: 1991～2020 | D42: 1991～2020 | E42: 1991～2020 | F42: 1991～2020 | G42: 1991～2020 | H42: /// | I42: ///
B43: 資料年数 | C43: 30 | D43: 30 | E43: 30 | F43: 30 | G43: 30 | H43: 0 | I43: 0
B44: 1日 | C44: 3.9 | D44: 26.1 | E44: 31.1 | F44: 21.9 | G44: 6.8 | H44: /// | I44: ///
B45: 2日 | C45: 3.8 | D45: 26.2 | E45: 31.2 | F45: 21.9 | G45: 6.9 | H45: /// | I45: ///
B46: 3日 | C46: 3.8 | D46: 26.2 | E46: 31.2 | F46: 21.9 | G46: 7 | H46: /// | I46: ///
B47: 4日 | C47: 3.8 | D47: 26.2 | E47: 31.2 | F47: 21.9 | G47: 7 | H47: /// | I47: ///
B48: 5日 | C48: 3.9 | D48: 26.2 | E48: 31.2 | F48: 21.9 | G48: 7 | H48: /// | I48: ///
B49: 6日 | C49: 4.1 | D49: 26.2 | E49: 31.2 | F49: 21.9 | G49: 7 | H49: /// | I49: ///
B50: 7日 | C50: 4.4 | D50: 26.2 | E50: 31.2 | F50: 21.9 | G50: 7 | H50: /// | I50: ///
B51: 8日 | C51: 4.7 | D51: 26.1 | E51: 31.1 | F51: 21.8 | G51: 6.9 | H51: /// | I51: ///
B52: 9日 | C52: 5 | D52: 26.1 | E52: 31.1 | F52: 21.8 | G52: 6.8 | H52: /// | I52: ///
B53: 10日 | C53: 5.3 | D53: 26 | E53: 31 | F53: 21.7 | G53: 6.7 | H53: /// | I53: ///
B54: 11日 | C54: 5.6 | D54: 25.9 | E54: 30.9 | F54: 21.7 | G54: 6.7 | H54: /// | I54: ///
B55: 12日 | C55: 5.9 | D55: 25.9 | E55: 30.9 | F55: 21.6 | G55: 6.6 | H55: /// | I55: ///
... B74: 31日 | C74: 6.9 | D74: 24.1 | E74: 29.2 | F74: 19.9 | G74: 5.8 | H74: /// | I74: ///
B76: 村上 9月 平年値（日ごとの値）
B77: 要素 | C77: 降水量 | D77: 平均気温 | E77: 日最高気温 | F77: 日最低気温 | G77: 日照時間 | H77: 降雪の深さ合計 | I77: 最深積雪
C78: (mm) | D78: (℃) | E78: (℃) | F78: (℃) | G78: (h) | H78: (cm) | I78: (cm)
B79: 統計期間 | C79: 1991～2020 | D79: 1991～2020 | E79: 1991～2020 | F79: 1991～2020 | G79: 1991～2020 | H79: /// | I79: ///
B80: 資料年数 | C80: 30 | D80: 30 | E80: 30 | F80: 30 | G80: 30 | H80: 0 | I80: 0
B81: 1日 | C81: 6.9 | D81: 24 | E81: 29.1 | F81: 19.8 | G81: 5.8 | H81: /// | I81: ///
B82: 2日 | C82: 6.9 | D82: 23.9 | E82: 29 | F82: 19.7 | G82: 5.7 | H82: /// | I82: ///
B83: 3日 | C83: 7 | D83: 23.8 | E83: 28.9 | F83: 19.6 | G83: 5.6 | H83: /// | I83: ///
B84: 4日 | C84: 7 | D84: 23.6 | E84: 28.7 | F84: 19.5 | G84: 5.6 | H84: /// | I84: ///
B85: 5日 | C85: 7 | D85: 23.5 | E85: 28.6 | F85: 19.4 | G85: 5.5 | H85: /// | I85: ///
B86: 6日 | C86: 7.1 | D86: 23.3 | E86: 28.4 | F86: 19.2 | G86: 5.4 | H86: /// | I86: ///
B87: 7日 | C87: 7.2 | D87: 23.2 | E87: 28.2 | F87: 19 | G87: 5.3 | H87: /// | I87: ///
B88: 8日 | C88: 7.2 | D88: 23 | E88: 28 | F88: 18.9 | G88: 5.2 | H88: /// | I88: ///
B89: 9日 | C89: 7.2 | D89: 22.8 | E89: 27.8 | F89: 18.7 | G89: 5.1 | H89: /// | I89: ///
B90: 10日 | C90: 7.2 | D90: 22.6 | E90: 27.6 | F90: 18.5 | G90: 5.1 | H90: /// | I90: ///
B91: 11日 | C91: 7.1 | D91: 22.4 | E91: 27.4 | F91: 18.3 | G91: 5 | H91: /// | I91: ///
B92: 12日 | C92: 7 | D92: 22.2 | E92: 27.2 | F92: 18.1 | G92: 4.9 | H92: /// | I92: ///
... B110: 30日 | C110: 5.9 | D110: 18.2 | E110: 23.3 | F110: 13.7 | G110: 4.3 | H110: /// | I110: ///
B112: 村上 10月 平年値（日ごとの値）
B113: 要素 | C113: 降水量 | D113: 平均気温 | E113: 日最高気温 | F113: 日最低気温 | G113: 日照時間 | H113: 降雪の深さ合計 | I113: 最深積雪
C114: (mm) | D114: (℃) | E114: (℃) | F114: (℃) | G114: (h) | H114: (cm) | I114: (cm)
B115: 統計期間 | C115: 1991～2020 | D115: 1991～2020 | E115: 1991～2020 | F115: 1991～2020 | G115: 1991～2020 | H115: /// | I115: ///
B116: 資料年数 | C116: 30 | D116: 30 | E116: 30 | F116: 30 | G116: 30 | H116: 0 | I116: 0
B117: 1日 | C117: 5.9 | D117: 18 | E117: 23.1 | F117: 13.6 | G117: 4.3 | H117: /// | I117: ///
B118: 2日 | C118: 5.9 | D118: 17.9 | E118: 23 | F118: 13.4 | G118: 4.2 | H118: /// | I118: ///
B119: 3日 | C119: 6 | D119: 17.7 | E119: 22.8 | F119: 13.2 | G119: 4.2 | H119: /// | I119: ///
B120: 4日 | C120: 6 | D120: 17.5 | E120: 22.6 | F120: 13 | G120: 4.2 | H120: /// | I120: ///
B121: 5日 | C121: 6 | D121: 17.3 | E121: 22.4 | F121: 12.9 | G121: 4.2 | H121: /// | I121: ///
B122: 6日 | C122: 6 | D122: 17.1 | E122: 22.2 | F122: 12.7 | G122: 4.2 | H122: /// | I122: ///
B123: 7日 | C123: 6 | D123: 16.9 | E123: 22 | F123: 12.5 | G123: 4.2 | H123: /// | I123: ///
B124: 8日 | C124: 6 | D124: 16.7 | E124: 21.8 | F124: 12.3 | G124: 4.3 | H124: /// | I124: ///
B125: 9日 | C125: 6 | D125: 16.5 | E125: 21.6 | F125: 12.1 | G125: 4.3 | H125: /// | I125: ///
B126: 10日 | C126: 6 | D126: 16.3 | E126: 21.5 | F126: 11.9 | G126: 4.3 | H126: /// | I126: ///
B127: 11日 | C127: 6 | D127: 16.1 | E127: 21.3 | F127: 11.6 | G127: 4.4 | H127: /// | I127: ///
B128: 12日 | C128: 6 | D128: 15.9 | E128: 21.1 | F128: 11.4 | G128: 4.4 | H128: /// | I128: ///
... B147: 31日 | C147: 7.6 | D147: 12.1 | E147: 17.1 | F147: 7.7 | G147: 3.7 | H147: /// | I147: ///

Sheet Sheet1
C2: 品種名 | D2: 収穫適期の出穂後積算気温
D3: 通常年 | E3: 高温登熟年
B4: 早生 | C4: 新潟次郎 | D4: 1,000℃
C5: ゆきみらい、こしいぶき、わたぼうし、五百万石 | D5: 975℃ | E5: 925℃
C6: ゆきん子舞 | D6: 950-1,000℃ | E6: 900-950℃
C7: ちほみのり | D7: 1,050-1,200℃
C8: つきあかり | D8: 1,100-1,200℃
B9: 中生 | C9: コシヒカリ、こがねもち | D9: 1,000℃ | E9: 950℃
B10: 晩生 | C10: 越淡麗 | D10: 1,000-1,050℃ | E10: 950-1,000℃
C11: 新之助、あきだわら | D11: 1,050-1,100℃ | E11: 1,000-1,050℃
