Workbook

Sheet 全品種(このシートのみ使用)
A1: 令和８年度 収穫適期早見表（村上アメダス） | X1: ※積算気温は、出穂日翌日の気温から起算
Z2: =TODAY() -> 46281 | AA2: 以降は平年値
Y3: 凡例 | AA3: 925 - 950℃
AA4: 950 - 1000℃
AA5: 1000 - 1050℃
AA6: 1050 - 1100℃
AA7: 1100 - 1200℃
A8: 出穂期 収穫期
C10: 日平均気温 | D10: 39640 | E10: 39641 | F10: 39642 | G10: 39643 | H10: 39644 | I10: 39645 | J10: 39646 | K10: 39647 | L10: 39648 | M10: 39649 | N10: 39650 | O10: 39651 | P10: 39652 | Q10: 39653 | R10: 39654 | S10: 39655 | T10: 39656 | U10: 39657 | V10: 39658 | W10: 39659 | X10: 39660 | Y10: 39661 | Z10: 39662 | AA10: 39663 | AB10: 39664 | AC10: 39665 | AD10: 39666 | AE10: 39667 | AF10: 39668 | AG10: 39669 | AH10: 39670 | AI10: 39671 | AJ10: 39672 | AK10: 39673 | AL10: 39674 | AM10: 39675 | AN10: 39676 | AO10: 39677 | AP10: 39678 | AQ10: 39679 | AR10: 39680
B11: 11日 | C11: =IF('使用DATA（平均気温入力用）'!C13=0,'使用DATA（平均気温入力用）'!D13,'使用DATA（平均気温入力用）'!C13) -> 25.5
B12: 12日 | C12: =IF('使用DATA（平均気温入力用）'!C14=0,'使用DATA（平均気温入力用）'!D14,'使用DATA（平均気温入力用）'!C14) -> 24.5 | D12: =C12 -> 24.5
B13: 13日 | C13: =IF('使用DATA（平均気温入力用）'!C15=0,'使用DATA（平均気温入力用）'!D15,'使用DATA（平均気温入力用）'!C15) -> 23.9 | D13: =D12+C13 -> 48.4 | E13: =C13 -> 23.9
B14: 14日 | C14: =IF('使用DATA（平均気温入力用）'!C16=0,'使用DATA（平均気温入力用）'!D16,'使用DATA（平均気温入力用）'!C16) -> 26.4 | D14: =D13+C14 -> 74.8 | E14: =E13+C14 -> 50.3 | F14: =C14 -> 26.4
B15: 15日 | C15: =IF('使用DATA（平均気温入力用）'!C17=0,'使用DATA（平均気温入力用）'!D17,'使用DATA（平均気温入力用）'!C17) -> 28.6 | D15: =D14+C15 -> 103.4 | E15: =E14+C15 -> 78.9 | F15: =F14+C15 -> 55 | G15: =C15 -> 28.6
A16: 7月 | B16: 16日 | C16: =IF('使用DATA（平均気温入力用）'!C18=0,'使用DATA（平均気温入力用）'!D18,'使用DATA（平均気温入力用）'!C18) -> 26.8 | D16: =D15+C16 -> 130.2 | E16: =E15+C16 -> 105.7 | F16: =F15+C16 -> 81.8 | G16: =G15+C16 -> 55.4 | H16: =C16 -> 26.8
B17: 17日 | C17: =IF('使用DATA（平均気温入力用）'!C19=0,'使用DATA（平均気温入力用）'!D19,'使用DATA（平均気温入力用）'!C19) -> 26.9 | D17: =D16+C17 -> 157.1 | E17: =E16+C17 -> 132.6 | F17: =F16+C17 -> 108.7 | G17: =G16+C17 -> 82.3 | H17: =H16+C17 -> 53.7 | I17: =I16+$C17 -> 26.9
B18: 18日 | C18: =IF('使用DATA（平均気温入力用）'!C20=0,'使用DATA（平均気温入力用）'!D20,'使用DATA（平均気温入力用）'!C20) -> 28.1 | D18: =D17+C18 -> 185.2 | E18: =E17+C18 -> 160.7 | F18: =F17+C18 -> 136.8 | G18: =G17+C18 -> 110.4 | H18: =H17+C18 -> 81.8 | I18: =I17+$C18 -> 55 | J18: =J17+$C18 -> 28.1
B19: 19日 | C19: =IF('使用DATA（平均気温入力用）'!C21=0,'使用DATA（平均気温入力用）'!D21,'使用DATA（平均気温入力用）'!C21) -> 27.5 | D19: =D18+C19 -> 212.7 | E19: =E18+C19 -> 188.2 | F19: =F18+C19 -> 164.3 | G19: =G18+C19 -> 137.9 | H19: =H18+C19 -> 109.3 | I19: =I18+$C19 -> 82.5 | J19: =J18+$C19 -> 55.6 | K19: =K18+$C19 -> 27.5
B20: 20日 | C20: =IF('使用DATA（平均気温入力用）'!C22=0,'使用DATA（平均気温入力用）'!D22,'使用DATA（平均気温入力用）'!C22) -> 28.4 | D20: =D19+C20 -> 241.1 | E20: =E19+C20 -> 216.6 | F20: =F19+C20 -> 192.7 | G20: =G19+C20 -> 166.3 | H20: =H19+C20 -> 137.7 | I20: =I19+$C20 -> 110.9 | J20: =J19+$C20 -> 84 | K20: =K19+$C20 -> 55.9 | L20: =L19+$C20 -> 28.4
B21: 21日 | C21: =IF('使用DATA（平均気温入力用）'!C23=0,'使用DATA（平均気温入力用）'!D23,'使用DATA（平均気温入力用）'!C23) -> 27.4 | D21: =D20+C21 -> 268.5 | E21: =E20+C21 -> 244 | F21: =F20+C21 -> 220.1 | G21: =G20+C21 -> 193.7 | H21: =H20+C21 -> 165.1 | I21: =I20+$C21 -> 138.3 | J21: =J20+$C21 -> 111.4 | K21: =K20+$C21 -> 83.3 | L21: =L20+$C21 -> 55.8 | M21: =M20+$C21 -> 27.4
B22: 22日 | C22: =IF('使用DATA（平均気温入力用）'!C24=0,'使用DATA（平均気温入力用）'!D24,'使用DATA（平均気温入力用）'!C24) -> 27.8 | D22: =D21+C22 -> 296.3 | E22: =E21+C22 -> 271.8 | F22: =F21+C22 -> 247.9 | G22: =G21+C22 -> 221.5 | H22: =H21+C22 -> 192.9 | I22: =I21+$C22 -> 166.1 | J22: =J21+$C22 -> 139.2 | K22: =K21+$C22 -> 111.1 | L22: =L21+$C22 -> 83.6 | M22: =M21+$C22 -> 55.2 | N22: =N21+$C22 -> 27.8
B23: 23日 | C23: =IF('使用DATA（平均気温入力用）'!C25=0,'使用DATA（平均気温入力用）'!D25,'使用DATA（平均気温入力用）'!C25) -> 27.1 | D23: =D22+C23 -> 323.4 | E23: =E22+C23 -> 298.9 | F23: =F22+C23 -> 275 | G23: =G22+C23 -> 248.6 | H23: =H22+C23 -> 220 | I23: =I22+$C23 -> 193.2 | J23: =J22+$C23 -> 166.3 | K23: =K22+$C23 -> 138.2 | L23: =L22+$C23 -> 110.7 | M23: =M22+$C23 -> 82.3 | N23: =N22+$C23 -> 54.9 | O23: =O22+$C23 -> 27.1
B24: 24日 | C24: =IF('使用DATA（平均気温入力用）'!C26=0,'使用DATA（平均気温入力用）'!D26,'使用DATA（平均気温入力用）'!C26) -> 24.9 | D24: =D23+C24 -> 348.3 | E24: =E23+C24 -> 323.8 | F24: =F23+C24 -> 299.9 | G24: =G23+C24 -> 273.5 | H24: =H23+C24 -> 244.9 | I24: =I23+$C24 -> 218.1 | J24: =J23+$C24 -> 191.2 | K24: =K23+$C24 -> 163.1 | L24: =L23+$C24 -> 135.6 | M24: =M23+$C24 -> 107.2 | N24: =N23+$C24 -> 79.8 | O24: =O23+$C24 -> 52 | P24: =P23+$C24 -> 24.9
B25: 25日 | C25: =IF('使用DATA（平均気温入力用）'!C27=0,'使用DATA（平均気温入力用）'!D27,'使用DATA（平均気温入力用）'!C27) -> 26 | D25: =D24+C25 -> 374.3 | E25: =E24+C25 -> 349.8 | F25: =F24+C25 -> 325.9 | G25: =G24+C25 -> 299.5 | H25: =H24+C25 -> 270.9 | I25: =I24+$C25 -> 244.1 | J25: =J24+$C25 -> 217.2 | K25: =K24+$C25 -> 189.1 | L25: =L24+$C25 -> 161.6 | M25: =M24+$C25 -> 133.2 | N25: =N24+$C25 -> 105.8 | O25: =O24+$C25 -> 78 | P25: =P24+$C25 -> 50.9 | Q25: =Q24+$C25 -> 26
B26: 26日 | C26: =IF('使用DATA（平均気温入力用）'!C28=0,'使用DATA（平均気温入力用）'!D28,'使用DATA（平均気温入力用）'!C28) -> 24.6 | D26: =D25+C26 -> 398.9 | E26: =E25+C26 -> 374.4 | F26: =F25+C26 -> 350.5 | G26: =G25+C26 -> 324.1 | H26: =H25+C26 -> 295.5 | I26: =I25+$C26 -> 268.7 | J26: =J25+$C26 -> 241.8 | K26: =K25+$C26 -> 213.7 | L26: =L25+$C26 -> 186.2 | M26: =M25+$C26 -> 157.8 | N26: =N25+$C26 -> 130.4 | O26: =O25+$C26 -> 102.6 | P26: =P25+$C26 -> 75.5 | ... R26: =R25+$C26 -> 24.6
B27: 27日 | C27: =IF('使用DATA（平均気温入力用）'!C29=0,'使用DATA（平均気温入力用）'!D29,'使用DATA（平均気温入力用）'!C29) -> 24.5 | D27: =D26+C27 -> 423.4 | E27: =E26+C27 -> 398.9 | F27: =F26+C27 -> 375 | G27: =G26+C27 -> 348.6 | H27: =H26+C27 -> 320 | I27: =I26+$C27 -> 293.2 | J27: =J26+$C27 -> 266.3 | K27: =K26+$C27 -> 238.2 | L27: =L26+$C27 -> 210.7 | M27: =M26+$C27 -> 182.3 | N27: =N26+$C27 -> 154.9 | O27: =O26+$C27 -> 127.1 | P27: =P26+$C27 -> 100 | ... S27: =S26+$C27 -> 24.5
B28: 28日 | C28: =IF('使用DATA（平均気温入力用）'!C30=0,'使用DATA（平均気温入力用）'!D30,'使用DATA（平均気温入力用）'!C30) -> 24.2 | D28: =D27+C28 -> 447.6 | E28: =E27+C28 -> 423.1 | F28: =F27+C28 -> 399.2 | G28: =G27+C28 -> 372.8 | H28: =H27+C28 -> 344.2 | I28: =I27+$C28 -> 317.4 | J28: =J27+$C28 -> 290.5 | K28: =K27+$C28 -> 262.4 | L28: =L27+$C28 -> 234.9 | M28: =M27+$C28 -> 206.5 | N28: =N27+$C28 -> 179.1 | O28: =O27+$C28 -> 151.3 | P28: =P27+$C28 -> 124.2 | ... T28: =T27+$C28 -> 24.2
B29: 29日 | C29: =IF('使用DATA（平均気温入力用）'!C31=0,'使用DATA（平均気温入力用）'!D31,'使用DATA（平均気温入力用）'!C31) -> 24.3 | D29: =D28+C29 -> 471.9 | E29: =E28+C29 -> 447.4 | F29: =F28+C29 -> 423.5 | G29: =G28+C29 -> 397.1 | H29: =H28+C29 -> 368.5 | I29: =I28+$C29 -> 341.7 | J29: =J28+$C29 -> 314.8 | K29: =K28+$C29 -> 286.7 | L29: =L28+$C29 -> 259.2 | M29: =M28+$C29 -> 230.8 | N29: =N28+$C29 -> 203.4 | O29: =O28+$C29 -> 175.6 | P29: =P28+$C29 -> 148.5 | ... U29: =U28+$C29 -> 24.3
B30: 30日 | C30: =IF('使用DATA（平均気温入力用）'!C32=0,'使用DATA（平均気温入力用）'!D32,'使用DATA（平均気温入力用）'!C32) -> 26.5 | D30: =D29+C30 -> 498.4 | E30: =E29+C30 -> 473.9 | F30: =F29+C30 -> 450 | G30: =G29+C30 -> 423.6 | H30: =H29+C30 -> 395 | I30: =I29+$C30 -> 368.2 | J30: =J29+$C30 -> 341.3 | K30: =K29+$C30 -> 313.2 | L30: =L29+$C30 -> 285.7 | M30: =M29+$C30 -> 257.3 | N30: =N29+$C30 -> 229.9 | O30: =O29+$C30 -> 202.1 | P30: =P29+$C30 -> 175 | ... V30: =V29+$C30 -> 26.5
B31: 31日 | C31: =IF('使用DATA（平均気温入力用）'!C33=0,'使用DATA（平均気温入力用）'!D33,'使用DATA（平均気温入力用）'!C33) -> 24 | D31: =D30+C31 -> 522.4 | E31: =E30+C31 -> 497.9 | F31: =F30+C31 -> 474 | G31: =G30+C31 -> 447.6 | H31: =H30+C31 -> 419 | I31: =I30+$C31 -> 392.2 | J31: =J30+$C31 -> 365.3 | K31: =K30+$C31 -> 337.2 | L31: =L30+$C31 -> 309.7 | M31: =M30+$C31 -> 281.3 | N31: =N30+$C31 -> 253.9 | O31: =O30+$C31 -> 226.1 | P31: =P30+$C31 -> 199 | ... R31: =R30+$C31 -> 148.1 | S31: =S30+$C30 -> 126 | T31: =T30+$C31 -> 99 | U31: =U30+$C31 -> 74.8 | V31: =V30+$C31 -> 50.5 | W31: =W30+$C31 -> 24
A32: 8月 | B32: 1日 | C32: =IF('使用DATA（平均気温入力用）'!C34=0,'使用DATA（平均気温入力用）'!D34,'使用DATA（平均気温入力用）'!C34) -> 26.3 | D32: =D31+C32 -> 548.7 | E32: =E31+C32 -> 524.2 | F32: =F31+C32 -> 500.3 | G32: =G31+C32 -> 473.9 | H32: =H31+C32 -> 445.3 | I32: =I31+$C32 -> 418.5 | J32: =J31+$C32 -> 391.6 | K32: =K31+$C32 -> 363.5 | L32: =L31+$C32 -> 336 | M32: =M31+$C32 -> 307.6 | N32: =N31+$C32 -> 280.2 | O32: =O31+$C32 -> 252.4 | P32: =P31+$C32 -> 225.3 | ... R32: =R31+$C32 -> 174.4 | S32: =S31+$C31 -> 150 | T32: =T31+$C32 -> 125.3 | U32: =U31+$C32 -> 101.1 | V32: =V31+$C32 -> 76.8 | W32: =W31+$C32 -> 50.3 | X32: =X31+$C32 -> 26.3
B33: 2日 | C33: =IF('使用DATA（平均気温入力用）'!C35=0,'使用DATA（平均気温入力用）'!D35,'使用DATA（平均気温入力用）'!C35) -> 26.4 | D33: =D32+C33 -> 575.1 | E33: =E32+C33 -> 550.6 | F33: =F32+C33 -> 526.7 | G33: =G32+C33 -> 500.3 | H33: =H32+C33 -> 471.7 | I33: =I32+$C33 -> 444.9 | J33: =J32+$C33 -> 418 | K33: =K32+$C33 -> 389.9 | L33: =L32+$C33 -> 362.4 | M33: =M32+$C33 -> 334 | N33: =N32+$C33 -> 306.6 | O33: =O32+$C33 -> 278.8 | P33: =P32+$C33 -> 251.7 | ... R33: =R32+$C33 -> 200.8 | S33: =S32+$C32 -> 176.3 | T33: =T32+$C33 -> 151.7 | U33: =U32+$C33 -> 127.5 | V33: =V32+$C33 -> 103.2 | W33: =W32+$C33 -> 76.7 | X33: =X32+$C33 -> 52.7 | Y33: =Y32+$C33 -> 26.4
B34: 3日 | C34: =IF('使用DATA（平均気温入力用）'!C36=0,'使用DATA（平均気温入力用）'!D36,'使用DATA（平均気温入力用）'!C36) -> 27.1 | D34: =D33+C34 -> 602.2 | E34: =E33+C34 -> 577.7 | F34: =F33+C34 -> 553.8 | G34: =G33+C34 -> 527.4 | H34: =H33+C34 -> 498.8 | I34: =I33+$C34 -> 472 | J34: =J33+$C34 -> 445.1 | K34: =K33+$C34 -> 417 | L34: =L33+$C34 -> 389.5 | M34: =M33+$C34 -> 361.1 | N34: =N33+$C34 -> 333.7 | O34: =O33+$C34 -> 305.9 | P34: =P33+$C34 -> 278.8 | ... R34: =R33+$C34 -> 227.9 | S34: =S33+$C33 -> 202.7 | T34: =T33+$C34 -> 178.8 | U34: =U33+$C34 -> 154.6 | V34: =V33+$C34 -> 130.3 | W34: =W33+$C34 -> 103.8 | X34: =X33+$C34 -> 79.8 | Y34: =Y33+$C34 -> 53.5 | Z34: =Z33+$C34 -> 27.1
B35: 4日 | C35: =IF('使用DATA（平均気温入力用）'!C37=0,'使用DATA（平均気温入力用）'!D37,'使用DATA（平均気温入力用）'!C37) -> 26.8 | D35: =D34+C35 -> 629 | E35: =E34+C35 -> 604.5 | F35: =F34+C35 -> 580.6 | G35: =G34+C35 -> 554.2 | H35: =H34+C35 -> 525.6 | I35: =I34+$C35 -> 498.8 | J35: =J34+$C35 -> 471.9 | K35: =K34+$C35 -> 443.8 | L35: =L34+$C35 -> 416.3 | M35: =M34+$C35 -> 387.9 | N35: =N34+$C35 -> 360.5 | O35: =O34+$C35 -> 332.7 | P35: =P34+$C35 -> 305.6 | ... R35: =R34+$C35 -> 254.7 | S35: =S34+$C34 -> 229.8 | T35: =T34+$C35 -> 205.6 | U35: =U34+$C35 -> 181.4 | V35: =V34+$C35 -> 157.1 | W35: =W34+$C35 -> 130.6 | X35: =X34+$C35 -> 106.6 | Y35: =Y34+$C35 -> 80.3 | Z35: =Z34+$C35 -> 53.9 | AA35: =AA34+$C35 -> 26.8
B36: 5日 | C36: =IF('使用DATA（平均気温入力用）'!C38=0,'使用DATA（平均気温入力用）'!D38,'使用DATA（平均気温入力用）'!C38) -> 26.4 | D36: =D35+C36 -> 655.4 | E36: =E35+C36 -> 630.9 | F36: =F35+C36 -> 607 | G36: =G35+C36 -> 580.6 | H36: =H35+C36 -> 552 | I36: =I35+$C36 -> 525.2 | J36: =J35+$C36 -> 498.3 | K36: =K35+$C36 -> 470.2 | L36: =L35+$C36 -> 442.7 | M36: =M35+$C36 -> 414.3 | N36: =N35+$C36 -> 386.9 | O36: =O35+$C36 -> 359.1 | P36: =P35+$C36 -> 332 | ... R36: =R35+$C36 -> 281.1 | S36: =S35+$C35 -> 256.6 | T36: =T35+$C36 -> 232 | U36: =U35+$C36 -> 207.8 | V36: =V35+$C36 -> 183.5 | W36: =W35+$C36 -> 157 | X36: =X35+$C36 -> 133 | Y36: =Y35+$C36 -> 106.7 | Z36: =Z35+$C36 -> 80.3 | AA36: =AA35+$C36 -> 53.2 | AB36: =AB35+$C36 -> 26.4
B37: 6日 | C37: =IF('使用DATA（平均気温入力用）'!C39=0,'使用DATA（平均気温入力用）'!D39,'使用DATA（平均気温入力用）'!C39) -> 28.6 | D37: =D36+C37 -> 684 | E37: =E36+C37 -> 659.5 | F37: =F36+C37 -> 635.6 | G37: =G36+C37 -> 609.2 | H37: =H36+C37 -> 580.6 | I37: =I36+$C37 -> 553.8 | J37: =J36+$C37 -> 526.9 | K37: =K36+$C37 -> 498.8 | L37: =L36+$C37 -> 471.3 | M37: =M36+$C37 -> 442.9 | N37: =N36+$C37 -> 415.5 | O37: =O36+$C37 -> 387.7 | P37: =P36+$C37 -> 360.6 | ... R37: =R36+$C37 -> 309.7 | S37: =S36+$C36 -> 283 | T37: =T36+$C37 -> 260.6 | U37: =U36+$C37 -> 236.4 | V37: =V36+$C37 -> 212.1 | W37: =W36+$C37 -> 185.6 | X37: =X36+$C37 -> 161.6 | Y37: =Y36+$C37 -> 135.3 | Z37: =Z36+$C37 -> 108.9 | AA37: =AA36+$C37 -> 81.8 | ... AC37: =AC36+$C37 -> 28.6
B38: 7日 | C38: =IF('使用DATA（平均気温入力用）'!C40=0,'使用DATA（平均気温入力用）'!D40,'使用DATA（平均気温入力用）'!C40) -> 29.8 | D38: =D37+C38 -> 713.8 | E38: =E37+C38 -> 689.3 | F38: =F37+C38 -> 665.4 | G38: =G37+C38 -> 639 | H38: =H37+C38 -> 610.4 | I38: =I37+$C38 -> 583.6 | J38: =J37+$C38 -> 556.7 | K38: =K37+$C38 -> 528.6 | L38: =L37+$C38 -> 501.1 | M38: =M37+$C38 -> 472.7 | N38: =N37+$C38 -> 445.3 | O38: =O37+$C38 -> 417.5 | P38: =P37+$C38 -> 390.4 | ... R38: =R37+$C38 -> 339.5 | S38: =S37+$C37 -> 311.6 | T38: =T37+$C38 -> 290.4 | U38: =U37+$C38 -> 266.2 | V38: =V37+$C38 -> 241.9 | W38: =W37+$C38 -> 215.4 | X38: =X37+$C38 -> 191.4 | Y38: =Y37+$C38 -> 165.1 | Z38: =Z37+$C38 -> 138.7 | AA38: =AA37+$C38 -> 111.6 | ... AD38: =AD37+$C38 -> 29.8
B39: 8日 | C39: =IF('使用DATA（平均気温入力用）'!C41=0,'使用DATA（平均気温入力用）'!D41,'使用DATA（平均気温入力用）'!C41) -> 28.4 | D39: =D38+C39 -> 742.2 | E39: =E38+C39 -> 717.7 | F39: =F38+C39 -> 693.8 | G39: =G38+C39 -> 667.4 | H39: =H38+C39 -> 638.8 | I39: =I38+$C39 -> 612 | J39: =J38+$C39 -> 585.1 | K39: =K38+$C39 -> 557 | L39: =L38+$C39 -> 529.5 | M39: =M38+$C39 -> 501.1 | N39: =N38+$C39 -> 473.7 | O39: =O38+$C39 -> 445.9 | P39: =P38+$C39 -> 418.8 | ... R39: =R38+$C39 -> 367.9 | S39: =S38+$C38 -> 341.4 | T39: =T38+$C39 -> 318.8 | U39: =U38+$C39 -> 294.6 | V39: =V38+$C39 -> 270.3 | W39: =W38+$C39 -> 243.8 | X39: =X38+$C39 -> 219.8 | Y39: =Y38+$C39 -> 193.5 | Z39: =Z38+$C39 -> 167.1 | AA39: =AA38+$C39 -> 140 | ... AE39: =AE38+$C39 -> 28.4
B40: 9日 | C40: =IF('使用DATA（平均気温入力用）'!C42=0,'使用DATA（平均気温入力用）'!D42,'使用DATA（平均気温入力用）'!C42) -> 26.5 | D40: =D39+C40 -> 768.7 | E40: =E39+C40 -> 744.2 | F40: =F39+C40 -> 720.3 | G40: =G39+C40 -> 693.9 | H40: =H39+C40 -> 665.3 | I40: =I39+$C40 -> 638.5 | J40: =J39+$C40 -> 611.6 | K40: =K39+$C40 -> 583.5 | L40: =L39+$C40 -> 556 | M40: =M39+$C40 -> 527.6 | N40: =N39+$C40 -> 500.2 | O40: =O39+$C40 -> 472.4 | P40: =P39+$C40 -> 445.3 | ... R40: =R39+$C40 -> 394.4 | S40: =S39+$C39 -> 369.8 | T40: =T39+$C40 -> 345.3 | U40: =U39+$C40 -> 321.1 | V40: =V39+$C40 -> 296.8 | W40: =W39+$C40 -> 270.3 | X40: =X39+$C40 -> 246.3 | Y40: =Y39+$C40 -> 220 | Z40: =Z39+$C40 -> 193.6 | AA40: =AA39+$C40 -> 166.5 | ... AF40: =AF39+$C40 -> 26.5
B41: 10日 | C41: =IF('使用DATA（平均気温入力用）'!C43=0,'使用DATA（平均気温入力用）'!D43,'使用DATA（平均気温入力用）'!C43) -> 25.3 | D41: =D40+C41 -> 794 | E41: =E40+C41 -> 769.5 | F41: =F40+C41 -> 745.6 | G41: =G40+C41 -> 719.2 | H41: =H40+C41 -> 690.6 | I41: =I40+$C41 -> 663.8 | J41: =J40+$C41 -> 636.9 | K41: =K40+$C41 -> 608.8 | L41: =L40+$C41 -> 581.3 | M41: =M40+$C41 -> 552.9 | N41: =N40+$C41 -> 525.5 | O41: =O40+$C41 -> 497.7 | P41: =P40+$C41 -> 470.6 | ... R41: =R40+$C41 -> 419.7 | S41: =S40+$C40 -> 396.3 | T41: =T40+$C41 -> 370.6 | U41: =U40+$C41 -> 346.4 | V41: =V40+$C41 -> 322.1 | W41: =W40+$C41 -> 295.6 | X41: =X40+$C41 -> 271.6 | Y41: =Y40+$C41 -> 245.3 | Z41: =Z40+$C41 -> 218.9 | AA41: =AA40+$C41 -> 191.8 | ... AG41: =AG40+$C41 -> 25.3
...

Sheet 使用DATA（平均気温入力用）
B1: 2026(R8) | C1: 村上アメダス
A2: 月 | B2: 日 | C2: 平均気温 | E2: =SUBTOTAL(101,E18:E125) -> -6.6560748
C3: (℃) | D3: 平年値 | E3: 平年差 | I3: 平年 | J3: 0-19
B7: 5日 | C7: 25.4
B8: 6日 | C8: 24.4
B9: 7日 | C9: 25.9 | L9: ＊ 高温登熟年の判断
B10: 8日 | C10: 25.5 | L10: 高温登熟年とは、出穂期５～24日後の20日間の平均気温が概ね26℃を超える年
B11: 9日 | C11: 26.8
B12: 10日 | C12: 27.4 | L12: 出穂期 | M12: 出穂期5日後 | N12: 出穂期24日後
B13: 11日 | C13: 25.5 | L13: 46214 | M13: =L13+5 -> 46219 | N13: =L13+24 -> 46238 | O13: =SUM(H18:H37) -> 525.6 | P13: =O13/20 -> 26.28 | Q13: *太字は確定
B14: 12日 | C14: 24.5 | L14: 46215 | M14: =L14+5 -> 46220 | N14: =L14+24 -> 46239 | O14: =SUM(H19:H38) -> 525.2 | P14: =O14/20 -> 26.26
B15: 13日 | C15: 23.9 | L15: 46216 | M15: =L15+5 -> 46221 | N15: =L15+24 -> 46240 | O15: =SUM(H20:H39) -> 526.9 | P15: =O15/20 -> 26.345
B16: 14日 | C16: 26.4 | L16: 46217 | M16: =L16+5 -> 46222 | N16: =L16+24 -> 46241 | O16: =SUM(H21:H40) -> 528.6 | P16: =O16/20 -> 26.43
B17: 15日 | C17: 28.6 | G17: 高温登熟判定用 | L17: 46218 | M17: =L17+5 -> 46223 | N17: =L17+24 -> 46242 | O17: =SUM(H22:H41) -> 529.5 | P17: =O17/20 -> 26.475
A18: ７月 | B18: 16日 | C18: 26.8 | D18: 23.9 | E18: =IF(C18=D18,"",C18-D18) -> 2.9 | H18: =C18 -> 26.8 | I18: =AVERAGE(Y40:Y59) -> 25.775 | J18: =AVERAGE(C18:C37) -> 26.28 | L18: 46219 | M18: =L18+5 -> 46224 | N18: =L18+24 -> 46243 | O18: =SUM(H23:H42) -> 527.6 | P18: =O18/20 -> 26.38
B19: 17日 | C19: 26.9 | D19: 24 | E19: =IF(C19=D19,"",C19-D19) -> 2.9 | H19: =C19 -> 26.9 | J19: =AVERAGE(C19:C38) -> 26.26 | L19: 46220 | M19: =L19+5 -> 46225 | N19: =L19+24 -> 46244 | O19: =SUM(H24:H43) -> 525.5 | P19: =O19/20 -> 26.275 | Y19: 村上平年値
B20: 18日 | C20: 28.1 | D20: 24.2 | E20: =IF(C20=D20,"",C20-D20) -> 3.9 | H20: =C20 -> 28.1 | J20: =AVERAGE(C20:C39) -> 26.345 | L20: 46221 | M20: =L20+5 -> 46226 | N20: =L20+24 -> 46245 | O20: =SUM(H25:H44) -> 521.9 | P20: =O20/20 -> 26.095 | X20: 42186 | Y20: 22.2
B21: 19日 | C21: 27.5 | D21: 24.3 | E21: =IF(C21=D21,"",C21-D21) -> 3.2 | H21: =C21 -> 27.5 | J21: =AVERAGE(C21:C40) -> 26.43 | L21: 46222 | M21: =L21+5 -> 46227 | N21: =L21+24 -> 46246 | O21: =SUM(H26:H45) -> 522.9 | P21: =O21/20 -> 26.145 | X21: 42187 | Y21: 22.3
B22: 20日 | C22: 28.4 | D22: 24.5 | E22: =IF(C22=D22,"",C22-D22) -> 3.9 | H22: =C22 -> 28.4 | J22: =AVERAGE(C22:C41) -> 26.475 | L22: 46223 | M22: =L22+5 -> 46228 | N22: =L22+24 -> 46247 | O22: =SUM(H27:H46) -> 527.3 | P22: =O22/20 -> 26.365 | X22: 42188 | Y22: 22.4
B23: 21日 | C23: 27.4 | D23: 24.7 | E23: =IF(C23=D23,"",C23-D23) -> 2.7 | H23: =C23 -> 27.4 | J23: =AVERAGE(C23:C42) -> 26.38 | L23: 46224 | M23: =L23+5 -> 46229 | N23: =L23+24 -> 46248 | O23: =SUM(H28:H47) -> 529.2 | P23: =O23/20 -> 26.46 | X23: 42189 | Y23: 22.5
B24: 22日 | C24: 27.8 | D24: 24.8 | E24: =IF(C24=D24,"",C24-D24) -> 3 | H24: =C24 -> 27.8 | J24: =AVERAGE(C24:C43) -> 26.275 | L24: 46225 | M24: =L24+5 -> 46230 | N24: =L24+24 -> 46249 | O24: =SUM(H29:H48) -> 533 | P24: =O24/20 -> 26.65 | X24: 42190 | Y24: 22.6
B25: 23日 | C25: 27.1 | D25: 25 | E25: =IF(C25=D25,"",C25-D25) -> 2.1 | H25: =C25 -> 27.1 | J25: =AVERAGE(C25:C44) -> 26.095 | L25: 46226 | M25: =L25+5 -> 46231 | N25: =L25+24 -> 46250 | O25: =SUM(H30:H49) -> 536.3 | P25: =O25/20 -> 26.815 | X25: 42191 | Y25: 22.7
B26: 24日 | C26: 24.9 | D26: 25.2 | E26: =IF(C26=D26,"",C26-D26) -> -0.3 | H26: =C26 -> 24.9 | J26: =AVERAGE(C26:C45) -> 26.145 | L26: 46227 | M26: =L26+5 -> 46232 | N26: =L26+24 -> 46251 | O26: =SUM(H31:H50) -> 539.3 | P26: =O26/20 -> 26.965 | X26: 42192 | Y26: 22.8
B27: 25日 | C27: 26 | D27: 25.4 | E27: =IF(C27=D27,"",C27-D27) -> 0.6 | H27: =C27 -> 26 | J27: =AVERAGE(C27:C46) -> 26.365 | L27: 46228 | M27: =L27+5 -> 46233 | N27: =L27+24 -> 46252 | O27: =SUM(H32:H51) -> 542.4 | P27: =O27/20 -> 27.12 | X27: 42193 | Y27: 22.9
B28: 26日 | C28: 24.6 | D28: 25.5 | E28: =IF(C28=D28,"",C28-D28) -> -0.9 | H28: =C28 -> 24.6 | J28: =AVERAGE(C28:C47) -> 26.46 | L28: 46229 | M28: =L28+5 -> 46234 | N28: =L28+24 -> 46253 | O28: =SUM(H33:H52) -> 543.6 | P28: =O28/20 -> 27.18 | X28: 42194 | Y28: 23
B29: 27日 | C29: 24.5 | D29: 25.6 | E29: =IF(C29=D29,"",C29-D29) -> -1.1 | H29: =C29 -> 24.5 | J29: =AVERAGE(C29:C48) -> 26.65 | L29: 46230 | M29: =L29+5 -> 46235 | N29: =L29+24 -> 46254 | O29: =SUM(H34:H53) -> 546.5 | P29: =O29/20 -> 27.325 | X29: 42195 | Y29: 23.1
B30: 28日 | C30: 24.2 | D30: 25.8 | E30: =IF(C30=D30,"",C30-D30) -> -1.6 | H30: =C30 -> 24.2 | J30: =AVERAGE(C30:C49) -> 26.815 | L30: 46231 | M30: =L30+5 -> 46236 | N30: =L30+24 -> 46255 | O30: =SUM(H35:H54) -> 545.5 | P30: =O30/20 -> 27.275 | X30: 42196 | Y30: 23.2
B31: 29日 | C31: 24.3 | D31: 25.9 | E31: =IF(C31=D31,"",C31-D31) -> -1.6 | H31: =C31 -> 24.3 | J31: =AVERAGE(C31:C50) -> 26.965 | L31: 46232 | M31: =L31+5 -> 46237 | N31: =L31+24 -> 46256 | O31: =SUM(H36:H55) -> 544.7 | P31: =O31/20 -> 27.235 | X31: 42197 | Y31: 23.3
... B33: 31日 | C33: 24 | D33: 26.1 | E33: =IF(C33=D33,"",C33-D33) -> -2.1 | H33: =C33 -> 24 | J33: =AVERAGE(C33:C52) -> 27.18 | L33: 46234 | M33: =L33+5 -> 46239 | N33: =L33+24 -> 46258 | O33: =SUM(H38:H57) -> 544 | P33: =O33/20 -> 27.2 | X33: 42199 | Y33: 23.6
A34: ８月 | B34: 1日 | C34: 26.3 | D34: 26.1 | E34: =IF(C34=D34,"",C34-D34) -> 0.2 | H34: =C34 -> 26.3 | J34: =AVERAGE(C34:C53) -> 27.325 | L34: 46235 | M34: =L34+5 -> 46240 | N34: =L34+24 -> 46259 | O34: =SUM(H39:H58) -> 545.7 | P34: =O34/20 -> 27.285 | X34: 42200 | Y34: 23.7
B35: 2日 | C35: 26.4 | D35: 26.2 | E35: =IF(C35=D35,"",C35-D35) -> 0.2 | H35: =C35 -> 26.4 | J35: =AVERAGE(C35:C54) -> 27.275 | L35: 46236 | M35: =L35+5 -> 46241 | N35: =L35+24 -> 46260 | O35: =SUM(H40:H59) -> 544.6 | P35: =O35/20 -> 27.23 | X35: 42201 | Y35: 23.9
B36: 3日 | C36: 27.1 | D36: 26.2 | E36: =IF(C36=D36,"",C36-D36) -> 0.9 | H36: =C36 -> 27.1 | J36: =AVERAGE(C36:C55) -> 27.235 | L36: 46237 | M36: =L36+5 -> 46242 | N36: =L36+24 -> 46261 | O36: =SUM(H41:H60) -> 538.6 | P36: =O36/20 -> 26.93 | X36: 42202 | Y36: 24
B37: 4日 | C37: 26.8 | D37: 26.2 | E37: =IF(C37=D37,"",C37-D37) -> 0.6 | H37: =C37 -> 26.8 | J37: =AVERAGE(C37:C56) -> 27.18 | L37: 46238 | M37: =L37+5 -> 46243 | N37: =L37+24 -> 46262 | O37: =SUM(H42:H61) -> 534.9 | P37: =O37/20 -> 26.745 | X37: 42203 | Y37: 24.2
B38: 5日 | C38: 26.4 | D38: 26.2 | E38: =IF(C38=D38,"",C38-D38) -> 0.2 | H38: =C38 -> 26.4 | J38: =AVERAGE(C38:C57) -> 27.2 | L38: 46239 | M38: =L38+5 -> 46244 | N38: =L38+24 -> 46263 | O38: =SUM(H43:H62) -> 529.5 | P38: =O38/20 -> 26.475 | X38: 42204 | Y38: 24.3
B39: 6日 | C39: 28.6 | D39: 26.2 | E39: =IF(C39=D39,"",C39-D39) -> 2.4 | H39: =C39 -> 28.6 | J39: =AVERAGE(C39:C58) -> 27.285 | L39: 46240 | M39: =L39+5 -> 46245 | N39: =L39+24 -> 46264 | O39: =SUM(H44:H63) -> 526.1 | P39: =O39/20 -> 26.305 | X39: 42205 | Y39: 24.5
B40: 7日 | C40: 29.8 | D40: 26.2 | E40: =IF(C40=D40,"",C40-D40) -> 3.6 | H40: =C40 -> 29.8 | J40: =AVERAGE(C40:C59) -> 27.23 | L40: 46241 | M40: =L40+5 -> 46246 | N40: =L40+24 -> 46265 | O40: =SUM(H45:H64) -> 527.7 | P40: =O40/20 -> 26.385 | X40: 42206 | Y40: 24.7
B41: 8日 | C41: 28.4 | D41: 26.1 | E41: =IF(C41=D41,"",C41-D41) -> 2.3 | H41: =C41 -> 28.4 | J41: =AVERAGE(C41:C60) -> 26.93 | L41: 46242 | M41: =L41+5 -> 46247 | N41: =L41+24 -> 46266 | O41: =SUM(H46:H65) -> 525.2 | P41: =O41/20 -> 26.26 | X41: 42207 | Y41: 24.8
B42: 9日 | C42: 26.5 | D42: 26.1 | E42: =IF(C42=D42,"",C42-D42) -> 0.4 | H42: =C42 -> 26.5 | J42: =AVERAGE(C42:C61) -> 26.745 | L42: 46243 | M42: =L42+5 -> 46248 | N42: =L42+24 -> 46267 | O42: =SUM(H47:H66) -> 521.2 | P42: =O42/20 -> 26.06 | X42: 42208 | Y42: 25
B43: 10日 | C43: 25.3 | D43: 26 | E43: =IF(C43=D43,"",C43-D43) -> -0.7 | H43: =C43 -> 25.3 | J43: =AVERAGE(C43:C62) -> 26.475 | L43: 46244 | M43: =L43+5 -> 46249 | N43: =L43+24 -> 46268 | O43: =SUM(H48:H67) -> 516.4 | P43: =O43/20 -> 25.82 | X43: 42209 | Y43: 25.2
B44: 11日 | C44: 24.2 | D44: 25.9 | E44: =IF(C44=D44,"",C44-D44) -> -1.7 | H44: =C44 -> 24.2 | J44: =AVERAGE(C44:C63) -> 26.305 | L44: 46245 | M44: =L44+5 -> 46250 | N44: =L44+24 -> 46269 | O44: =SUM(H49:H68) -> 510.3 | P44: =O44/20 -> 25.515 | X44: 42210 | Y44: 25.4
...

Sheet 平年値
B2: 村上 7月 平年値（日ごとの値）
B3: 要素 | C3: 降水量 | D3: 平均気温 | E3: 日最高気温 | F3: 日最低気温 | G3: 日照時間 | H3: 降雪の深さ合計 | I3: 最深積雪
C4: (mm) | D4: (℃) | E4: (℃) | F4: (℃) | G4: (h) | H4: (cm) | I4: (cm)
B5: 統計期間 | C5: 1991～2020 | D5: 1991～2020 | E5: 1991～2020 | F5: 1991～2020 | G5: 1991～2020 | H5: /// | I5: ///
B6: 資料年数 | C6: 30 | D6: 30 | E6: 30 | F6: 30 | G6: 30 | H6: 0 | I6: 0
B7: 1日 | C7: 8.6 | D7: 22.2 | E7: 26.5 | F7: 18.5 | G7: 4.6 | H7: /// | I7: ///
B8: 2日 | C8: 8.7 | D8: 22.3 | E8: 26.6 | F8: 18.6 | G8: 4.5 | H8: /// | I8: ///
B9: 3日 | C9: 8.7 | D9: 22.4 | E9: 26.7 | F9: 18.8 | G9: 4.5 | H9: /// | I9: ///
B10: 4日 | C10: 8.8 | D10: 22.5 | E10: 26.8 | F10: 18.9 | G10: 4.5 | H10: /// | I10: ///
B11: 5日 | C11: 9 | D11: 22.6 | E11: 26.9 | F11: 19.1 | G11: 4.4 | H11: /// | I11: ///
B12: 6日 | C12: 9.1 | D12: 22.7 | E12: 26.9 | F12: 19.2 | G12: 4.4 | H12: /// | I12: ///
B13: 7日 | C13: 9.3 | D13: 22.8 | E13: 27 | F13: 19.4 | G13: 4.4 | H13: /// | I13: ///
B14: 8日 | C14: 9.5 | D14: 22.9 | E14: 27.1 | F14: 19.5 | G14: 4.3 | H14: /// | I14: ///
B15: 9日 | C15: 9.6 | D15: 23 | E15: 27.2 | F15: 19.6 | G15: 4.3 | H15: /// | I15: ///
B16: 10日 | C16: 9.8 | D16: 23.1 | E16: 27.3 | F16: 19.7 | G16: 4.4 | H16: /// | I16: ///
B17: 11日 | C17: 9.8 | D17: 23.2 | E17: 27.4 | F17: 19.8 | G17: 4.4 | H17: /// | I17: ///
B18: 12日 | C18: 9.9 | D18: 23.3 | E18: 27.5 | F18: 19.9 | G18: 4.5 | H18: /// | I18: ///
... B37: 31日 | C37: 4.1 | D37: 26.1 | E37: 31 | F37: 21.9 | G37: 6.7 | H37: /// | I37: ///
B39: 村上 8月 平年値（日ごとの値）
B40: 要素 | C40: 降水量 | D40: 平均気温 | E40: 日最高気温 | F40: 日最低気温 | G40: 日照時間 | H40: 降雪の深さ合計 | I40: 最深積雪
C41: (mm) | D41: (℃) | E41: (℃) | F41: (℃) | G41: (h) | H41: (cm) | I41: (cm)
B42: 統計期間 | C42: 1991～2020 | D42: 1991～2020 | E42: 1991～2020 | F42: 1991～2020 | G42: 1991～2020 | H42: /// | I42: ///
B43: 資料年数 | C43: 30 | D43: 30 | E43: 30 | F43: 30 | G43: 30 | H43: 0 | I43: 0
B44: 1日 | C44: 3.9 | D44: 26.1 | E44: 31.1 | F44: 21.9 | G44: 6.8 | H44: /// | I44: ///
B45: 2日 | C45: 3.8 | D45: 26.2 | E45: 31.2 | F45: 21.9 | G45: 6.9 | H45: /// | I45: ///
B46: 3日 | C46: 3.8 | D46: 26.2 | E46: 31.2 | F46: 21.9 | G46: 7 | H46: /// | I46: ///
B47: 4日 | C47: 3.8 | D47: 26.2 | E47: 31.2 | F47: 21.9 | G47: 7 | H47: /// | I47: ///
B48: 5日 | C48: 3.9 | D48: 26.2 | E48: 31.2 | F48: 21.9 | G48: 7 | H48: /// | I48: ///
B49: 6日 | C49: 4.1 | D49: 26.2 | E49: 31.2 | F49: 21.9 | G49: 7 | H49: /// | I49: ///
B50: 7日 | C50: 4.4 | D50: 26.2 | E50: 31.2 | F50: 21.9 | G50: 7 | H50: /// | I50: ///
B51: 8日 | C51: 4.7 | D51: 26.1 | E51: 31.1 | F51: 21.8 | G51: 6.9 | H51: /// | I51: ///
B52: 9日 | C52: 5 | D52: 26.1 | E52: 31.1 | F52: 21.8 | G52: 6.8 | H52: /// | I52: ///
B53: 10日 | C53: 5.3 | D53: 26 | E53: 31 | F53: 21.7 | G53: 6.7 | H53: /// | I53: ///
B54: 11日 | C54: 5.6 | D54: 25.9 | E54: 30.9 | F54: 21.7 | G54: 6.7 | H54: /// | I54: ///
B55: 12日 | C55: 5.9 | D55: 25.9 | E55: 30.9 | F55: 21.6 | G55: 6.6 | H55: /// | I55: ///
... B74: 31日 | C74: 6.9 | D74: 24.1 | E74: 29.2 | F74: 19.9 | G74: 5.8 | H74: /// | I74: ///
B76: 村上 9月 平年値（日ごとの値）
B77: 要素 | C77: 降水量 | D77: 平均気温 | E77: 日最高気温 | F77: 日最低気温 | G77: 日照時間 | H77: 降雪の深さ合計 | I77: 最深積雪
C78: (mm) | D78: (℃) | E78: (℃) | F78: (℃) | G78: (h) | H78: (cm) | I78: (cm)
B79: 統計期間 | C79: 1991～2020 | D79: 1991～2020 | E79: 1991～2020 | F79: 1991～2020 | G79: 1991～2020 | H79: /// | I79: ///
...

Sheet Sheet1
C2: 品種名 | D2: 収穫適期の出穂後積算気温
D3: 通常年 | E3: 高温登熟年
B4: 早生 | C4: 新潟次郎 | D4: 1,000℃
C5: ゆきみらい、こしいぶき、わたぼうし、五百万石 | D5: 975℃ | E5: 925℃
C6: ゆきん子舞 | D6: 950-1,000℃ | E6: 900-950℃
C7: ちほみのり | D7: 1,050-1,200℃
C8: つきあかり | D8: 1,100-1,200℃
B9: 中生 | C9: コシヒカリ、こがねもち | D9: 1,000℃ | E9: 950℃
B10: 晩生 | C10: 越淡麗 | D10: 1,000-1,050℃ | E10: 950-1,000℃
C11: 新之助、あきだわら | D11: 1,050-1,100℃ | E11: 1,000-1,050℃
