Workbook

Sheet 交付申請チェックリスト
A1: 交付申請時に必要な提出書類のチェックリスト
A3: １ 提出方法
A4: ○新潟県電子申請システムで提出する場合
A5: 以下のURLから電子申請システムにアクセスし、必要書類を添付して送信してください。
A6: URL：
A7: ・提出書類1～3に必要事項を入力したものを添付してください。
A8: ・提出書類4～11はスキャナ等で電子データ（PDF等）化したものを添付してください。
A10: ○郵送で提出する場合
A11: 〒950-8570（住所記載不要） 新潟県産業労働部しごと定住促進課 「奨学金補助金関係書類在中」 と封筒に記載してください。
A12: ・提出書類1～3は手書きではなく、入力したものを印刷して提出してください。
A13: ・提出書類5～11は写しの提出で構いません。原本で提出された場合も返却はしませんのでご注意ください。
A15: ２ 提出書類一覧
A16: № | B16: 提出書類 | C16: チェック
A17: 1 | B17: 補助金交付申請書（様式第１号）
A18: 2 | B18: 事業計画書（別紙１）
A19: 3 | B19: 企業・団体概要書（別紙２）
A20: 4 | B20: 誓約書（別紙３） ・補助対象従業員ごとに作成が必要です。
A21: 5 | B21: 企業・団体の概要を記した資料 ・パンフレットなど補助事業者の活動内容（事業内容、代表者氏名、所在地など）が確認できるもの（自社ホームページの写しでも可）
A22: 6 | B22: ○法人に係る登記事項証明書の写し（法人等の場合） ○開業届等所在地が確認できる書類の写し（個人事業主の場合） ・登記事項証明書は最新の内容であれば、発行日は問いません。 ・企業・団体概要書（別紙２）の記載内容、資本金、本店等所在地が新潟県内であること等の確認をします。
A23: 7 | B23: 県税に未納の徴収金がないことを証する書類 ・発行日から３か月以内のものであること。
A24: 8 | B24: 補助事業者の支援制度に係る内部規定等の写し ・就業規則、賃金規則、専用規定など
A25: 9 | B25: 補助対象従業員の雇用関係及び雇用形態が確認できる書類の写し ・雇用契約書、労働条件通知書、労働契約書、採用通知書等の写し
A26: 10 | B26: 補助対象従業員の雇用保険被保険者資格取得等確認通知書（事業主通知用）の写し ・補助対象従業員の氏名、事業所名称及び事業所の雇用保険番号を確認します。
A27: 11 | B27: ○補助対象従業員の奨学金等の返還額等が確認できる書類の写し ○代理返還の場合には、補助事業者が補助対象従業員に代わって奨学金等の貸与機関に直接返還している額が確認できる書類の写し ・奨学金貸与証明書の写し、スカラネット・パーソナルの画面の写し、企業等の返還支援システム（スカラKI）の代理返還をする額等が確認できる画面の写しなど

Sheet 様式第１号 
A1: 様式第１号（第８条関係）
O2: （元号） | R2: 年 | T2: 月 | V2: 日 | X2: （元号）
X3: 令和
B4: 新潟県知事 殿
J6: (補助事業申請者)
J7: 本店・本社 主な事務所の所在地 | O7: 〒
J9: 企業・団体名
J10: 代表者 職・氏名
B12: （元号） | E12: 年度 新潟県若者県内就職促進奨学金等返還支援事業補助金交付申請書
A14: 新潟県若者県内就職促進奨学金等返還支援事業補助金交付要綱第８条の規定により、次のとおり補助金の交付を申請します。
A17: 記
B19: １ | C19: 交付申請額 | G19: 金 | M19: 円
B21: ２ | C21: 補助事業の期間
C22: （元号） | F22: 年 | H22: 月 | J22: 日から | L22: （元号） | O22: 年 | Q22: 月 | S22: 日まで
B24: ３ | C24: 添付書類
B25: ・ | C25: 別紙１「事業計画書」
B26: ・ | C26: 別紙２「企業・団体概要書」
B27: ・ | C27: 別紙３「誓約書」（補助対象従業員ごと）
B28: （１） | D28: 企業・団体の概要を記した資料（パンフレットなど補助事業者の活動内容が分かるもの）
B30: （２） | D30: 法人に係る登記事項証明書（補助事業者が法人等の場合）又は開業届等所在地が確認できる書類の写し（補助事業者が個人事業主の場合）
B32: （３） | D32: 県税に未納の徴収金がないことを証する書類
B33: （４） | D33: 補助事業者の支援制度に係る内部規定等の写し
B34: （５） | D34: 補助対象従業員の雇用契約書等、雇用関係及び雇用形態が確認できる書類の写し（労働条件通知書、労働契約書の写し等）
B36: （６） | D36: 補助対象従業員の雇用保険被保険者資格取得等確認通知書の写し
B37: （７） | D37: 補助対象従業員の奨学金等の返還額等が確認できる書類の写し。代理返還の場合には、補助事業者が補助対象従業員に代わって奨学金等の貸与機関に直接返還している額が確認できる書類の写し
B39: （８） | D39: その他知事が必要と認める書類
B41: （連絡担当者）
B42: 部署 | K42: 連絡先 | L42: 住所 | N42: 〒
B44: 職・氏名 | L44: 電話
L45: e-mail

Sheet 別紙１
AM1: 別紙１
A2: 事 業 計 画 書
AA3: 企業・団体名： | AF3: =IF('様式第１号 '!O9="","",'様式第１号 '!O9) | AQ3: (元号) | AT3: (元号)
A4: １ 奨学金等返還支援制度の概要 | AQ4: 平成 | AT4: 令和
A5: 給付等の方法 | G5: 年間給付等回数・時期 | M5: 給与支給日 | T5: 従業員１人あたり | AA5: 支援制度創設日
T6: 返還支援の上限額
A8: （注１）「給付方法」欄は、「奨学金返還手当支給」や「代理返還」などと記載してください。
A9: （注２）「年間給付回数・時期」欄は、毎月○日、年□回（△月、◇月）などと記載してください。
A10: （注３）「給与支給日」欄は、「毎月20日」や「翌月10日」などと記載してください。
A11: （注４）「従業員１人あたり返還支援の上限額」欄は、内部規定等の上限額を記載してください。
A12: （注５）「支援制度創設日」欄は、内部規定等に記載されている創設日を記載してください。
A14: ２ 補助対象従業員名簿
A15: 補助対象 従業員氏名 | E15: 生年月日 年齢 (申請日時点) | I15: 雇用年月日 | M15: 勤務地 | P15: 奨学金名称等 【返済月額】 （返済期間） | Z15: 当該年度中の 支援予定額 （A） | AC15: 当該年度中の 補助対象従業員の返還額 （B） | AF15: 補助対象経費 (A又はBのいずれか低い額) (C) | AI15: 補助金交付申請額(C×1/2又は10万円のいずれか低い額) | AL15: はじめて交付申請した年度
E16: (元号) | H16: 年 | I16: (元号) | L16: 年
F17: 月 | H17: 日 | J17: 月 | L17: 日 | P17: 【 | X17: 円/月】
H18: 歳 | P18: （ | R18: 年 | T18: 月 | U18: ～ | W18: 年 | Y18: 日） | AB18: 円 | AE18: 円 | AH18: 円 | AK18: 円 | AL18: 年度
E19: (元号) | H19: 年 | I19: (元号) | L19: 年
F20: 月 | H20: 日 | J20: 月 | L20: 日 | P20: 【 | X20: 円/月】
H21: 歳 | P21: （ | R21: 年 | T21: 月 | U21: ～ | W21: 年 | Y21: 日） | AB21: 円 | AE21: 円 | AH21: 円 | AK21: 円 | AL21: 年度
E22: (元号) | H22: 年 | I22: (元号) | L22: 年
F23: 月 | H23: 日 | J23: 月 | L23: 日 | P23: 【 | X23: 円/月】
H24: 歳 | P24: （ | R24: 年 | T24: 月 | U24: ～ | W24: 年 | Y24: 日） | AB24: 円 | AE24: 円 | AH24: 円 | AK24: 円 | AL24: 年度
E25: (元号) | H25: 年 | I25: (元号) | L25: 年
F26: 月 | H26: 日 | J26: 月 | L26: 日 | P26: 【 | X26: 円/月】
H27: 歳 | P27: （ | R27: 年 | T27: 月 | U27: ～ | W27: 年 | Y27: 日） | AB27: 円 | AE27: 円 | AH27: 円 | AK27: 円 | AL27: 年度
A28: 補助交付申請額合計 | AI28: =SUM(AI16:AK27) -> 0 | AL28: 円
A30: （注６）補助対象従業員は、１会計年度２人、かつ、通算で４人を上限とする。

Sheet 別紙２
Z1: 別紙２
A2: 企業・団体概要書
P3: （ | Q3: (元号) | T3: 年 | V3: 月 | X3: 日現在）
A4: 企業名 団体名 | E4: =IF('様式第１号 '!O9="","",'様式第１号 '!O9) | N4: 連絡先 | R4: TEL:
A5: 本店・本社 | E5: 〒 | F5: =IF('様式第１号 '!P7="","",'様式第１号 '!P7) | N5: 代 表 者 役職・氏名 | R5: =IF('様式第１号 '!O10="","",'様式第１号 '!O10)
A6: 主たる事務所 | E6: =IF('様式第１号 '!O8="","",'様式第１号 '!O8)
A7: 所在地
A8: 主な事業所 | J8: （ | M8: ） | N8: 資本金 | Y8: 百万円
A9: と所在地 | J9: （ | M9: ） | N9: 従業員数 | Z9: 人
A10: (都道府県) | J10: （ | M10: ） | N10: 設立年月日 | R10: (元号) | V10: 年 | X10: 月 | Z10: 日
A11: 業種 (事業分野) | N11: 主な製品・ サービス等
A12: ※ | B12: 業種(事業分野)は、日本標準産業分類で記載してください。複数の分野に事業展開している場合は、該当するものを全て記載し、主なものに下線を付してください。
A14: ※ | B14: 「従業員」欄は、常時使用する従業員数を記載してください。
A16: ■ | B16: 主な出資者
A17: 出資者名 | E17: 持株数 又は出資額 | I17: 出資 比率 | L17: 法人の状況（出資者が法人の場合）
L18: 業種名 | P18: 資本金 | T18: 従業員数 | W18: 本社所在地
E19: （株・千円） | K19: ％
R20: 百万円 | V20: 人
E21: （株・千円） | K21: ％
R22: 百万円 | V22: 人
E23: （株・千円） | K23: ％
R24: 百万円 | V24: 人
E25: （株・千円） | K25: ％
R26: 百万円 | V26: 人
A27: ※ | B27: 出資比率順に上位４者を記載してください。
A28: ※ | B28: 出資者が法人の場合は、「法人の状況」欄に当該法人の業種名、資本金、従業員数及び本社所在地を記載してください。
A30: ※ | B30: 「本社所在地」欄は都道府県名のみ記載してください。
A32: ■ | B32: 大企業の役員又は職員を兼務している役員（該当者がいない場合、記入不要）
A33: 氏名・役職名 | F33: 兼 務 の 状 況
F34: 法人名・役職名 | L34: 業種名 | P34: 資本金 | T34: 従業員数 | W34: 本社所在地
R35: 百万円 | V35: 人
R36: 百万円 | V36: 人
R37: 百万円 | V37: 人
R38: 百万円 | V38: 人
A39: ※ | B39: 「本社所在地」欄は都道府県名のみ記載してください。
A41: ■ | B41: 申告事項
A42: 次の各項目に該当することを確認し、□に✔を記入してください。
B43: □ | C43: 国又は地方公共団体から出資を受けていない。
B44: □ | C44: 性風俗関連営業、接待を伴う飲食等営業又はこれらの営業の一部を受託する営業を行っていない（公序良俗）。 | AC44: □
AC45: ☑
...

Sheet 別紙３
T1: 別紙３
A3: 誓約書
A5: 新 潟 県 知 事 様
A7: 私は、雇用主である | G7: =IF('様式第１号 '!O9="","",'様式第１号 '!O9) | N7: が、新潟県若者県内就職促進
A8: 奨学金等返還支援事業補助金の交付を受けるにあたって、次のとおり誓約します。 | W8: (元号)
W9: 令和
A10: 記
A12: １ | B12: 申請日において奨学金等を返済中であるか、又は将来において返済することが確定している。
A14: ２ | B14: 奨学金等について、補助対象従業員本人が主たる債務者である（母子・父子・寡婦福祉資金貸付金の修学支援金、生活福祉資金貸付制度の教育支援費又はこれらに類する奨学金等であって、補助対象従業員本人が連帯借受人となっており、かつ、当該補助対象従業員が当該奨学金等の返済を行っている）。
A16: ３ | B16: （中途採用の方のみ）雇用主に雇用される日の直前３か月間、県内の事業所において正規雇用労働者でない。
A18: ４ | B18: 補助対象期間（６年間）中、継続して県内に居住し、県内の事業所に勤務する見込みがある。
A20: ５ | B20: 事業主と同居している三親等以内の親族でない。ただし、勤務実態、勤務条件が支援対象従業員以外の従業員と同様であると認められる場合を除く。
A22: ６ | B22: 役員その他の事業主と利益を同一にする地位の者でない。
A24: ７ | B24: 補助の対象とする奨学金等について、国、地方公共団体等からの返還支援を受けていない。
A26: ８ | B26: 補助金の適正な交付のため、県が国、地方公共団体、雇用主等を通じて、氏名、生年月日、住所、雇用年月日及び奨学金に関する事項等、当該補助金の申請のために必要となる個人情報（以下「個人情報」という。）を収集すること、並びに新潟県が、国、地方公共団体、雇用主等に個人情報を提供すること、及び県が個人情報を利用することを認める。
B28: (元号) | E28: 年 | G28: 月 | I28: 日
G30: 就業場所の名称
G31: 就業場所の所在地
G32: 住 所
G33: 氏 名

Sheet 様式第２号 
A1: 様式第２号（第10条関係）
O3: （元号） | R3: 年 | T3: 月 | V3: 日 | X3: （元号）
X4: 令和
B5: 新潟県知事 殿
X6: (変更・中止・廃止)
J7: (補助事業者) | X7: 変更
J8: 本店・本社 主な事務所の所在地 | O8: 〒 | P8: =IF('様式第１号 '!P7="","",'様式第１号 '!P7) | X8: 中止
O9: =IF('様式第１号 '!O8="","",'様式第１号 '!O8) | X9: 廃止
J10: 企業・団体名 | O10: =IF('様式第１号 '!O9="","",'様式第１号 '!O9)
J11: 代表者 職・氏名 | O11: =IF('様式第１号 '!O10="","",'様式第１号 '!O10)
D13: （元号） | G13: 年度 新潟県若者県内就職促進奨学金等返還支援事業
D14: (変更・中止・廃止) | I14: 承認申請書
B16: （元号） | E16: 年 | G16: 月 | I16: 日付けしごと第 | N16: 号で交付決定を受けたこの事業の
A17: (変更・中止・廃止) | F17: について、新潟県若者県内就職促進奨学金等返還支援事業補助金交付
A18: 要綱第10条第２項の規定に基づき、次のとおり申請します。
A20: 記
B22: １ | C22: (変更・中止・廃止) | H22: の理由
B28: ２ | C28: (変更・中止・廃止) | H28: の内容
C29: ※ | D29: 変更の場合、様式第１号の別紙１及び別紙２と同様のものを添付し、変更箇所を明示すること。
B36: （連絡担当者）
B37: 部署 | E37: =IF('様式第１号 '!E42="","",'様式第１号 '!E42) | K37: 連絡先 | L37: 住所 | N37: 〒 | O37: =IF('様式第１号 '!O42="","",'様式第１号 '!O42)
N38: =IF('様式第１号 '!N43="","",'様式第１号 '!N43)
B39: 職・氏名 | E39: =IF('様式第１号 '!E44="","",'様式第１号 '!E44) | L39: 電話 | N39: =IF('様式第１号 '!N44="","",'様式第１号 '!N44)
L40: e-mail | N40: =IF('様式第１号 '!N45="","",'様式第１号 '!N45)

Sheet 様式第３号 
A1: 様式第３号（第10条関係）
O3: （元号） | R3: 年 | T3: 月 | V3: 日 | X3: （元号）
X4: 令和
B5: 新潟県知事 殿
X6: (変更・中止・廃止)
J7: (補助事業者) | X7: 変更
J8: 本店・本社 主な事務所の所在地 | O8: 〒 | P8: =IF('様式第１号 '!P7="","",'様式第１号 '!P7) | X8: 中止
O9: =IF('様式第１号 '!O8="","",'様式第１号 '!O8) | X9: 廃止
J10: 企業・団体名 | O10: =IF('様式第１号 '!O9="","",'様式第１号 '!O9)
J11: 代表者 職・氏名 | O11: =IF('様式第１号 '!O10="","",'様式第１号 '!O10)
C13: （元号） | F13: 年度 新潟県若者県内就職促進奨学金等返還支援事業遅延報告書
B15: （元号） | E15: 年 | G15: 月 | I15: 日付けしごと第 | N15: 号で交付決定を受けたこの事業の
A16: 遅延等について、新潟県若者県内就職促進奨学金等返還支援事業補助金交付要綱第10条
A17: 第２項の規定に基づき、次のとおり報告します。
A19: 記
B21: １ | C21: 補助事業の進捗状況
B25: ２ | C25: 補助事業に要した経費（内訳は別紙）
B29: ３ | C29: 遅延等の内容及び原因
B33: ４ | C33: 遅延等に対して取った措置
B37: ５ | C37: 補助事業の遂行及び完了の予定
B41: （連絡担当者）
B42: 部署 | E42: =IF('様式第１号 '!E42="","",'様式第１号 '!E42) | K42: 連絡先 | L42: 住所 | N42: 〒 | O42: =IF('様式第１号 '!O42="","",'様式第１号 '!O42)
N43: =IF('様式第１号 '!N43="","",'様式第１号 '!N43)
B44: 職・氏名 | E44: =IF('様式第１号 '!E44="","",'様式第１号 '!E44) | L44: 電話 | N44: =IF('様式第１号 '!N44="","",'様式第１号 '!N44)
L45: e-mail | N45: =IF('様式第１号 '!N45="","",'様式第１号 '!N45)

Sheet 様式第４号
A1: 様式第４号（第11条関係）
O3: （元号） | R3: 年 | T3: 月 | V3: 日 | X3: （元号）
X4: 令和
B5: 新潟県知事 殿
X6: (変更・中止・廃止)
J7: (補助事業者) | X7: 変更
J8: 本店・本社 主な事務所の所在地 | O8: 〒 | P8: =IF('様式第１号 '!P7="","",'様式第１号 '!P7) | X8: 中止
O9: =IF('様式第１号 '!O8="","",'様式第１号 '!O8) | X9: 廃止
J10: 企業・団体名 | O10: =IF('様式第１号 '!O9="","",'様式第１号 '!O9)
J11: 代表者 職・氏名 | O11: =IF('様式第１号 '!O10="","",'様式第１号 '!O10)
B13: （元号） | E13: 年度 新潟県若者県内就職促進奨学金等返還支援事業補助金申請取下書
B16: （元号） | E16: 年 | G16: 月 | I16: 日付けしごと第 | N16: 号で交付決定を受けたこの補助金
A17: の申請を、次のとおり取り下げることとしたので、新潟県若者県内就職促進奨学金等
A18: 返還支援事業補助金交付要綱第11条の規定に基づき、次のとおり届け出ます。
A20: 記
B22: 【交付申請の取下理由】
B39: （連絡担当者）
B40: 部署 | E40: =IF('様式第１号 '!E42="","",'様式第１号 '!E42) | K40: 連絡先 | L40: 住所 | N40: 〒 | O40: =IF('様式第１号 '!O42="","",'様式第１号 '!O42)
N41: =IF('様式第１号 '!N43="","",'様式第１号 '!N43)
B42: 職・氏名 | E42: =IF('様式第１号 '!E44="","",'様式第１号 '!E44) | L42: 電話 | N42: =IF('様式第１号 '!N44="","",'様式第１号 '!N44)
L43: e-mail | N43: =IF('様式第１号 '!N45="","",'様式第１号 '!N45)

Sheet 実績報告チェックリスト
A1: 実績報告時に必要な提出書類のチェックリスト
A3: １ 提出方法
A4: ○新潟県電子申請システムで提出する場合
A5: 以下のURLから電子申請システムにアクセスし、必要書類を添付して送信してください。
A6: URL：
A7: ・提出書類1～2に必要事項を入力したものを添付してください。
A8: ・提出書類4～5はスキャナ等で電子データ（PDF等）化したものを添付してください。
A10: ○郵送で提出する場合
A11: 〒950-8570（住所記載不要） 新潟県産業労働部しごと定住促進課 「奨学金補助金関係書類在中」 と封筒に記載してください。
A12: ・提出書類1～2は手書きではなく、入力したものを印刷して提出してください。
A13: ・提出書類4～5は写しの提出で構いません。原本で提出された場合も返却はしませんのでご注意ください。
A15: ２ 提出書類一覧
A16: № | B16: 提出書類 | C16: チェック
A17: 1 | B17: 補助金実績報告書（様式第５号）
A18: 2 | B18: 事業の実績（別紙４）
A19: 3 | B19: 当該会計年度に係る補助対象従業員の賃金台帳（給付等の額及びその支払の日が分かるものを含む）の写し（本人給付の場合）
A20: 4 | B20: 補助対象従業員が奨学金等を返還したことを証する書類の写し（本人給付の場合） ・奨学金返還額証明書の写しなど
A21: 5 | B21: 当該会計年度に係る代理返還の対象者及び代理返還の額が分かる書類等の写し並びに領収書又は振替払込請求書兼受領証その他の代理返還を行ったことを証する書類の写し（代理返還の場合） ・領収書の写し、振替払込請求書兼受領書の写し、代理返還を行ったことを証する書類の写しなど

Sheet 様式第５号
A1: 様式第５号（第12条関係）
O3: （元号） | R3: 年 | T3: 月 | V3: 日 | X3: （元号）
X4: 令和
B5: 新潟県知事 殿
J7: (補助事業申請者)
J8: 本店・本社 主な事務所の所在地 | O8: 〒 | P8: =IF('様式第１号 '!P7="","",'様式第１号 '!P7)
O9: =IF('様式第１号 '!O8="","",'様式第１号 '!O8)
J10: 企業・団体名 | O10: =IF('様式第１号 '!O9="","",'様式第１号 '!O9)
J11: 代表者 職・氏名 | O11: =IF('様式第１号 '!O10="","",'様式第１号 '!O10)
B13: （元号） | E13: 年度 新潟県若者県内就職促進奨学金等返還支援事業補助金実績報告書
B16: （元号） | E16: 年 | G16: 月 | I16: 日付けしごと第 | N16: 号で交付決定を受けたこの事業の
A17: （元号） | D17: 年度事業分が完了したので、新潟県若者県内就職促進奨学金等返還支援事
A18: 業補助金交付要綱第12条の規定に基づき、次のとおり報告します。
A20: 記
B22: １ | C22: 事業の実績（別紙４）
B24: ２ | C24: 添付書類
B25: （１）当該会計年度に係る補助対象従業員の賃金台帳（給付等の額及びその支払 の日が分かるものを含む）の写し（本人給付の場合）
B27: （２）補助対象従業員が奨学金等を返還したことを証する書類の写し（本人給付の 場合）
B29: （３）当該会計年度に係る代理返還の対象者及び代理返還の額が分かる書類等の 写し並びに領収書又は振替払込請求書兼受領証その他の代理返還を行ったこ とを証する書類の写し（代理返還の場合）
B32: （４）その他知事が必要と認める書類
B44: （連絡担当者）
B45: 部署 | E45: =IF('様式第１号 '!E42="","",'様式第１号 '!E42) | K45: 連絡先 | L45: 住所 | N45: 〒 | O45: =IF('様式第１号 '!O42="","",'様式第１号 '!O42)
N46: =IF('様式第１号 '!N43="","",'様式第１号 '!N43)
B47: 職・氏名 | E47: =IF('様式第１号 '!E44="","",'様式第１号 '!E44) | L47: 電話 | N47: =IF('様式第１号 '!N44="","",'様式第１号 '!N44)
L48: e-mail | N48: =IF('様式第１号 '!N45="","",'様式第１号 '!N45)

Sheet 別紙４
AU1: 別紙４
A2: 事 業 の 実 績
AN3: 事業者(団体)名 | AO3: =IF('様式第１号 '!O9="","",'様式第１号 '!O9) | BC3: (元号)
A4: １ 奨学金等返還支援制度の概要 | AZ4: 平成 | BC4: 令和
A5: 給付等の方法 | G5: 年間給付等回数・時期 | M5: 給与支給日 | T5: 従業員１人あたり | AA5: 支援制度創設日
T6: 返還支援の上限額 | AZ6: 在籍・退職
AZ7: 在籍
A8: （注１）「給付方法」欄は、「奨学金返還手当支給」や「代理返還」などと記載してください。 | AZ8: 退職
A9: （注２）「年間給付等回数・時期」欄は、毎月○日、年□回（△月、◇月）などと記載してください。
A10: （注３）「給与支給日」欄は、「毎月20日」や「翌月10日」などと記載してください。
A11: （注４）「従業員１人あたり返還支援の上限額」欄は、内部規定等の上限額を記載してください。
A12: （注５）「支援制度創設日」欄は、内部規定等に記載されている創設日を記載してください。
A14: ２ 支出明細書
A15: 補助対象 従業員氏名 | E15: 年度末における 在籍状況 (退職の場合、 退職日) | I15: 年度末時点の勤務地 (退職の場合、 退職時) | L15: 県外転出 に係る異動日 | P15: 県内復帰 に係る異動日 | T15: 当該年度中の給付期間 | AB15: 当該年度中 の給付額 （A） | AG15: 当該年度中の 補助対象従業員の返還額 （B） | AL15: 補助対象経費 (A又はBのいずれか低い額) （C） | AQ15: 補助金の額 (C×1/2又は10万円のいずれか低い額)
T16: 開始日 | X16: 終了日
E17: 在籍・退職 | L17: (元号) | O17: 年 | P17: (元号) | S17: 年 | T17: (元号) | W17: 年 | X17: (元号) | AA17: 年
E18: (元号) | H18: 年 | M18: 月 | O18: 日 | Q18: 月 | S18: 日 | U18: 月 | W18: 日 | Y18: 月 | AA18: 日
F19: 月 | H19: 日 | AB19: 円 | AG19: 円 | AL19: 円 | AU19: 円
E20: 在籍・退職 | L20: (元号) | O20: 年 | P20: (元号) | S20: 年 | T20: (元号) | W20: 年 | X20: (元号) | AA20: 年
E21: (元号) | H21: 年 | M21: 月 | O21: 日 | Q21: 月 | S21: 日 | U21: 月 | W21: 日 | Y21: 月 | AA21: 日
F22: 月 | H22: 日 | AB22: 円 | AG22: 円 | AL22: 円 | AU22: 円
E23: 在籍・退職 | L23: (元号) | O23: 年 | P23: (元号) | S23: 年 | T23: (元号) | W23: 年 | X23: (元号) | AA23: 年
E24: (元号) | H24: 年 | M24: 月 | O24: 日 | Q24: 月 | S24: 日 | U24: 月 | W24: 日 | Y24: 月 | AA24: 日
F25: 月 | H25: 日 | AB25: 円 | AG25: 円 | AL25: 円 | AU25: 円
E26: 在籍・退職 | L26: (元号) | O26: 年 | P26: (元号) | S26: 年 | T26: (元号) | W26: 年 | X26: (元号) | AA26: 年
E27: (元号) | H27: 年 | M27: 月 | O27: 日 | Q27: 月 | S27: 日 | U27: 月 | W27: 日 | Y27: 月 | AA27: 日
F28: 月 | H28: 日 | AB28: 円 | AG28: 円 | AL28: 円 | AU28: 円
A29: 補助金の額合計 | AQ29: =SUM(AQ17:AU28) -> 0 | AU29: 円
A31: （注６）県外転出、県内復帰に係る異動日は、辞令日を記載してください。
A32: （注７）補助対象従業員は、１会計年度２人、かつ、通算で４人を上限とする。

Sheet 様式第６号
A1: 様式第６号（第13条関係）
O3: （元号） | R3: 年 | T3: 月 | V3: 日 | X3: （元号）
X4: 令和
B5: 新潟県知事 殿
X6: □普通 □当座
J7: (補助事業者) | X7: ☑普通
J8: 本店・本社 主な事務所の所在地 | O8: 〒 | P8: =IF('様式第１号 '!P7="","",'様式第１号 '!P7) | X8: ☑当座
O9: =IF('様式第１号 '!O8="","",'様式第１号 '!O8)
J10: 企業・団体名 | O10: =IF('様式第１号 '!O9="","",'様式第１号 '!O9)
J11: 代表者 職・氏名 | O11: =IF('様式第１号 '!O10="","",'様式第１号 '!O10)
C13: （元号） | F13: 年度 新潟県若者県内就職促進奨学金等返還支援事業補助金請求書
B16: （元号） | E16: 年 | G16: 月 | I16: 日付けしごと第 | N16: 号で額の確定のあったこの補助金
A17: について、新潟県若者県内就職促進奨学金等返還支援事業補助金交付要綱第13条の規定
A18: に基づき、 | D18: （元号） | G18: 年度分として、次のとおり請求します。
A20: 記
B22: １ | C22: 請求額 | F22: 金 | L22: 円
B24: ２ | C24: 振込先
C25: 金融機関名 | O25: 金融機関 コード
C27: 本・支店名 | O27: 支店 コード
C29: 口座種目・番号 | H29: □普通 □当座 | S29: 右詰めで記入 してください
C31: （フリガナ） 口座名義
C33: ※口座名義が法人名義の場合、代表者名は省略して構いません。
B41: （連絡担当者）
B42: 部署 | E42: =IF('様式第１号 '!E42="","",'様式第１号 '!E42) | K42: 連絡先 | L42: 住所 | N42: 〒 | O42: =IF('様式第１号 '!O42="","",'様式第１号 '!O42)
N43: =IF('様式第１号 '!N43="","",'様式第１号 '!N43)
B44: 職・氏名 | E44: =IF('様式第１号 '!E44="","",'様式第１号 '!E44) | L44: 電話 | N44: =IF('様式第１号 '!N44="","",'様式第１号 '!N44)
L45: e-mail | N45: =IF('様式第１号 '!N45="","",'様式第１号 '!N45)
